| Back to Multiple platform build/check report for BioC 3.9 | 
  | 
This page was generated on 2019-10-16 12:32:05 -0400 (Wed, 16 Oct 2019).
| Package 1263/1741 | Hostname | OS / Arch | INSTALL | BUILD | CHECK | BUILD BIN | ||||||
| PROPER 1.16.0 Hao Wu 
  | malbec2 | Linux (Ubuntu 18.04.2 LTS) / x86_64 | OK | OK | WARNINGS | |||||||
| tokay2 | Windows Server 2012 R2 Standard / x64 | OK | OK | WARNINGS | [ OK ] | |||||||
| celaya2 | OS X 10.11.6 El Capitan / x86_64 | OK | OK | WARNINGS | OK | 
| Package: PROPER | 
| Version: 1.16.0 | 
| Command: rm -rf PROPER.buildbin-libdir && mkdir PROPER.buildbin-libdir && C:\Users\biocbuild\bbs-3.9-bioc\R\bin\R.exe CMD INSTALL --merge-multiarch --build --library=PROPER.buildbin-libdir PROPER_1.16.0.tar.gz | 
| StartedAt: 2019-10-16 09:57:12 -0400 (Wed, 16 Oct 2019) | 
| EndedAt: 2019-10-16 09:57:33 -0400 (Wed, 16 Oct 2019) | 
| EllapsedTime: 20.6 seconds | 
| RetCode: 0 | 
| Status: OK | 
| PackageFile: PROPER_1.16.0.zip | 
| PackageFileSize: 1.571 MiB | 
##############################################################################
##############################################################################
###
### Running command:
###
###   rm -rf PROPER.buildbin-libdir && mkdir PROPER.buildbin-libdir && C:\Users\biocbuild\bbs-3.9-bioc\R\bin\R.exe CMD INSTALL --merge-multiarch --build --library=PROPER.buildbin-libdir PROPER_1.16.0.tar.gz
###
##############################################################################
##############################################################################
install for i386
* installing *source* package 'PROPER' ...
** using staged installation
** R
** data
** inst
** byte-compile and prepare package for lazy loading
** help
*** installing help indices
  converting help for package 'PROPER'
    finding HTML links ... done
    RNAseq.SimOptions.2grp                  html  
    comparePower                            html  
    estParam                                html  
    historicalData                          html  
    plotPowerHist                           html  
    plots                                   html  
    power.seqDepth                          html  
    runSims                                 html  
    simRNAseq                               html  
    summaryPower                            html  
** building package indices
** installing vignettes
** testing if installed package can be loaded from temporary location
** testing if installed package can be loaded from final location
** testing if installed package keeps a record of temporary installation path
install for x64
* installing *source* package 'PROPER' ...
** testing if installed package can be loaded
* MD5 sums
packaged installation of 'PROPER' as PROPER_1.16.0.zip
* DONE (PROPER)