| Back to Multiple platform build/check report for BioC 3.9 |
|
This page was generated on 2019-10-16 12:49:53 -0400 (Wed, 16 Oct 2019).
| Package 1085/1741 | Hostname | OS / Arch | INSTALL | BUILD | CHECK | BUILD BIN | ||||||
| NarrowPeaks 1.28.0 Pedro Madrigal
| malbec2 | Linux (Ubuntu 18.04.2 LTS) / x86_64 | OK | OK | OK | |||||||
| tokay2 | Windows Server 2012 R2 Standard / x64 | OK | OK | OK | OK | |||||||
| celaya2 | OS X 10.11.6 El Capitan / x86_64 | OK | OK | WARNINGS | [ OK ] |
| Package: NarrowPeaks |
| Version: 1.28.0 |
| Command: rm -rf NarrowPeaks.buildbin-libdir && mkdir NarrowPeaks.buildbin-libdir && /Users/biocbuild/BBS/utils/build-universal.sh NarrowPeaks_1.28.0.tar.gz /Library/Frameworks/R.framework/Versions/Current/Resources/bin/R NarrowPeaks.buildbin-libdir |
| StartedAt: 2019-10-16 09:01:42 -0400 (Wed, 16 Oct 2019) |
| EndedAt: 2019-10-16 09:02:07 -0400 (Wed, 16 Oct 2019) |
| EllapsedTime: 25.3 seconds |
| RetCode: 0 |
| Status: OK |
| PackageFile: NarrowPeaks_1.28.0.tgz |
| PackageFileSize: 429 KiB |
##############################################################################
##############################################################################
###
### Running command:
###
### rm -rf NarrowPeaks.buildbin-libdir && mkdir NarrowPeaks.buildbin-libdir && /Users/biocbuild/BBS/utils/build-universal.sh NarrowPeaks_1.28.0.tar.gz /Library/Frameworks/R.framework/Versions/Current/Resources/bin/R NarrowPeaks.buildbin-libdir
###
##############################################################################
##############################################################################
>>>>>>>
>>>>>>> INSTALLATION WITH 'R CMD INSTALL --preclean --no-multiarch --library=NarrowPeaks.buildbin-libdir NarrowPeaks_1.28.0.tar.gz'
>>>>>>>
* installing *source* package ‘NarrowPeaks’ ...
** using staged installation
** libs
clang -I"/Library/Frameworks/R.framework/Resources/include" -DNDEBUG -isysroot /Library/Developer/CommandLineTools/SDKs/MacOSX.sdk -I/usr/local/include -fPIC -Wall -g -O2 -c wig2CSARScore.c -o wig2CSARScore.o
wig2CSARScore.c:240:11: warning: explicitly assigning value of variable of type 'int' to itself [-Wself-assign]
for(i=i;i>>>>>>
>>>>>>> FIXING LINKS FOR NarrowPeaks.buildbin-libdir/NarrowPeaks/libs//NarrowPeaks.so
>>>>>>>
install_name_tool -change "/usr/local/lib/libgcc_s.1.dylib" "/Library/Frameworks/R.framework/Versions/3.6/Resources/lib/libgcc_s.1.dylib" "NarrowPeaks.buildbin-libdir/NarrowPeaks/libs//NarrowPeaks.so"
install_name_tool -change "/usr/local/lib/libgfortran.3.dylib" "/Library/Frameworks/R.framework/Versions/3.6/Resources/lib/libgfortran.3.dylib" "NarrowPeaks.buildbin-libdir/NarrowPeaks/libs//NarrowPeaks.so"
install_name_tool -change "/usr/local/lib/libreadline.5.2.dylib" "/Library/Frameworks/R.framework/Versions/3.6/Resources/lib/libreadline.5.2.dylib" "NarrowPeaks.buildbin-libdir/NarrowPeaks/libs//NarrowPeaks.so"
install_name_tool -change "/usr/local/lib/libreadline.dylib" "/Library/Frameworks/R.framework/Versions/3.6/Resources/lib/libreadline.dylib" "NarrowPeaks.buildbin-libdir/NarrowPeaks/libs//NarrowPeaks.so"
install_name_tool -change "/usr/local/lib/libquadmath.0.dylib" "/Library/Frameworks/R.framework/Versions/3.6/Resources/lib/libquadmath.0.dylib" "NarrowPeaks.buildbin-libdir/NarrowPeaks/libs//NarrowPeaks.so"