| Back to Multiple platform build/check report for BioC 3.9 |
|
This page was generated on 2019-10-16 12:43:50 -0400 (Wed, 16 Oct 2019).
| Package 1033/1741 | Hostname | OS / Arch | INSTALL | BUILD | CHECK | BUILD BIN | ||||||
| MOFA 1.0.0 Britta Velten
| malbec2 | Linux (Ubuntu 18.04.2 LTS) / x86_64 | OK | OK | OK | |||||||
| tokay2 | Windows Server 2012 R2 Standard / x64 | OK | OK | [ OK ] | OK | |||||||
| celaya2 | OS X 10.11.6 El Capitan / x86_64 | OK | OK | OK | OK |
| Package: MOFA |
| Version: 1.0.0 |
| Command: C:\Users\biocbuild\bbs-3.9-bioc\R\bin\R.exe --arch x64 CMD check --no-multiarch --install=check:MOFA.install-out.txt --library=C:\Users\biocbuild\bbs-3.9-bioc\R\library --no-vignettes --timings MOFA_1.0.0.tar.gz |
| StartedAt: 2019-10-16 05:20:58 -0400 (Wed, 16 Oct 2019) |
| EndedAt: 2019-10-16 05:29:03 -0400 (Wed, 16 Oct 2019) |
| EllapsedTime: 485.3 seconds |
| RetCode: 0 |
| Status: OK |
| CheckDir: MOFA.Rcheck |
| Warnings: 0 |
##############################################################################
##############################################################################
###
### Running command:
###
### C:\Users\biocbuild\bbs-3.9-bioc\R\bin\R.exe --arch x64 CMD check --no-multiarch --install=check:MOFA.install-out.txt --library=C:\Users\biocbuild\bbs-3.9-bioc\R\library --no-vignettes --timings MOFA_1.0.0.tar.gz
###
##############################################################################
##############################################################################
* using log directory 'C:/Users/biocbuild/bbs-3.9-bioc/meat/MOFA.Rcheck'
* using R version 3.6.1 (2019-07-05)
* using platform: x86_64-w64-mingw32 (64-bit)
* using session charset: ISO8859-1
* using option '--no-vignettes'
* checking for file 'MOFA/DESCRIPTION' ... OK
* checking extension type ... Package
* this is package 'MOFA' version '1.0.0'
* package encoding: UTF-8
* checking package namespace information ... OK
* checking package dependencies ... OK
* checking if this is a source package ... OK
* checking if there is a namespace ... OK
* checking for hidden files and directories ... NOTE
Found the following hidden files and directories:
.BBSoptions
These were most likely included in error. See section 'Package
structure' in the 'Writing R Extensions' manual.
* checking for portable file names ... OK
* checking whether package 'MOFA' can be installed ... OK
* checking installed package size ... OK
* checking package directory ... OK
* checking 'build' directory ... OK
* checking DESCRIPTION meta-information ... OK
* checking top-level files ... OK
* checking for left-over files ... OK
* checking index information ... OK
* checking package subdirectories ... OK
* checking R files for non-ASCII characters ... OK
* checking R files for syntax errors ... OK
* checking whether the package can be loaded ... OK
* checking whether the package can be loaded with stated dependencies ... OK
* checking whether the package can be unloaded cleanly ... OK
* checking whether the namespace can be loaded with stated dependencies ... OK
* checking whether the namespace can be unloaded cleanly ... OK
* checking dependencies in R code ... OK
* checking S3 generic/method consistency ... OK
* checking replacement functions ... OK
* checking foreign function calls ... OK
* checking R code for possible problems ... NOTE
plotEnrichmentDetailed: no visible binding for global variable
'pathway'
plotEnrichmentDetailed: no visible binding for global variable
'feature.statistic'
Undefined global functions or variables:
feature.statistic pathway
* checking Rd files ... OK
* checking Rd metadata ... OK
* checking Rd cross-references ... NOTE
Package unavailable to check Rd xrefs: 'PCGSE'
* checking for missing documentation entries ... OK
* checking for code/documentation mismatches ... OK
* checking Rd \usage sections ... OK
* checking Rd contents ... OK
* checking for unstated dependencies in examples ... OK
* checking files in 'vignettes' ... OK
* checking examples ... OK
Examples with CPU or elapsed time > 5s
user system elapsed
selectModel 24.95 0.09 28.04
compareModels 24.37 0.06 27.45
compareFactors 24.00 0.42 31.64
predict 20.03 0.21 20.25
regressCovariates 17.04 0.09 17.14
plotEnrichment 8.43 0.83 9.28
plotEnrichmentDetailed 7.85 0.69 8.54
plotEnrichmentBars 6.18 0.83 7.04
plotFactorScatters 6.34 0.17 6.52
runEnrichmentAnalysis 5.80 0.63 6.42
plotEnrichmentHeatmap 5.50 0.51 6.02
plotDataOverview 4.94 0.56 5.50
calculateVarianceExplained 4.62 0.74 15.99
plotWeightsHeatmap 4.95 0.19 5.14
clusterSamples 4.63 0.50 5.12
DataOptions 3.47 0.23 8.75
* checking for unstated dependencies in vignettes ... OK
* checking package vignettes in 'inst/doc' ... OK
* checking running R code from vignettes ... SKIPPED
* checking re-building of vignette outputs ... SKIPPED
* checking PDF version of manual ... OK
* DONE
Status: 3 NOTEs
See
'C:/Users/biocbuild/bbs-3.9-bioc/meat/MOFA.Rcheck/00check.log'
for details.
MOFA.Rcheck/00install.out
##############################################################################
##############################################################################
###
### Running command:
###
### C:\Users\biocbuild\bbs-3.9-bioc\R\bin\R.exe --arch x64 CMD INSTALL --no-multiarch MOFA
###
##############################################################################
##############################################################################
* installing to library 'C:/Users/biocbuild/bbs-3.9-bioc/R/library'
* installing *source* package 'MOFA' ...
** using staged installation
** R
** byte-compile and prepare package for lazy loading
** help
*** installing help indices
converting help for package 'MOFA'
finding HTML links ... done
DataOptions html
Dimensions html
Expectations html
FeatureIntercepts html
ImputedData html
InputData html
MOFA html
MOFAmodel html
ModelOptions html
Status html
TrainData html
TrainOptions html
TrainStats html
calculateVarianceExplained html
clusterSamples html
compareFactors html
compareModels html
createMOFAobject html
finding level-2 HTML links ... done
factorNames html
featureNames html
getCovariates html
getDefaultDataOptions html
getDefaultModelOptions html
getDefaultTrainOptions html
getDimensions html
getELBO html
getExpectations html
getFactors html
getImputedData html
getTrainData html
getWeights html
impute html
loadModel html
makeExampleData html
plotDataHeatmap html
plotDataOverview html
plotDataScatter html
plotEnrichment html
plotEnrichmentBars html
plotEnrichmentDetailed html
plotEnrichmentHeatmap html
plotFactorBeeswarm html
plotFactorCor html
plotFactorHist html
plotFactorScatter html
plotFactorScatters html
plotTopWeights html
plotVarianceExplained html
plotWeights html
plotWeightsHeatmap html
predict html
prepareMOFA html
qualityControl html
regressCovariates html
runEnrichmentAnalysis html
runMOFA html
sampleNames html
selectModel html
subsetFactors html
subsetSamples html
subsetViews html
trainCurveELBO html
trainCurveFactors html
viewNames html
** building package indices
** installing vignettes
** testing if installed package can be loaded from temporary location
** testing if installed package can be loaded from final location
** testing if installed package keeps a record of temporary installation path
* DONE (MOFA)
Making 'packages.html' ... done
MOFA.Rcheck/MOFA-Ex.timings
| name | user | system | elapsed | |
| DataOptions | 3.47 | 0.23 | 8.75 | |
| Dimensions | 1.62 | 0.30 | 1.92 | |
| Expectations | 1.55 | 0.11 | 1.66 | |
| FeatureIntercepts | 1.41 | 0.23 | 1.64 | |
| ImputedData | 2.14 | 0.33 | 2.46 | |
| InputData | 1.61 | 0.18 | 1.80 | |
| ModelOptions | 1.78 | 0.18 | 1.95 | |
| Status | 2.00 | 0.21 | 2.22 | |
| TrainData | 1.47 | 0.21 | 1.68 | |
| TrainOptions | 1.46 | 0.14 | 1.60 | |
| TrainStats | 1.46 | 0.20 | 1.66 | |
| calculateVarianceExplained | 4.62 | 0.74 | 15.99 | |
| clusterSamples | 4.63 | 0.50 | 5.12 | |
| compareFactors | 24.00 | 0.42 | 31.64 | |
| compareModels | 24.37 | 0.06 | 27.45 | |
| createMOFAobject | 2.25 | 0.06 | 2.64 | |
| factorNames | 1.83 | 0.21 | 2.04 | |
| featureNames | 0.81 | 0.01 | 0.82 | |
| getCovariates | 2.32 | 0.10 | 2.52 | |
| getDefaultDataOptions | 0 | 0 | 0 | |
| getDefaultModelOptions | 1.38 | 0.06 | 1.43 | |
| getDefaultTrainOptions | 0 | 0 | 0 | |
| getDimensions | 1.61 | 0.26 | 1.88 | |
| getELBO | 1.39 | 0.25 | 1.64 | |
| getExpectations | 1.79 | 0.24 | 2.03 | |
| getFactors | 1.69 | 0.29 | 1.98 | |
| getImputedData | 2.06 | 0.38 | 2.44 | |
| getTrainData | 4.30 | 0.48 | 4.78 | |
| getWeights | 2.00 | 0.33 | 2.33 | |
| impute | 3.17 | 0.46 | 3.62 | |
| loadModel | 1.33 | 0.29 | 1.63 | |
| makeExampleData | 0.01 | 0.00 | 0.01 | |
| plotDataHeatmap | 2.17 | 0.41 | 2.58 | |
| plotDataOverview | 4.94 | 0.56 | 5.50 | |
| plotDataScatter | 3.84 | 0.45 | 4.31 | |
| plotEnrichment | 8.43 | 0.83 | 9.28 | |
| plotEnrichmentBars | 6.18 | 0.83 | 7.04 | |
| plotEnrichmentDetailed | 7.85 | 0.69 | 8.54 | |
| plotEnrichmentHeatmap | 5.50 | 0.51 | 6.02 | |
| plotFactorBeeswarm | 3.20 | 0.11 | 3.31 | |
| plotFactorCor | 2.50 | 0.08 | 2.58 | |
| plotFactorHist | 3.27 | 0.09 | 3.36 | |
| plotFactorScatter | 2.82 | 0.19 | 3.03 | |
| plotFactorScatters | 6.34 | 0.17 | 6.52 | |
| plotTopWeights | 3.30 | 0.07 | 3.36 | |
| plotVarianceExplained | 4.34 | 0.15 | 4.50 | |
| plotWeights | 4.47 | 0.13 | 4.59 | |
| plotWeightsHeatmap | 4.95 | 0.19 | 5.14 | |
| predict | 20.03 | 0.21 | 20.25 | |
| prepareMOFA | 1.72 | 0.16 | 1.87 | |
| qualityControl | 2.99 | 0.25 | 3.24 | |
| regressCovariates | 17.04 | 0.09 | 17.14 | |
| runEnrichmentAnalysis | 5.80 | 0.63 | 6.42 | |
| runMOFA | 0.41 | 0.00 | 0.41 | |
| sampleNames | 0.61 | 0.00 | 0.61 | |
| selectModel | 24.95 | 0.09 | 28.04 | |
| subsetFactors | 1.22 | 0.05 | 1.27 | |
| subsetSamples | 1.51 | 0.10 | 1.62 | |
| subsetViews | 1.57 | 0.07 | 1.63 | |
| trainCurveELBO | 3.64 | 0.17 | 3.81 | |
| trainCurveFactors | 3.43 | 0.20 | 3.64 | |
| viewNames | 0.63 | 0.02 | 0.64 | |