| Back to Multiple platform build/check report for BioC 3.9 |
|
This page was generated on 2019-10-16 12:21:07 -0400 (Wed, 16 Oct 2019).
| Package 863/1741 | Hostname | OS / Arch | INSTALL | BUILD | CHECK | BUILD BIN | ||||||
| LBE 1.52.0 Cyril Dalmasso
| malbec2 | Linux (Ubuntu 18.04.2 LTS) / x86_64 | OK | OK | OK | |||||||
| tokay2 | Windows Server 2012 R2 Standard / x64 | [ OK ] | OK | OK | OK | |||||||
| celaya2 | OS X 10.11.6 El Capitan / x86_64 | OK | OK | OK | OK |
| Package: LBE |
| Version: 1.52.0 |
| Command: C:\cygwin\bin\curl.exe -O https://malbec2.bioconductor.org/BBS/3.9/bioc/src/contrib/LBE_1.52.0.tar.gz && rm -rf LBE.buildbin-libdir && mkdir LBE.buildbin-libdir && C:\Users\biocbuild\bbs-3.9-bioc\R\bin\R.exe CMD INSTALL --merge-multiarch --build --library=LBE.buildbin-libdir LBE_1.52.0.tar.gz && C:\Users\biocbuild\bbs-3.9-bioc\R\bin\R.exe CMD INSTALL LBE_1.52.0.zip && rm LBE_1.52.0.tar.gz LBE_1.52.0.zip |
| StartedAt: 2019-10-15 18:43:15 -0400 (Tue, 15 Oct 2019) |
| EndedAt: 2019-10-15 18:43:44 -0400 (Tue, 15 Oct 2019) |
| EllapsedTime: 29.8 seconds |
| RetCode: 0 |
| Status: OK |
##############################################################################
##############################################################################
###
### Running command:
###
### C:\cygwin\bin\curl.exe -O https://malbec2.bioconductor.org/BBS/3.9/bioc/src/contrib/LBE_1.52.0.tar.gz && rm -rf LBE.buildbin-libdir && mkdir LBE.buildbin-libdir && C:\Users\biocbuild\bbs-3.9-bioc\R\bin\R.exe CMD INSTALL --merge-multiarch --build --library=LBE.buildbin-libdir LBE_1.52.0.tar.gz && C:\Users\biocbuild\bbs-3.9-bioc\R\bin\R.exe CMD INSTALL LBE_1.52.0.zip && rm LBE_1.52.0.tar.gz LBE_1.52.0.zip
###
##############################################################################
##############################################################################
% Total % Received % Xferd Average Speed Time Time Time Current
Dload Upload Total Spent Left Speed
0 0 0 0 0 0 0 0 --:--:-- --:--:-- --:--:-- 0
0 114k 0 0 0 0 0 0 --:--:-- --:--:-- --:--:-- 0
100 114k 100 114k 0 0 552k 0 --:--:-- --:--:-- --:--:-- 570k
install for i386
* installing *source* package 'LBE' ...
** using staged installation
** R
** data
** byte-compile and prepare package for lazy loading
** help
*** installing help indices
converting help for package 'LBE'
finding HTML links ... done
LBE-package html
LBE html
LBEa html
LBEplot html
LBEsummary html
LBEwrite html
golub.pval html
hedenfalk.pval html
** building package indices
** installing vignettes
** testing if installed package can be loaded from temporary location
** testing if installed package can be loaded from final location
** testing if installed package keeps a record of temporary installation path
install for x64
* installing *source* package 'LBE' ...
** testing if installed package can be loaded
* MD5 sums
packaged installation of 'LBE' as LBE_1.52.0.zip
* DONE (LBE)
* installing to library 'C:/Users/biocbuild/bbs-3.9-bioc/R/library'
package 'LBE' successfully unpacked and MD5 sums checked