| Back to Multiple platform build/check report for BioC 3.9 |
|
This page was generated on 2019-10-16 12:38:17 -0400 (Wed, 16 Oct 2019).
| Package 660/1741 | Hostname | OS / Arch | INSTALL | BUILD | CHECK | BUILD BIN | ||||||
| GenomicScores 1.8.1 Robert Castelo
| malbec2 | Linux (Ubuntu 18.04.2 LTS) / x86_64 | OK | OK | WARNINGS | |||||||
| tokay2 | Windows Server 2012 R2 Standard / x64 | OK | OK | WARNINGS | [ OK ] | |||||||
| celaya2 | OS X 10.11.6 El Capitan / x86_64 | OK | OK | WARNINGS | OK |
| Package: GenomicScores |
| Version: 1.8.1 |
| Command: rm -rf GenomicScores.buildbin-libdir && mkdir GenomicScores.buildbin-libdir && C:\Users\biocbuild\bbs-3.9-bioc\R\bin\R.exe CMD INSTALL --merge-multiarch --build --library=GenomicScores.buildbin-libdir GenomicScores_1.8.1.tar.gz |
| StartedAt: 2019-10-16 09:18:59 -0400 (Wed, 16 Oct 2019) |
| EndedAt: 2019-10-16 09:20:11 -0400 (Wed, 16 Oct 2019) |
| EllapsedTime: 72.2 seconds |
| RetCode: 0 |
| Status: OK |
| PackageFile: GenomicScores_1.8.1.zip |
| PackageFileSize: 2.472 MiB |
##############################################################################
##############################################################################
###
### Running command:
###
### rm -rf GenomicScores.buildbin-libdir && mkdir GenomicScores.buildbin-libdir && C:\Users\biocbuild\bbs-3.9-bioc\R\bin\R.exe CMD INSTALL --merge-multiarch --build --library=GenomicScores.buildbin-libdir GenomicScores_1.8.1.tar.gz
###
##############################################################################
##############################################################################
install for i386
* installing *source* package 'GenomicScores' ...
** using staged installation
** R
** inst
** byte-compile and prepare package for lazy loading
in method for 'score' with signature '"MafDb"': no definition for class "MafDb"
** help
*** installing help indices
converting help for package 'GenomicScores'
finding HTML links ... done
GScores-class html
finding level-2 HTML links ... done
GenomicScores-defunct html
GenomicScores-deprecated html
gscores html
** building package indices
** installing vignettes
** testing if installed package can be loaded from temporary location
** testing if installed package can be loaded from final location
** testing if installed package keeps a record of temporary installation path
install for x64
* installing *source* package 'GenomicScores' ...
** testing if installed package can be loaded
* MD5 sums
packaged installation of 'GenomicScores' as GenomicScores_1.8.1.zip
* DONE (GenomicScores)