| Back to Multiple platform build/check report for BioC 3.9 |
|
This page was generated on 2019-10-16 12:34:19 -0400 (Wed, 16 Oct 2019).
| Package 624/1741 | Hostname | OS / Arch | INSTALL | BUILD | CHECK | BUILD BIN | ||||||
| GeneBreak 1.14.0 Evert van den Broek
| malbec2 | Linux (Ubuntu 18.04.2 LTS) / x86_64 | OK | OK | OK | |||||||
| tokay2 | Windows Server 2012 R2 Standard / x64 | OK | OK | [ OK ] | OK | |||||||
| celaya2 | OS X 10.11.6 El Capitan / x86_64 | OK | OK | OK | OK |
| Package: GeneBreak |
| Version: 1.14.0 |
| Command: C:\Users\biocbuild\bbs-3.9-bioc\R\bin\R.exe CMD check --force-multiarch --install=check:GeneBreak.install-out.txt --library=C:\Users\biocbuild\bbs-3.9-bioc\R\library --no-vignettes --timings GeneBreak_1.14.0.tar.gz |
| StartedAt: 2019-10-16 03:53:06 -0400 (Wed, 16 Oct 2019) |
| EndedAt: 2019-10-16 03:58:14 -0400 (Wed, 16 Oct 2019) |
| EllapsedTime: 307.9 seconds |
| RetCode: 0 |
| Status: OK |
| CheckDir: GeneBreak.Rcheck |
| Warnings: 0 |
##############################################################################
##############################################################################
###
### Running command:
###
### C:\Users\biocbuild\bbs-3.9-bioc\R\bin\R.exe CMD check --force-multiarch --install=check:GeneBreak.install-out.txt --library=C:\Users\biocbuild\bbs-3.9-bioc\R\library --no-vignettes --timings GeneBreak_1.14.0.tar.gz
###
##############################################################################
##############################################################################
* using log directory 'C:/Users/biocbuild/bbs-3.9-bioc/meat/GeneBreak.Rcheck'
* using R version 3.6.1 (2019-07-05)
* using platform: x86_64-w64-mingw32 (64-bit)
* using session charset: ISO8859-1
* using option '--no-vignettes'
* checking for file 'GeneBreak/DESCRIPTION' ... OK
* checking extension type ... Package
* this is package 'GeneBreak' version '1.14.0'
* checking package namespace information ... OK
* checking package dependencies ... OK
* checking if this is a source package ... OK
* checking if there is a namespace ... OK
* checking for hidden files and directories ... OK
* checking for portable file names ... OK
* checking whether package 'GeneBreak' can be installed ... OK
* checking installed package size ... OK
* checking package directory ... OK
* checking 'build' directory ... OK
* checking DESCRIPTION meta-information ... OK
* checking top-level files ... OK
* checking for left-over files ... OK
* checking index information ... OK
* checking package subdirectories ... OK
* checking R files for non-ASCII characters ... OK
* checking R files for syntax errors ... OK
* loading checks for arch 'i386'
** checking whether the package can be loaded ... OK
** checking whether the package can be loaded with stated dependencies ... OK
** checking whether the package can be unloaded cleanly ... OK
** checking whether the namespace can be loaded with stated dependencies ... OK
** checking whether the namespace can be unloaded cleanly ... OK
* loading checks for arch 'x64'
** checking whether the package can be loaded ... OK
** checking whether the package can be loaded with stated dependencies ... OK
** checking whether the package can be unloaded cleanly ... OK
** checking whether the namespace can be loaded with stated dependencies ... OK
** checking whether the namespace can be unloaded cleanly ... OK
* checking dependencies in R code ... OK
* checking S3 generic/method consistency ... OK
* checking replacement functions ... OK
* checking foreign function calls ... OK
* checking R code for possible problems ... NOTE
.glmbreak: no visible global function definition for 'glm'
.glmbreak: no visible global function definition for 'predict'
addGeneAnnotation,CopyNumberBreakPoints: no visible global function
definition for 'head'
bpStats,CopyNumberBreakPoints: no visible global function definition
for 'sd'
bpStats,CopyNumberBreakPoints: no visible global function definition
for 'p.adjust'
Undefined global functions or variables:
glm head p.adjust predict sd
Consider adding
importFrom("stats", "glm", "p.adjust", "predict", "sd")
importFrom("utils", "head")
to your NAMESPACE file.
* checking Rd files ... OK
* checking Rd metadata ... OK
* checking Rd cross-references ... OK
* checking for missing documentation entries ... OK
* checking for code/documentation mismatches ... OK
* checking Rd \usage sections ... OK
* checking Rd contents ... OK
* checking for unstated dependencies in examples ... OK
* checking contents of 'data' directory ... OK
* checking data for non-ASCII characters ... OK
* checking data for ASCII and uncompressed saves ... OK
* checking files in 'vignettes' ... OK
* checking examples ...
** running examples for arch 'i386' ... OK
Examples with CPU or elapsed time > 5s
user system elapsed
CopyNumberBreakPointGenes-class 6.42 0.25 6.67
bpStats-CopyNumberBreakPoints-method 5.55 0.28 5.83
recurrentGenes-CopyNumberBreakPointGenes-method 5.30 0.27 5.57
bpPlot-CopyNumberBreakPoints-method 5.28 0.14 5.42
** running examples for arch 'x64' ... OK
Examples with CPU or elapsed time > 5s
user system elapsed
CopyNumberBreakPointGenes-class 7.93 0.30 8.24
bpPlot-CopyNumberBreakPoints-method 7.64 0.25 7.90
bpStats-CopyNumberBreakPoints-method 7.08 0.22 7.29
recurrentGenes-CopyNumberBreakPointGenes-method 6.02 0.14 6.15
* checking for unstated dependencies in vignettes ... OK
* checking package vignettes in 'inst/doc' ... OK
* checking running R code from vignettes ... SKIPPED
* checking re-building of vignette outputs ... SKIPPED
* checking PDF version of manual ... OK
* DONE
Status: 1 NOTE
See
'C:/Users/biocbuild/bbs-3.9-bioc/meat/GeneBreak.Rcheck/00check.log'
for details.
GeneBreak.Rcheck/00install.out
##############################################################################
##############################################################################
###
### Running command:
###
### C:\cygwin\bin\curl.exe -O https://malbec2.bioconductor.org/BBS/3.9/bioc/src/contrib/GeneBreak_1.14.0.tar.gz && rm -rf GeneBreak.buildbin-libdir && mkdir GeneBreak.buildbin-libdir && C:\Users\biocbuild\bbs-3.9-bioc\R\bin\R.exe CMD INSTALL --merge-multiarch --build --library=GeneBreak.buildbin-libdir GeneBreak_1.14.0.tar.gz && C:\Users\biocbuild\bbs-3.9-bioc\R\bin\R.exe CMD INSTALL GeneBreak_1.14.0.zip && rm GeneBreak_1.14.0.tar.gz GeneBreak_1.14.0.zip
###
##############################################################################
##############################################################################
% Total % Received % Xferd Average Speed Time Time Time Current
Dload Upload Total Spent Left Speed
0 0 0 0 0 0 0 0 --:--:-- --:--:-- --:--:-- 0
67 4104k 67 2784k 0 0 14.3M 0 --:--:-- --:--:-- --:--:-- 14.8M
100 4104k 100 4104k 0 0 19.3M 0 --:--:-- --:--:-- --:--:-- 19.9M
install for i386
* installing *source* package 'GeneBreak' ...
** using staged installation
** R
** data
** byte-compile and prepare package for lazy loading
Creating a new generic function for 'segmentData' in package 'GeneBreak'
** help
*** installing help indices
converting help for package 'GeneBreak'
finding HTML links ... done
CopyNumberBreakPointGenes-class html
CopyNumberBreakPoints-class html
GeneBreak html
accessOptions-CopyNumberBreakPoints-method
html
addGeneAnnotation-CopyNumberBreakPoints-method
html
bpFilter-CopyNumberBreakPoints-method html
bpGenes-CopyNumberBreakPointGenes-method
html
bpPlot-CopyNumberBreakPoints-method html
bpStats-CopyNumberBreakPoints-method html
breakpointData-CopyNumberBreakPoints-method
html
breakpointsPerGene-CopyNumberBreakPointGenes-method
html
callData-CopyNumberBreakPoints-method html
copynumber.data.chr18 html
copynumber.data.chr20 html
copynumber.data.chr21 html
ens.gene.ann.hg18 html
ens.gene.ann.hg19 html
ens.gene.ann.hg38 html
featureChromosomes-CopyNumberBreakPoints-method
html
featureInfo-CopyNumberBreakPoints-method
html
featuresPerGene-CopyNumberBreakPointGenes-method
html
geneChromosomes-CopyNumberBreakPointGenes-method
html
geneInfo-CopyNumberBreakPointGenes-method
html
getBreakpoints html
namesFeatures-CopyNumberBreakPoints-method
html
recurrentGenes-CopyNumberBreakPointGenes-method
html
sampleNames-CopyNumberBreakPoints-method
html
segmentData-CopyNumberBreakPoints-method
html
** building package indices
** installing vignettes
** testing if installed package can be loaded from temporary location
** testing if installed package can be loaded from final location
** testing if installed package keeps a record of temporary installation path
install for x64
* installing *source* package 'GeneBreak' ...
** testing if installed package can be loaded
* MD5 sums
packaged installation of 'GeneBreak' as GeneBreak_1.14.0.zip
* DONE (GeneBreak)
* installing to library 'C:/Users/biocbuild/bbs-3.9-bioc/R/library'
package 'GeneBreak' successfully unpacked and MD5 sums checked
|
GeneBreak.Rcheck/examples_i386/GeneBreak-Ex.timings
|
GeneBreak.Rcheck/examples_x64/GeneBreak-Ex.timings
|