| Back to Multiple platform build/check report for BioC 3.9 |
|
This page was generated on 2019-10-16 12:55:13 -0400 (Wed, 16 Oct 2019).
| Package 640/1741 | Hostname | OS / Arch | INSTALL | BUILD | CHECK | BUILD BIN | ||||||
| GENESIS 2.14.4 Stephanie M. Gogarten
| malbec2 | Linux (Ubuntu 18.04.2 LTS) / x86_64 | OK | OK | OK | |||||||
| tokay2 | Windows Server 2012 R2 Standard / x64 | OK | OK | OK | OK | |||||||
| celaya2 | OS X 10.11.6 El Capitan / x86_64 | OK | OK | [ OK ] | OK |
| Package: GENESIS |
| Version: 2.14.4 |
| Command: /Library/Frameworks/R.framework/Versions/Current/Resources/bin/R CMD check --install=check:GENESIS.install-out.txt --library=/Library/Frameworks/R.framework/Versions/Current/Resources/library --no-vignettes --timings GENESIS_2.14.4.tar.gz |
| StartedAt: 2019-10-16 03:06:24 -0400 (Wed, 16 Oct 2019) |
| EndedAt: 2019-10-16 03:13:55 -0400 (Wed, 16 Oct 2019) |
| EllapsedTime: 450.5 seconds |
| RetCode: 0 |
| Status: OK |
| CheckDir: GENESIS.Rcheck |
| Warnings: 0 |
##############################################################################
##############################################################################
###
### Running command:
###
### /Library/Frameworks/R.framework/Versions/Current/Resources/bin/R CMD check --install=check:GENESIS.install-out.txt --library=/Library/Frameworks/R.framework/Versions/Current/Resources/library --no-vignettes --timings GENESIS_2.14.4.tar.gz
###
##############################################################################
##############################################################################
* using log directory ‘/Users/biocbuild/bbs-3.9-bioc/meat/GENESIS.Rcheck’
* using R version 3.6.1 (2019-07-05)
* using platform: x86_64-apple-darwin15.6.0 (64-bit)
* using session charset: UTF-8
* using option ‘--no-vignettes’
* checking for file ‘GENESIS/DESCRIPTION’ ... OK
* checking extension type ... Package
* this is package ‘GENESIS’ version ‘2.14.4’
* checking package namespace information ... OK
* checking package dependencies ... OK
* checking if this is a source package ... OK
* checking if there is a namespace ... OK
* checking for hidden files and directories ... OK
* checking for portable file names ... OK
* checking for sufficient/correct file permissions ... OK
* checking whether package ‘GENESIS’ can be installed ... OK
* checking installed package size ... OK
* checking package directory ... OK
* checking ‘build’ directory ... OK
* checking DESCRIPTION meta-information ... OK
* checking top-level files ... OK
* checking for left-over files ... OK
* checking index information ... OK
* checking package subdirectories ... OK
* checking R files for non-ASCII characters ... OK
* checking R files for syntax errors ... OK
* checking whether the package can be loaded ... OK
* checking whether the package can be loaded with stated dependencies ... OK
* checking whether the package can be unloaded cleanly ... OK
* checking whether the namespace can be loaded with stated dependencies ... OK
* checking whether the namespace can be unloaded cleanly ... OK
* checking dependencies in R code ... NOTE
Unexported object imported by a ':::' call: ‘survey:::saddle’
See the note in ?`:::` about the use of this operator.
* checking S3 generic/method consistency ... OK
* checking replacement functions ... OK
* checking foreign function calls ... OK
* checking R code for possible problems ... NOTE
.pcrelate: no visible binding for global variable ‘k’
calcISAFBeta: no visible binding for global variable ‘k’
pcrelateSampBlock: no visible binding for global variable ‘k’
Undefined global functions or variables:
k
* checking Rd files ... OK
* checking Rd metadata ... OK
* checking Rd cross-references ... OK
* checking for missing documentation entries ... OK
* checking for code/documentation mismatches ... OK
* checking Rd \usage sections ... OK
* checking Rd contents ... OK
* checking for unstated dependencies in examples ... OK
* checking contents of ‘data’ directory ... OK
* checking data for non-ASCII characters ... OK
* checking data for ASCII and uncompressed saves ... OK
* checking files in ‘vignettes’ ... OK
* checking examples ... OK
Examples with CPU or elapsed time > 5s
user system elapsed
fitNullModel 22.072 2.271 22.119
varCompCI 18.333 2.336 18.867
pcrelate 17.408 1.889 18.333
* checking for unstated dependencies in ‘tests’ ... OK
* checking tests ...
Running ‘testthat.R’
OK
* checking for unstated dependencies in vignettes ... OK
* checking package vignettes in ‘inst/doc’ ... OK
* checking running R code from vignettes ... SKIPPED
* checking re-building of vignette outputs ... SKIPPED
* checking PDF version of manual ... OK
* DONE
Status: 2 NOTEs
See
‘/Users/biocbuild/bbs-3.9-bioc/meat/GENESIS.Rcheck/00check.log’
for details.
GENESIS.Rcheck/00install.out
############################################################################## ############################################################################## ### ### Running command: ### ### /Library/Frameworks/R.framework/Versions/Current/Resources/bin/R CMD INSTALL GENESIS ### ############################################################################## ############################################################################## * installing to library ‘/Library/Frameworks/R.framework/Versions/3.6/Resources/library’ * installing *source* package ‘GENESIS’ ... ** using staged installation ** R ** data ** inst ** byte-compile and prepare package for lazy loading ** help *** installing help indices ** building package indices ** installing vignettes ** testing if installed package can be loaded from temporary location ** testing if installed package can be loaded from final location ** testing if installed package keeps a record of temporary installation path * DONE (GENESIS)
GENESIS.Rcheck/tests/testthat.Rout
R version 3.6.1 (2019-07-05) -- "Action of the Toes"
Copyright (C) 2019 The R Foundation for Statistical Computing
Platform: x86_64-apple-darwin15.6.0 (64-bit)
R is free software and comes with ABSOLUTELY NO WARRANTY.
You are welcome to redistribute it under certain conditions.
Type 'license()' or 'licence()' for distribution details.
R is a collaborative project with many contributors.
Type 'contributors()' for more information and
'citation()' on how to cite R or R packages in publications.
Type 'demo()' for some demos, 'help()' for on-line help, or
'help.start()' for an HTML browser interface to help.
Type 'q()' to quit R.
> library(testthat)
> library(GENESIS)
>
> test_check("GENESIS")
══ testthat results ═══════════════════════════════════════════════════════════
[ OK: 383 | SKIPPED: 0 | WARNINGS: 0 | FAILED: 0 ]
>
> proc.time()
user system elapsed
159.752 31.879 141.877
GENESIS.Rcheck/GENESIS-Ex.timings
| name | user | system | elapsed | |
| admixMap | 1.695 | 0.115 | 1.819 | |
| assocTestAggregate | 4.508 | 0.286 | 4.800 | |
| assocTestSingle | 3.762 | 0.560 | 4.325 | |
| fitNullModel | 22.072 | 2.271 | 22.119 | |
| kin2gds | 1.119 | 0.499 | 0.687 | |
| kingToMatrix | 3.487 | 0.999 | 0.896 | |
| pcair | 0.929 | 0.388 | 0.743 | |
| pcairPartition | 0.061 | 0.004 | 0.065 | |
| pcrelate | 17.408 | 1.889 | 18.333 | |
| plot.pcair | 0.829 | 0.364 | 0.602 | |
| print.pcair | 0.592 | 0.058 | 0.649 | |
| varCompCI | 18.333 | 2.336 | 18.867 | |