| Back to Multiple platform build/check report for BioC 3.9 |
|
This page was generated on 2019-10-16 12:33:12 -0400 (Wed, 16 Oct 2019).
| Package 497/1741 | Hostname | OS / Arch | INSTALL | BUILD | CHECK | BUILD BIN | ||||||
| ENCODExplorer 2.10.0 Charles Joly Beauparlant
| malbec2 | Linux (Ubuntu 18.04.2 LTS) / x86_64 | OK | OK | OK | |||||||
| tokay2 | Windows Server 2012 R2 Standard / x64 | OK | OK | OK | [ OK ] | |||||||
| celaya2 | OS X 10.11.6 El Capitan / x86_64 | OK | ERROR | skipped | skipped |
| Package: ENCODExplorer |
| Version: 2.10.0 |
| Command: rm -rf ENCODExplorer.buildbin-libdir && mkdir ENCODExplorer.buildbin-libdir && C:\Users\biocbuild\bbs-3.9-bioc\R\bin\R.exe CMD INSTALL --merge-multiarch --build --library=ENCODExplorer.buildbin-libdir ENCODExplorer_2.10.0.tar.gz |
| StartedAt: 2019-10-16 09:08:23 -0400 (Wed, 16 Oct 2019) |
| EndedAt: 2019-10-16 09:08:53 -0400 (Wed, 16 Oct 2019) |
| EllapsedTime: 30.5 seconds |
| RetCode: 0 |
| Status: OK |
| PackageFile: ENCODExplorer_2.10.0.zip |
| PackageFileSize: 1.009 MiB |
##############################################################################
##############################################################################
###
### Running command:
###
### rm -rf ENCODExplorer.buildbin-libdir && mkdir ENCODExplorer.buildbin-libdir && C:\Users\biocbuild\bbs-3.9-bioc\R\bin\R.exe CMD INSTALL --merge-multiarch --build --library=ENCODExplorer.buildbin-libdir ENCODExplorer_2.10.0.tar.gz
###
##############################################################################
##############################################################################
install for i386
* installing *source* package 'ENCODExplorer' ...
** using staged installation
** R
** inst
** byte-compile and prepare package for lazy loading
** help
*** installing help indices
converting help for package 'ENCODExplorer'
finding HTML links ... done
ENCODExplorer html
clean_column html
clean_table html
createDesign html
downloadEncode html
download_dt_file html
download_single_file html
fuzzySearch html
get_encode_df html
get_encode_df_demo html
get_encode_df_full html
queryEncode html
queryEncodeGeneric html
searchEncode html
searchToquery html
shinyEncode html
** building package indices
** installing vignettes
** testing if installed package can be loaded from temporary location
** testing if installed package can be loaded from final location
** testing if installed package keeps a record of temporary installation path
install for x64
* installing *source* package 'ENCODExplorer' ...
** testing if installed package can be loaded
* MD5 sums
packaged installation of 'ENCODExplorer' as ENCODExplorer_2.10.0.zip
* DONE (ENCODExplorer)