| Back to Multiple platform build/check report for BioC 3.9 |
|
This page was generated on 2019-10-16 12:30:18 -0400 (Wed, 16 Oct 2019).
| Package 408/1741 | Hostname | OS / Arch | INSTALL | BUILD | CHECK | BUILD BIN | ||||||
| DEGreport 1.20.0 Lorena Pantano
| malbec2 | Linux (Ubuntu 18.04.2 LTS) / x86_64 | OK | OK | OK | |||||||
| tokay2 | Windows Server 2012 R2 Standard / x64 | OK | OK | [ OK ] | OK | |||||||
| celaya2 | OS X 10.11.6 El Capitan / x86_64 | OK | OK | OK | OK |
| Package: DEGreport |
| Version: 1.20.0 |
| Command: C:\Users\biocbuild\bbs-3.9-bioc\R\bin\R.exe CMD check --force-multiarch --install=check:DEGreport.install-out.txt --library=C:\Users\biocbuild\bbs-3.9-bioc\R\library --no-vignettes --timings DEGreport_1.20.0.tar.gz |
| StartedAt: 2019-10-16 03:07:08 -0400 (Wed, 16 Oct 2019) |
| EndedAt: 2019-10-16 03:17:03 -0400 (Wed, 16 Oct 2019) |
| EllapsedTime: 594.7 seconds |
| RetCode: 0 |
| Status: OK |
| CheckDir: DEGreport.Rcheck |
| Warnings: 0 |
############################################################################## ############################################################################## ### ### Running command: ### ### C:\Users\biocbuild\bbs-3.9-bioc\R\bin\R.exe CMD check --force-multiarch --install=check:DEGreport.install-out.txt --library=C:\Users\biocbuild\bbs-3.9-bioc\R\library --no-vignettes --timings DEGreport_1.20.0.tar.gz ### ############################################################################## ############################################################################## * using log directory 'C:/Users/biocbuild/bbs-3.9-bioc/meat/DEGreport.Rcheck' * using R version 3.6.1 (2019-07-05) * using platform: x86_64-w64-mingw32 (64-bit) * using session charset: ISO8859-1 * using option '--no-vignettes' * checking for file 'DEGreport/DESCRIPTION' ... OK * checking extension type ... Package * this is package 'DEGreport' version '1.20.0' * package encoding: UTF-8 * checking package namespace information ... OK * checking package dependencies ... OK * checking if this is a source package ... OK * checking if there is a namespace ... OK * checking for hidden files and directories ... NOTE Found the following hidden files and directories: .travis.yml These were most likely included in error. See section 'Package structure' in the 'Writing R Extensions' manual. * checking for portable file names ... OK * checking whether package 'DEGreport' can be installed ... OK * checking installed package size ... OK * checking package directory ... OK * checking 'build' directory ... OK * checking DESCRIPTION meta-information ... OK * checking top-level files ... OK * checking for left-over files ... OK * checking index information ... OK * checking package subdirectories ... OK * checking R files for non-ASCII characters ... OK * checking R files for syntax errors ... OK * loading checks for arch 'i386' ** checking whether the package can be loaded ... OK ** checking whether the package can be loaded with stated dependencies ... OK ** checking whether the package can be unloaded cleanly ... OK ** checking whether the namespace can be loaded with stated dependencies ... OK ** checking whether the namespace can be unloaded cleanly ... OK * loading checks for arch 'x64' ** checking whether the package can be loaded ... OK ** checking whether the package can be loaded with stated dependencies ... OK ** checking whether the package can be unloaded cleanly ... OK ** checking whether the namespace can be loaded with stated dependencies ... OK ** checking whether the namespace can be unloaded cleanly ... OK * checking dependencies in R code ... OK * checking S3 generic/method consistency ... OK * checking replacement functions ... OK * checking foreign function calls ... OK * checking R code for possible problems ... NOTE .benckmark_cutoff: no visible binding for global variable 'cutoff' .benckmark_cutoff: no visible binding for global variable 'cluster' .convertIDs: no visible global function definition for 'keys' .generate_scatter_plot: no visible binding for global variable 'compare' .generate_scatter_plot: no visible binding for global variable 'covar' .get_counts: no visible global function definition for 'counts' .model: no visible global function definition for 'lm' .plot_raw: no visible binding for global variable '.x' .plot_shrunken: no visible binding for global variable '.x' .reduce :: : no visible global function definition for 'boxplot' .reduce_covariates : : no visible binding for global variable 'fdr' .reduce_covariates : : no visible binding for global variable 'compare' .reduce_covariates : : no visible binding for global variable 'r' .reduce_covariates : : no visible binding for global variable 'p.value' .run_cluster_profiler: no visible global function definition for 'enrichGO' .run_cluster_profiler: no visible global function definition for 'simplify' .select_concensus_genes: no visible global function definition for 'desc' .select_concensus_genes: no visible binding for global variable 'score' .select_concensus_genes: no visible binding for global variable 'k' .select_concensus_genes: no visible binding for global variable 'itemConsensus' .summarise_res: no visible binding for global variable 'gene' .summarise_res: no visible binding for global variable 'value_fdr' .summarise_res: no visible binding for global variable 'value_fc' .table_w_fc: no visible binding for global variable 'comp' .table_w_fc: no visible binding for global variable 'log2FoldChange' degCheckFactors: no visible binding for global variable 'ratios' degCorCov: no visible binding for global variable 'compare' degCovariates: no visible binding for global variable 'x' degCovariates: no visible binding for global variable 'y' degCovariates: no visible binding for global variable 'xend' degCovariates: no visible binding for global variable 'yend' degMA: no visible binding for global variable 'base_mean' degMA: no visible binding for global variable 'log2fc' degMV: no visible binding for global variable 'min_median' degMV: no visible binding for global variable 'max_sd' degPatterns: no visible global function definition for 'rowMedians' degPatterns: no visible binding for global variable 'genes' degPatterns: no visible global function definition for 'n' degPlotCluster: no visible binding for global variable 'genes' degPlotCluster: no visible binding for global variable 'cluster' degPlotWide : : no visible binding for global variable 'count' significants,TopTags: no visible binding for global variable 'FDR' significants,TopTags: no visible binding for global variable 'logFC' significants,list : : no visible binding for global variable 'gene' Undefined global functions or variables: .x FDR base_mean boxplot cluster comp compare count counts covar cutoff desc enrichGO fdr gene genes itemConsensus k keys lm log2FoldChange log2fc logFC max_sd min_median n p.value r ratios rowMedians score simplify value_fc value_fdr x xend y yend Consider adding importFrom("graphics", "boxplot") importFrom("stats", "lm") to your NAMESPACE file. * checking Rd files ... OK * checking Rd metadata ... OK * checking Rd cross-references ... OK * checking for missing documentation entries ... OK * checking for code/documentation mismatches ... OK * checking Rd \usage sections ... OK * checking Rd contents ... OK * checking for unstated dependencies in examples ... OK * checking contents of 'data' directory ... OK * checking data for non-ASCII characters ... OK * checking data for ASCII and uncompressed saves ... OK * checking files in 'vignettes' ... OK * checking examples ... ** running examples for arch 'i386' ... OK Examples with CPU or elapsed time > 5s user system elapsed degResults 9.18 0.03 13.44 degComps 7.72 0.22 7.94 degPlot 7.50 0.05 7.55 degColors 6.41 0.26 6.67 significants 6.34 0.01 6.36 degQC 5.45 0.04 5.50 degMV 5.39 0.04 5.42 degMean 5.23 0.03 5.26 degPlotWide 5.20 0.02 5.22 degSummary 4.26 0.04 9.00 ** running examples for arch 'x64' ... OK Examples with CPU or elapsed time > 5s user system elapsed degResults 10.26 0.06 10.33 degComps 9.50 0.05 9.54 degPlot 7.15 0.03 7.19 significants 6.47 0.00 6.47 degQC 6.33 0.02 6.34 DEGSet 6.10 0.08 6.19 degVar 5.78 0.04 5.82 degMB 5.78 0.03 6.60 degSummary 5.76 0.03 5.79 degPlotWide 5.64 0.03 5.67 degColors 5.63 0.03 5.66 degMV 5.30 0.11 12.08 degVB 5.06 0.04 5.10 degMean 4.35 0.09 5.51 * checking for unstated dependencies in 'tests' ... OK * checking tests ... ** running tests for arch 'i386' ... Running 'testthat.R' OK ** running tests for arch 'x64' ... Running 'testthat.R' OK * checking for unstated dependencies in vignettes ... OK * checking package vignettes in 'inst/doc' ... OK * checking running R code from vignettes ... SKIPPED * checking re-building of vignette outputs ... SKIPPED * checking PDF version of manual ... OK * DONE Status: 2 NOTEs See 'C:/Users/biocbuild/bbs-3.9-bioc/meat/DEGreport.Rcheck/00check.log' for details.
DEGreport.Rcheck/00install.out
##############################################################################
##############################################################################
###
### Running command:
###
### C:\cygwin\bin\curl.exe -O https://malbec2.bioconductor.org/BBS/3.9/bioc/src/contrib/DEGreport_1.20.0.tar.gz && rm -rf DEGreport.buildbin-libdir && mkdir DEGreport.buildbin-libdir && C:\Users\biocbuild\bbs-3.9-bioc\R\bin\R.exe CMD INSTALL --merge-multiarch --build --library=DEGreport.buildbin-libdir DEGreport_1.20.0.tar.gz && C:\Users\biocbuild\bbs-3.9-bioc\R\bin\R.exe CMD INSTALL DEGreport_1.20.0.zip && rm DEGreport_1.20.0.tar.gz DEGreport_1.20.0.zip
###
##############################################################################
##############################################################################
% Total % Received % Xferd Average Speed Time Time Time Current
Dload Upload Total Spent Left Speed
0 0 0 0 0 0 0 0 --:--:-- --:--:-- --:--:-- 0
100 17.7M 100 17.7M 0 0 69.3M 0 --:--:-- --:--:-- --:--:-- 71.1M
install for i386
* installing *source* package 'DEGreport' ...
** using staged installation
** R
** data
** inst
** byte-compile and prepare package for lazy loading
** help
*** installing help indices
converting help for package 'DEGreport'
finding HTML links ... done
DEGSet html
DEGreport-deprecated html
createReport html
deg html
degCheckFactors html
degColors html
degComps html
degCorCov html
degCovariates html
degDefault html
degFilter html
degMA html
finding level-2 HTML links ... done
degMB html
degMDS html
degMV html
degMean html
degMerge html
degObj html
degPCA html
degPatterns html
degPlot html
degPlotCluster html
degPlotWide html
degQC html
degResults html
degSignature html
degSummary html
degVB html
degVar html
degVolcano html
geneInfo html
geom_cor html
humanGender html
significants html
** building package indices
** installing vignettes
** testing if installed package can be loaded from temporary location
** testing if installed package can be loaded from final location
** testing if installed package keeps a record of temporary installation path
install for x64
* installing *source* package 'DEGreport' ...
** testing if installed package can be loaded
* MD5 sums
packaged installation of 'DEGreport' as DEGreport_1.20.0.zip
* DONE (DEGreport)
* installing to library 'C:/Users/biocbuild/bbs-3.9-bioc/R/library'
package 'DEGreport' successfully unpacked and MD5 sums checked
|
DEGreport.Rcheck/tests_i386/testthat.Rout
R version 3.6.1 (2019-07-05) -- "Action of the Toes"
Copyright (C) 2019 The R Foundation for Statistical Computing
Platform: i386-w64-mingw32/i386 (32-bit)
R is free software and comes with ABSOLUTELY NO WARRANTY.
You are welcome to redistribute it under certain conditions.
Type 'license()' or 'licence()' for distribution details.
R is a collaborative project with many contributors.
Type 'contributors()' for more information and
'citation()' on how to cite R or R packages in publications.
Type 'demo()' for some demos, 'help()' for on-line help, or
'help.start()' for an HTML browser interface to help.
Type 'q()' to quit R.
> library(testthat)
> library(edgeR)
Loading required package: limma
> library(DESeq2)
Loading required package: S4Vectors
Loading required package: stats4
Loading required package: BiocGenerics
Loading required package: parallel
Attaching package: 'BiocGenerics'
The following objects are masked from 'package:parallel':
clusterApply, clusterApplyLB, clusterCall, clusterEvalQ,
clusterExport, clusterMap, parApply, parCapply, parLapply,
parLapplyLB, parRapply, parSapply, parSapplyLB
The following object is masked from 'package:limma':
plotMA
The following objects are masked from 'package:stats':
IQR, mad, sd, var, xtabs
The following objects are masked from 'package:base':
Filter, Find, Map, Position, Reduce, anyDuplicated, append,
as.data.frame, basename, cbind, colnames, dirname, do.call,
duplicated, eval, evalq, get, grep, grepl, intersect, is.unsorted,
lapply, mapply, match, mget, order, paste, pmax, pmax.int, pmin,
pmin.int, rank, rbind, rownames, sapply, setdiff, sort, table,
tapply, union, unique, unsplit, which, which.max, which.min
Attaching package: 'S4Vectors'
The following object is masked from 'package:base':
expand.grid
Loading required package: IRanges
Attaching package: 'IRanges'
The following object is masked from 'package:grDevices':
windows
Loading required package: GenomicRanges
Loading required package: GenomeInfoDb
Loading required package: SummarizedExperiment
Loading required package: Biobase
Welcome to Bioconductor
Vignettes contain introductory material; view with
'browseVignettes()'. To cite Bioconductor, see
'citation("Biobase")', and for packages 'citation("pkgname")'.
Loading required package: DelayedArray
Loading required package: matrixStats
Attaching package: 'matrixStats'
The following objects are masked from 'package:Biobase':
anyMissing, rowMedians
Loading required package: BiocParallel
Attaching package: 'DelayedArray'
The following objects are masked from 'package:matrixStats':
colMaxs, colMins, colRanges, rowMaxs, rowMins, rowRanges
The following objects are masked from 'package:base':
aperm, apply, rowsum
> library(DEGreport)
>
> test_check("DEGreport")
== testthat results ===========================================================
[ OK: 62 | SKIPPED: 0 | WARNINGS: 3 | FAILED: 0 ]
>
> proc.time()
user system elapsed
31.79 1.28 33.06
|
DEGreport.Rcheck/tests_x64/testthat.Rout
R version 3.6.1 (2019-07-05) -- "Action of the Toes"
Copyright (C) 2019 The R Foundation for Statistical Computing
Platform: x86_64-w64-mingw32/x64 (64-bit)
R is free software and comes with ABSOLUTELY NO WARRANTY.
You are welcome to redistribute it under certain conditions.
Type 'license()' or 'licence()' for distribution details.
R is a collaborative project with many contributors.
Type 'contributors()' for more information and
'citation()' on how to cite R or R packages in publications.
Type 'demo()' for some demos, 'help()' for on-line help, or
'help.start()' for an HTML browser interface to help.
Type 'q()' to quit R.
> library(testthat)
> library(edgeR)
Loading required package: limma
> library(DESeq2)
Loading required package: S4Vectors
Loading required package: stats4
Loading required package: BiocGenerics
Loading required package: parallel
Attaching package: 'BiocGenerics'
The following objects are masked from 'package:parallel':
clusterApply, clusterApplyLB, clusterCall, clusterEvalQ,
clusterExport, clusterMap, parApply, parCapply, parLapply,
parLapplyLB, parRapply, parSapply, parSapplyLB
The following object is masked from 'package:limma':
plotMA
The following objects are masked from 'package:stats':
IQR, mad, sd, var, xtabs
The following objects are masked from 'package:base':
Filter, Find, Map, Position, Reduce, anyDuplicated, append,
as.data.frame, basename, cbind, colnames, dirname, do.call,
duplicated, eval, evalq, get, grep, grepl, intersect, is.unsorted,
lapply, mapply, match, mget, order, paste, pmax, pmax.int, pmin,
pmin.int, rank, rbind, rownames, sapply, setdiff, sort, table,
tapply, union, unique, unsplit, which, which.max, which.min
Attaching package: 'S4Vectors'
The following object is masked from 'package:base':
expand.grid
Loading required package: IRanges
Attaching package: 'IRanges'
The following object is masked from 'package:grDevices':
windows
Loading required package: GenomicRanges
Loading required package: GenomeInfoDb
Loading required package: SummarizedExperiment
Loading required package: Biobase
Welcome to Bioconductor
Vignettes contain introductory material; view with
'browseVignettes()'. To cite Bioconductor, see
'citation("Biobase")', and for packages 'citation("pkgname")'.
Loading required package: DelayedArray
Loading required package: matrixStats
Attaching package: 'matrixStats'
The following objects are masked from 'package:Biobase':
anyMissing, rowMedians
Loading required package: BiocParallel
Attaching package: 'DelayedArray'
The following objects are masked from 'package:matrixStats':
colMaxs, colMins, colRanges, rowMaxs, rowMins, rowRanges
The following objects are masked from 'package:base':
aperm, apply, rowsum
> library(DEGreport)
>
> test_check("DEGreport")
== testthat results ===========================================================
[ OK: 62 | SKIPPED: 0 | WARNINGS: 3 | FAILED: 0 ]
>
> proc.time()
user system elapsed
45.68 0.79 46.46
|
|
DEGreport.Rcheck/examples_i386/DEGreport-Ex.timings
|
DEGreport.Rcheck/examples_x64/DEGreport-Ex.timings
|