| Back to Multiple platform build/check report for BioC 3.9 |
|
This page was generated on 2019-10-16 12:43:45 -0400 (Wed, 16 Oct 2019).
| Package 47/1741 | Hostname | OS / Arch | INSTALL | BUILD | CHECK | BUILD BIN | ||||||
| AMARETTO 1.0.0 Olivier Gevaert
| malbec2 | Linux (Ubuntu 18.04.2 LTS) / x86_64 | OK | OK | OK | |||||||
| tokay2 | Windows Server 2012 R2 Standard / x64 | OK | OK | [ OK ] | OK | |||||||
| celaya2 | OS X 10.11.6 El Capitan / x86_64 | OK | OK | OK | OK |
| Package: AMARETTO |
| Version: 1.0.0 |
| Command: C:\Users\biocbuild\bbs-3.9-bioc\R\bin\R.exe CMD check --force-multiarch --install=check:AMARETTO.install-out.txt --library=C:\Users\biocbuild\bbs-3.9-bioc\R\library --no-vignettes --timings AMARETTO_1.0.0.tar.gz |
| StartedAt: 2019-10-16 01:53:38 -0400 (Wed, 16 Oct 2019) |
| EndedAt: 2019-10-16 02:01:50 -0400 (Wed, 16 Oct 2019) |
| EllapsedTime: 491.8 seconds |
| RetCode: 0 |
| Status: OK |
| CheckDir: AMARETTO.Rcheck |
| Warnings: 0 |
##############################################################################
##############################################################################
###
### Running command:
###
### C:\Users\biocbuild\bbs-3.9-bioc\R\bin\R.exe CMD check --force-multiarch --install=check:AMARETTO.install-out.txt --library=C:\Users\biocbuild\bbs-3.9-bioc\R\library --no-vignettes --timings AMARETTO_1.0.0.tar.gz
###
##############################################################################
##############################################################################
* using log directory 'C:/Users/biocbuild/bbs-3.9-bioc/meat/AMARETTO.Rcheck'
* using R version 3.6.1 (2019-07-05)
* using platform: x86_64-w64-mingw32 (64-bit)
* using session charset: ISO8859-1
* using option '--no-vignettes'
* checking for file 'AMARETTO/DESCRIPTION' ... OK
* checking extension type ... Package
* this is package 'AMARETTO' version '1.0.0'
* package encoding: UTF-8
* checking package namespace information ... OK
* checking package dependencies ... OK
* checking if this is a source package ... OK
* checking if there is a namespace ... OK
* checking for hidden files and directories ... OK
* checking for portable file names ... OK
* checking whether package 'AMARETTO' can be installed ... OK
* checking installed package size ... NOTE
installed size is 5.6Mb
sub-directories of 1Mb or more:
extdata 3.8Mb
* checking package directory ... OK
* checking 'build' directory ... OK
* checking DESCRIPTION meta-information ... NOTE
License components with restrictions not permitted:
Apache License (== 2.0) + file LICENSE
'LinkingTo' field is unused: package has no 'src' directory
* checking top-level files ... OK
* checking for left-over files ... OK
* checking index information ... OK
* checking package subdirectories ... OK
* checking R files for non-ASCII characters ... OK
* checking R files for syntax errors ... OK
* loading checks for arch 'i386'
** checking whether the package can be loaded ... OK
** checking whether the package can be loaded with stated dependencies ... OK
** checking whether the package can be unloaded cleanly ... OK
** checking whether the namespace can be loaded with stated dependencies ... OK
** checking whether the namespace can be unloaded cleanly ... OK
* loading checks for arch 'x64'
** checking whether the package can be loaded ... OK
** checking whether the package can be loaded with stated dependencies ... OK
** checking whether the package can be unloaded cleanly ... OK
** checking whether the namespace can be loaded with stated dependencies ... OK
** checking whether the namespace can be unloaded cleanly ... OK
* checking dependencies in R code ... OK
* checking S3 generic/method consistency ... OK
* checking replacement functions ... OK
* checking foreign function calls ... OK
* checking R code for possible problems ... OK
* checking Rd files ... OK
* checking Rd metadata ... OK
* checking Rd cross-references ... OK
* checking for missing documentation entries ... OK
* checking for code/documentation mismatches ... OK
* checking Rd \usage sections ... OK
* checking Rd contents ... OK
* checking for unstated dependencies in examples ... OK
* checking contents of 'data' directory ... OK
* checking data for non-ASCII characters ... OK
* checking data for ASCII and uncompressed saves ... OK
* checking files in 'vignettes' ... OK
* checking examples ...
** running examples for arch 'i386' ... OK
Examples with CPU or elapsed time > 5s
user system elapsed
AMARETTO_Download 12.70 1.85 21.11
AMARETTO_VisualizeModule 2.95 0.05 15.12
AMARETTO_CreateModuleData 1.15 0.06 10.91
AMARETTO_ExportResults 1.13 0.05 12.25
AMARETTO_Run 0.98 0.01 11.72
AMARETTO_EvaluateTestSet 0.94 0.04 9.53
AMARETTO_CreateRegulatorPrograms 0.91 0.03 11.37
** running examples for arch 'x64' ... OK
Examples with CPU or elapsed time > 5s
user system elapsed
AMARETTO_Download 12.36 1.56 18.06
AMARETTO_VisualizeModule 3.15 0.06 12.85
AMARETTO_EvaluateTestSet 1.68 0.04 12.06
AMARETTO_CreateRegulatorPrograms 1.28 0.05 12.18
AMARETTO_ExportResults 1.10 0.07 13.35
AMARETTO_CreateModuleData 1.06 0.04 11.45
AMARETTO_Run 0.93 0.02 10.22
* checking for unstated dependencies in 'tests' ... OK
* checking tests ...
** running tests for arch 'i386' ...
Running 'testthat.R'
OK
** running tests for arch 'x64' ...
Running 'testthat.R'
OK
* checking for unstated dependencies in vignettes ... OK
* checking package vignettes in 'inst/doc' ... OK
* checking running R code from vignettes ... SKIPPED
* checking re-building of vignette outputs ... SKIPPED
* checking PDF version of manual ... OK
* DONE
Status: 2 NOTEs
See
'C:/Users/biocbuild/bbs-3.9-bioc/meat/AMARETTO.Rcheck/00check.log'
for details.
AMARETTO.Rcheck/00install.out
##############################################################################
##############################################################################
###
### Running command:
###
### C:\cygwin\bin\curl.exe -O https://malbec2.bioconductor.org/BBS/3.9/bioc/src/contrib/AMARETTO_1.0.0.tar.gz && rm -rf AMARETTO.buildbin-libdir && mkdir AMARETTO.buildbin-libdir && C:\Users\biocbuild\bbs-3.9-bioc\R\bin\R.exe CMD INSTALL --merge-multiarch --build --library=AMARETTO.buildbin-libdir AMARETTO_1.0.0.tar.gz && C:\Users\biocbuild\bbs-3.9-bioc\R\bin\R.exe CMD INSTALL AMARETTO_1.0.0.zip && rm AMARETTO_1.0.0.tar.gz AMARETTO_1.0.0.zip
###
##############################################################################
##############################################################################
% Total % Received % Xferd Average Speed Time Time Time Current
Dload Upload Total Spent Left Speed
0 0 0 0 0 0 0 0 --:--:-- --:--:-- --:--:-- 0
100 4769k 100 4769k 0 0 43.5M 0 --:--:-- --:--:-- --:--:-- 46.5M
install for i386
* installing *source* package 'AMARETTO' ...
** using staged installation
** R
** data
*** moving datasets to lazyload DB
** inst
** byte-compile and prepare package for lazy loading
** help
*** installing help indices
converting help for package 'AMARETTO'
finding HTML links ... done
AMARETTO_CreateModuleData html
AMARETTO_CreateRegulatorPrograms html
AMARETTO_Download html
AMARETTO_EvaluateTestSet html
AMARETTO_ExportResults html
AMARETTO_HTMLreport html
AMARETTO_Initialize html
AMARETTO_LarsenBased html
AMARETTO_LearnRegulatoryProgramsLarsen
html
AMARETTO_Preprocess html
AMARETTO_ReassignGenesToClusters html
AMARETTO_Run html
AMARETTO_VisualizeModule html
BatchData html
Beta.NA html
ComBat_NoFiles html
CreateRegulatorData html
Driver_Genes html
FindTranscriptionallyPredictive_CNV html
GeneSetDescription html
GmtFromModules html
HyperGTestGeneEnrichment html
L html
Lambda_Sequence html
Preprocess_MAdata html
ProcessedDataLIHC html
Save_CancerSite html
TCGA_BatchCorrection_MolecularData html
TCGA_GENERIC_BatchCorrection html
TCGA_GENERIC_CheckBatchEffect html
TCGA_GENERIC_CleanUpSampleNames html
TCGA_GENERIC_GetSampleGroups html
TCGA_GENERIC_MergeData html
TCGA_Load_GISTICdata html
TCGA_Load_MolecularData html
aprior html
bprior html
build.design html
cacheResource html
computeGisticURL html
design.mat html
filter.absent html
geneFiltering html
get_firehoseData html
int.eprior html
it.sol html
list.batch html
postmean html
postvar html
printf html
readGMT html
trim.dat html
write_gct html
** building package indices
** installing vignettes
** testing if installed package can be loaded from temporary location
** testing if installed package can be loaded from final location
** testing if installed package keeps a record of temporary installation path
install for x64
* installing *source* package 'AMARETTO' ...
** testing if installed package can be loaded
* MD5 sums
packaged installation of 'AMARETTO' as AMARETTO_1.0.0.zip
* DONE (AMARETTO)
* installing to library 'C:/Users/biocbuild/bbs-3.9-bioc/R/library'
package 'AMARETTO' successfully unpacked and MD5 sums checked
|
AMARETTO.Rcheck/tests_i386/testthat.Rout
R version 3.6.1 (2019-07-05) -- "Action of the Toes"
Copyright (C) 2019 The R Foundation for Statistical Computing
Platform: i386-w64-mingw32/i386 (32-bit)
R is free software and comes with ABSOLUTELY NO WARRANTY.
You are welcome to redistribute it under certain conditions.
Type 'license()' or 'licence()' for distribution details.
R is a collaborative project with many contributors.
Type 'contributors()' for more information and
'citation()' on how to cite R or R packages in publications.
Type 'demo()' for some demos, 'help()' for on-line help, or
'help.start()' for an HTML browser interface to help.
Type 'q()' to quit R.
> library(testthat)
> library(AMARETTO)
Loading required package: impute
Loading required package: doParallel
Loading required package: foreach
Loading required package: iterators
Loading required package: parallel
Loading required package: dplyr
Attaching package: 'dplyr'
The following object is masked from 'package:testthat':
matches
The following objects are masked from 'package:stats':
filter, lag
The following objects are masked from 'package:base':
intersect, setdiff, setequal, union
Loading required package: ComplexHeatmap
Loading required package: grid
========================================
ComplexHeatmap version 2.0.0
Bioconductor page: http://bioconductor.org/packages/ComplexHeatmap/
Github page: https://github.com/jokergoo/ComplexHeatmap
Documentation: http://jokergoo.github.io/ComplexHeatmap-reference
If you use it in published research, please cite:
Gu, Z. Complex heatmaps reveal patterns and correlations in multidimensional
genomic data. Bioinformatics 2016.
========================================
>
> test_check("AMARETTO")
Found 1 CNV driver genes.
Found 24 MethylMix driver genes.
Found a total of 24 unique drivers with your selected method.
Running AMARETTO on 80 genes and 45 samples.
Stopping if less then 0.8 genes reassigned.
Autoregulation is turned ON.
Elapsed time is 8.440000 seconds
Average nr of regulators per module: 6.600000
Elapsed time is 0.120000 seconds
Nr of reassignments is: 11
Elapsed time is 1.460000 seconds
Average nr of regulators per module: 7.600000
Elapsed time is 0.140000 seconds
Nr of reassignments is: 4
Elapsed time is 0.950000 seconds
Average nr of regulators per module: 7.600000
Elapsed time is 0.130000 seconds
Nr of reassignments is: 2
Elapsed time is 1.010000 seconds
Average nr of regulators per module: 7.800000
Elapsed time is 0.110000 seconds
Nr of reassignments is: 0
Elapsed time is 12.360000 seconds
== testthat results ===========================================================
[ OK: 43 | SKIPPED: 0 | WARNINGS: 0 | FAILED: 0 ]
>
> proc.time()
user system elapsed
9.71 0.76 22.31
|
AMARETTO.Rcheck/tests_x64/testthat.Rout
R version 3.6.1 (2019-07-05) -- "Action of the Toes"
Copyright (C) 2019 The R Foundation for Statistical Computing
Platform: x86_64-w64-mingw32/x64 (64-bit)
R is free software and comes with ABSOLUTELY NO WARRANTY.
You are welcome to redistribute it under certain conditions.
Type 'license()' or 'licence()' for distribution details.
R is a collaborative project with many contributors.
Type 'contributors()' for more information and
'citation()' on how to cite R or R packages in publications.
Type 'demo()' for some demos, 'help()' for on-line help, or
'help.start()' for an HTML browser interface to help.
Type 'q()' to quit R.
> library(testthat)
> library(AMARETTO)
Loading required package: impute
Loading required package: doParallel
Loading required package: foreach
Loading required package: iterators
Loading required package: parallel
Loading required package: dplyr
Attaching package: 'dplyr'
The following object is masked from 'package:testthat':
matches
The following objects are masked from 'package:stats':
filter, lag
The following objects are masked from 'package:base':
intersect, setdiff, setequal, union
Loading required package: ComplexHeatmap
Loading required package: grid
========================================
ComplexHeatmap version 2.0.0
Bioconductor page: http://bioconductor.org/packages/ComplexHeatmap/
Github page: https://github.com/jokergoo/ComplexHeatmap
Documentation: http://jokergoo.github.io/ComplexHeatmap-reference
If you use it in published research, please cite:
Gu, Z. Complex heatmaps reveal patterns and correlations in multidimensional
genomic data. Bioinformatics 2016.
========================================
>
> test_check("AMARETTO")
Found 1 CNV driver genes.
Found 24 MethylMix driver genes.
Found a total of 24 unique drivers with your selected method.
Running AMARETTO on 80 genes and 45 samples.
Stopping if less then 0.8 genes reassigned.
Autoregulation is turned ON.
Elapsed time is 12.780000 seconds
Average nr of regulators per module: 8.200000
Elapsed time is 0.110000 seconds
Nr of reassignments is: 7
Elapsed time is 1.580000 seconds
Average nr of regulators per module: 7.200000
Elapsed time is 0.130000 seconds
Nr of reassignments is: 5
Elapsed time is 1.170000 seconds
Average nr of regulators per module: 9.000000
Elapsed time is 0.190000 seconds
Nr of reassignments is: 4
Elapsed time is 2.150000 seconds
Average nr of regulators per module: 8.000000
Elapsed time is 0.110000 seconds
Nr of reassignments is: 2
Elapsed time is 1.250000 seconds
Average nr of regulators per module: 9.000000
Elapsed time is 0.140000 seconds
Nr of reassignments is: 1
Elapsed time is 2.000000 seconds
Average nr of regulators per module: 8.400000
Elapsed time is 0.130000 seconds
Nr of reassignments is: 0
Elapsed time is 21.740000 seconds
== testthat results ===========================================================
[ OK: 43 | SKIPPED: 0 | WARNINGS: 0 | FAILED: 0 ]
>
> proc.time()
user system elapsed
12.31 0.56 32.67
|
|
AMARETTO.Rcheck/examples_i386/AMARETTO-Ex.timings
|
AMARETTO.Rcheck/examples_x64/AMARETTO-Ex.timings
|