| Back to Multiple platform build/check report for BioC 3.9 |
|
This page was generated on 2019-04-09 11:56:02 -0400 (Tue, 09 Apr 2019).
| Package 1699/1703 | Hostname | OS / Arch | INSTALL | BUILD | CHECK | BUILD BIN | ||||||
| yaqcaffy 1.43.0 Laurent Gatto
| malbec2 | Linux (Ubuntu 18.04.2 LTS) / x86_64 | OK | OK | OK | |||||||
| tokay2 | Windows Server 2012 R2 Standard / x64 | [ OK ] | OK | OK | OK | |||||||
| celaya2 | OS X 10.11.6 El Capitan / x86_64 | OK | OK | OK | OK | |||||||
| merida2 | OS X 10.11.6 El Capitan / x86_64 | OK | OK | OK | OK |
| Package: yaqcaffy |
| Version: 1.43.0 |
| Command: C:\cygwin\bin\curl.exe -O https://malbec2.bioconductor.org/BBS/3.9/bioc/src/contrib/yaqcaffy_1.43.0.tar.gz && rm -rf yaqcaffy.buildbin-libdir && mkdir yaqcaffy.buildbin-libdir && C:\Users\biocbuild\bbs-3.9-bioc\R\bin\R.exe CMD INSTALL --merge-multiarch --build --library=yaqcaffy.buildbin-libdir yaqcaffy_1.43.0.tar.gz && C:\Users\biocbuild\bbs-3.9-bioc\R\bin\R.exe CMD INSTALL yaqcaffy_1.43.0.zip && rm yaqcaffy_1.43.0.tar.gz yaqcaffy_1.43.0.zip |
| StartedAt: 2019-04-08 19:18:43 -0400 (Mon, 08 Apr 2019) |
| EndedAt: 2019-04-08 19:19:35 -0400 (Mon, 08 Apr 2019) |
| EllapsedTime: 52.5 seconds |
| RetCode: 0 |
| Status: OK |
##############################################################################
##############################################################################
###
### Running command:
###
### C:\cygwin\bin\curl.exe -O https://malbec2.bioconductor.org/BBS/3.9/bioc/src/contrib/yaqcaffy_1.43.0.tar.gz && rm -rf yaqcaffy.buildbin-libdir && mkdir yaqcaffy.buildbin-libdir && C:\Users\biocbuild\bbs-3.9-bioc\R\bin\R.exe CMD INSTALL --merge-multiarch --build --library=yaqcaffy.buildbin-libdir yaqcaffy_1.43.0.tar.gz && C:\Users\biocbuild\bbs-3.9-bioc\R\bin\R.exe CMD INSTALL yaqcaffy_1.43.0.zip && rm yaqcaffy_1.43.0.tar.gz yaqcaffy_1.43.0.zip
###
##############################################################################
##############################################################################
% Total % Received % Xferd Average Speed Time Time Time Current
Dload Upload Total Spent Left Speed
0 0 0 0 0 0 0 0 --:--:-- --:--:-- --:--:-- 0
100 43710 100 43710 0 0 572k 0 --:--:-- --:--:-- --:--:-- 618k
install for i386
* installing *source* package 'yaqcaffy' ...
** R
** byte-compile and prepare package for lazy loading
Creating a generic function for 'identical' from package 'base' in package 'yaqcaffy'
** help
*** installing help indices
converting help for package 'yaqcaffy'
finding HTML links ... done
YAQCStats-class html
finding level-2 HTML links ... done
YaqcControlProbes-class html
getAllInt html
getBioProbes html
getOutliers html
getQCRatios html
getRatioProbes html
getSpikeProbes html
probeSelectionInterface html
reprodPlot html
yaqc.affy html
yaqc.plot html
** building package indices
** installing vignettes
** testing if installed package can be loaded from temporary location
** testing if installed package can be loaded from final location
** testing if installed package keeps a record of temporary installation path
install for x64
* installing *source* package 'yaqcaffy' ...
** testing if installed package can be loaded
* MD5 sums
packaged installation of 'yaqcaffy' as yaqcaffy_1.43.0.zip
* DONE (yaqcaffy)
* installing to library 'C:/Users/biocbuild/bbs-3.9-bioc/R/library'
package 'yaqcaffy' successfully unpacked and MD5 sums checked