| Back to Multiple platform build/check report for BioC 3.9 |
|
This page was generated on 2019-04-09 11:53:16 -0400 (Tue, 09 Apr 2019).
| Package 1678/1703 | Hostname | OS / Arch | INSTALL | BUILD | CHECK | BUILD BIN | ||||||
| vsn 3.51.0 Wolfgang Huber
| malbec2 | Linux (Ubuntu 18.04.2 LTS) / x86_64 | OK | OK | OK | |||||||
| tokay2 | Windows Server 2012 R2 Standard / x64 | OK | OK | WARNINGS | [ OK ] | |||||||
| celaya2 | OS X 10.11.6 El Capitan / x86_64 | OK | OK | OK | OK | |||||||
| merida2 | OS X 10.11.6 El Capitan / x86_64 | OK | OK | OK | OK |
| Package: vsn |
| Version: 3.51.0 |
| Command: rm -rf vsn.buildbin-libdir && mkdir vsn.buildbin-libdir && C:\Users\biocbuild\bbs-3.9-bioc\R\bin\R.exe CMD INSTALL --merge-multiarch --build --library=vsn.buildbin-libdir vsn_3.51.0.tar.gz |
| StartedAt: 2019-04-09 09:10:42 -0400 (Tue, 09 Apr 2019) |
| EndedAt: 2019-04-09 09:11:34 -0400 (Tue, 09 Apr 2019) |
| EllapsedTime: 52.2 seconds |
| RetCode: 0 |
| Status: OK |
| PackageFile: vsn_3.51.0.zip |
| PackageFileSize: 1.512 MiB |
##############################################################################
##############################################################################
###
### Running command:
###
### rm -rf vsn.buildbin-libdir && mkdir vsn.buildbin-libdir && C:\Users\biocbuild\bbs-3.9-bioc\R\bin\R.exe CMD INSTALL --merge-multiarch --build --library=vsn.buildbin-libdir vsn_3.51.0.tar.gz
###
##############################################################################
##############################################################################
install for i386
* installing *source* package 'vsn' ...
** libs
C:/Rtools/mingw_32/bin/gcc -I"C:/Users/BIOCBU˜1/BBS-3˜1.9-B/R/include" -DNDEBUG -I"C:/extsoft/include" -O3 -Wall -std=gnu99 -mtune=generic -c init.c -o init.o
C:/Rtools/mingw_32/bin/gcc -I"C:/Users/BIOCBU˜1/BBS-3˜1.9-B/R/include" -DNDEBUG -I"C:/extsoft/include" -O3 -Wall -std=gnu99 -mtune=generic -c vsn.c -o vsn.o
C:/Rtools/mingw_32/bin/gcc -I"C:/Users/BIOCBU˜1/BBS-3˜1.9-B/R/include" -DNDEBUG -I"C:/extsoft/include" -O3 -Wall -std=gnu99 -mtune=generic -c vsn2.c -o vsn2.o
C:/Rtools/mingw_32/bin/gcc -shared -s -static-libgcc -o vsn.dll tmp.def init.o vsn.o vsn2.o -LC:/extsoft/lib/i386 -LC:/extsoft/lib -LC:/Users/BIOCBU˜1/BBS-3˜1.9-B/R/bin/i386 -lR
installing to C:/Users/biocbuild/bbs-3.9-bioc/meat/vsn.buildbin-libdir/00LOCK-vsn/00new/vsn/libs/i386
** R
** data
** inst
** byte-compile and prepare package for lazy loading
** help
*** installing help indices
converting help for package 'vsn'
finding HTML links ... done
class.vsn html
class.vsnInput html
justvsn html
kidney html
lymphoma html
meanSdPlot html
Rd warning: C:/Users/biocbuild/bbs-3.9-bioc/tmpdir/Rtmpa0I743/R.INSTALL10683e546d0e/vsn/man/meanSdPlot.Rd:43: file link 'stat_binhex' in package 'ggplot2' does not exist and so has been treated as a topic
Rd warning: C:/Users/biocbuild/bbs-3.9-bioc/tmpdir/Rtmpa0I743/R.INSTALL10683e546d0e/vsn/man/meanSdPlot.Rd:44: file link 'stat_binhex' in package 'ggplot2' does not exist and so has been treated as a topic
normalize.AffyBatch.vsn html
sagmbSimulateData html
scalingFactorTransformation html
vsn-package html
vsn2 html
vsn2trsf html
vsnLikelihood html
** building package indices
** installing vignettes
** testing if installed package can be loaded from temporary location
** testing if installed package can be loaded from final location
** testing if installed package keeps a record of temporary installation path
install for x64
* installing *source* package 'vsn' ...
** libs
C:/Rtools/mingw_64/bin/gcc -I"C:/Users/BIOCBU˜1/BBS-3˜1.9-B/R/include" -DNDEBUG -I"C:/extsoft/include" -O2 -Wall -std=gnu99 -mtune=generic -c init.c -o init.o
C:/Rtools/mingw_64/bin/gcc -I"C:/Users/BIOCBU˜1/BBS-3˜1.9-B/R/include" -DNDEBUG -I"C:/extsoft/include" -O2 -Wall -std=gnu99 -mtune=generic -c vsn.c -o vsn.o
C:/Rtools/mingw_64/bin/gcc -I"C:/Users/BIOCBU˜1/BBS-3˜1.9-B/R/include" -DNDEBUG -I"C:/extsoft/include" -O2 -Wall -std=gnu99 -mtune=generic -c vsn2.c -o vsn2.o
C:/Rtools/mingw_64/bin/gcc -shared -s -static-libgcc -o vsn.dll tmp.def init.o vsn.o vsn2.o -LC:/extsoft/lib/x64 -LC:/extsoft/lib -LC:/Users/BIOCBU˜1/BBS-3˜1.9-B/R/bin/x64 -lR
installing to C:/Users/biocbuild/bbs-3.9-bioc/meat/vsn.buildbin-libdir/vsn/libs/x64
** testing if installed package can be loaded
* MD5 sums
packaged installation of 'vsn' as vsn_3.51.0.zip
* DONE (vsn)