| Back to Multiple platform build/check report for BioC 3.9 |
|
This page was generated on 2019-04-09 11:31:40 -0400 (Tue, 09 Apr 2019).
| Package 1653/1703 | Hostname | OS / Arch | INSTALL | BUILD | CHECK | BUILD BIN | ||||||
| tweeDEseq 1.29.1 Juan R Gonzalez
| malbec2 | Linux (Ubuntu 18.04.2 LTS) / x86_64 | [ OK ] | OK | OK | |||||||
| tokay2 | Windows Server 2012 R2 Standard / x64 | OK | OK | WARNINGS | OK | |||||||
| celaya2 | OS X 10.11.6 El Capitan / x86_64 | OK | OK | OK | OK | |||||||
| merida2 | OS X 10.11.6 El Capitan / x86_64 | OK | OK | OK | OK |
| Package: tweeDEseq |
| Version: 1.29.1 |
| Command: /home/biocbuild/bbs-3.9-bioc/R/bin/R CMD INSTALL tweeDEseq |
| StartedAt: 2019-04-08 18:05:49 -0400 (Mon, 08 Apr 2019) |
| EndedAt: 2019-04-08 18:05:58 -0400 (Mon, 08 Apr 2019) |
| EllapsedTime: 8.3 seconds |
| RetCode: 0 |
| Status: OK |
##############################################################################
##############################################################################
###
### Running command:
###
### /home/biocbuild/bbs-3.9-bioc/R/bin/R CMD INSTALL tweeDEseq
###
##############################################################################
##############################################################################
* installing to library ‘/home/biocbuild/bbs-3.9-bioc/R/library’
* installing *source* package ‘tweeDEseq’ ...
** using staged installation
** libs
gcc -I"/home/biocbuild/bbs-3.9-bioc/R/include" -DNDEBUG -I/usr/local/include -fpic -g -O2 -Wall -c cov_wt_C.c -o cov_wt_C.o
cov_wt_C.c: In function ‘cov_wt_C’:
cov_wt_C.c:79:14: warning: ‘wvar’ may be used uninitialized in this function [-Wmaybe-uninitialized]
free(aux), free(wvar), free(y);
^˜˜˜˜˜˜˜˜˜
cov_wt_C.c: In function ‘momentEstimates_wt_C’:
cov_wt_C.c:154:12: warning: ‘moments’ may be used uninitialized in this function [-Wmaybe-uninitialized]
free(y), free(moments), free(aux);
^˜˜˜˜˜˜˜˜˜˜˜˜
gcc -I"/home/biocbuild/bbs-3.9-bioc/R/include" -DNDEBUG -I/usr/local/include -fpic -g -O2 -Wall -c init_tweeDEseq.c -o init_tweeDEseq.o
gcc -I"/home/biocbuild/bbs-3.9-bioc/R/include" -DNDEBUG -I/usr/local/include -fpic -g -O2 -Wall -c loglikGlm.c -o loglikGlm.o
gcc -I"/home/biocbuild/bbs-3.9-bioc/R/include" -DNDEBUG -I/usr/local/include -fpic -g -O2 -Wall -c logprobs.c -o logprobs.o
gcc -I"/home/biocbuild/bbs-3.9-bioc/R/include" -DNDEBUG -I/usr/local/include -fpic -g -O2 -Wall -c permtest.c -o permtest.o
gcc -I"/home/biocbuild/bbs-3.9-bioc/R/include" -DNDEBUG -I/usr/local/include -fpic -g -O2 -Wall -c probs.c -o probs.o
gcc -I"/home/biocbuild/bbs-3.9-bioc/R/include" -DNDEBUG -I/usr/local/include -fpic -g -O2 -Wall -c zhu2.c -o zhu2.o
gcc -I"/home/biocbuild/bbs-3.9-bioc/R/include" -DNDEBUG -I/usr/local/include -fpic -g -O2 -Wall -c zhu3.c -o zhu3.o
gcc -shared -L/home/biocbuild/bbs-3.9-bioc/R/lib -L/usr/local/lib -o tweeDEseq.so cov_wt_C.o init_tweeDEseq.o loglikGlm.o logprobs.o permtest.o probs.o zhu2.o zhu3.o -L/home/biocbuild/bbs-3.9-bioc/R/lib -lR
installing to /home/biocbuild/bbs-3.9-bioc/R/library/00LOCK-tweeDEseq/00new/tweeDEseq/libs
** R
** data
** inst
** byte-compile and prepare package for lazy loading
** help
*** installing help indices
** building package indices
** installing vignettes
** testing if installed package can be loaded from temporary location
** checking absolute paths in shared objects and dynamic libraries
** testing if installed package can be loaded from final location
** testing if installed package keeps a record of temporary installation path
* DONE (tweeDEseq)