| Back to Multiple platform build/check report for BioC 3.9 | 
  | 
This page was generated on 2019-04-09 12:27:05 -0400 (Tue, 09 Apr 2019).
| Package 1587/1703 | Hostname | OS / Arch | INSTALL | BUILD | CHECK | BUILD BIN | ||||||
| switchde 1.9.1 Kieran Campbell 
  | malbec2 | Linux (Ubuntu 18.04.2 LTS) / x86_64 | OK | OK | OK | |||||||
| tokay2 | Windows Server 2012 R2 Standard / x64 | OK | OK | OK | [ OK ] | |||||||
| celaya2 | OS X 10.11.6 El Capitan / x86_64 | OK | OK | OK | OK | |||||||
| merida2 | OS X 10.11.6 El Capitan / x86_64 | OK | OK | OK | OK | 
| Package: switchde | 
| Version: 1.9.1 | 
| Command: rm -rf switchde.buildbin-libdir && mkdir switchde.buildbin-libdir && C:\Users\biocbuild\bbs-3.9-bioc\R\bin\R.exe CMD INSTALL --merge-multiarch --build --library=switchde.buildbin-libdir switchde_1.9.1.tar.gz | 
| StartedAt: 2019-04-09 09:04:15 -0400 (Tue, 09 Apr 2019) | 
| EndedAt: 2019-04-09 09:05:24 -0400 (Tue, 09 Apr 2019) | 
| EllapsedTime: 69.2 seconds | 
| RetCode: 0 | 
| Status: OK | 
| PackageFile: switchde_1.9.1.zip | 
| PackageFileSize: 541.2 KiB | 
##############################################################################
##############################################################################
###
### Running command:
###
###   rm -rf switchde.buildbin-libdir && mkdir switchde.buildbin-libdir && C:\Users\biocbuild\bbs-3.9-bioc\R\bin\R.exe CMD INSTALL --merge-multiarch --build --library=switchde.buildbin-libdir switchde_1.9.1.tar.gz
###
##############################################################################
##############################################################################
install for i386
* installing *source* package 'switchde' ...
** R
** data
*** moving datasets to lazyload DB
** inst
** byte-compile and prepare package for lazy loading
** help
*** installing help indices
  converting help for package 'switchde'
    finding HTML links ... done
    ex_pseudotime                           html  
    example_sigmoid                         html  
    extract_pars                            html  
    fit_nzi_model                           html  
    fit_zi_model                            html  
    sanitise_inputs                         html  
    sigmoid                                 html  
    switchde                                html  
    switchplot                              html  
    synth_gex                               html  
** building package indices
** installing vignettes
** testing if installed package can be loaded from temporary location
** testing if installed package can be loaded from final location
** testing if installed package keeps a record of temporary installation path
install for x64
* installing *source* package 'switchde' ...
** testing if installed package can be loaded
* MD5 sums
packaged installation of 'switchde' as switchde_1.9.1.zip
* DONE (switchde)