| Back to Multiple platform build/check report for BioC 3.9 |
|
This page was generated on 2019-04-09 13:28:50 -0400 (Tue, 09 Apr 2019).
| Package 1541/1703 | Hostname | OS / Arch | INSTALL | BUILD | CHECK | BUILD BIN | ||||||
Wolfgang Kaisers
| malbec2 | Linux (Ubuntu 18.04.2 LTS) / x86_64 | ERROR | ERROR | skipped | |||||||
| tokay2 | Windows Server 2012 R2 Standard / x64 | ERROR | ERROR | skipped | skipped | |||||||
| celaya2 | OS X 10.11.6 El Capitan / x86_64 | ERROR | ERROR | skipped | skipped | |||||||
| merida2 | OS X 10.11.6 El Capitan / x86_64 | [ ERROR ] | ERROR | skipped | skipped |
| Package: spliceSites |
| Version: 1.31.1 |
| Command: /Library/Frameworks/R.framework/Versions/Current/Resources/bin/R CMD INSTALL spliceSites |
| StartedAt: 2019-04-08 18:37:26 -0400 (Mon, 08 Apr 2019) |
| EndedAt: 2019-04-08 18:38:17 -0400 (Mon, 08 Apr 2019) |
| EllapsedTime: 51.4 seconds |
| RetCode: 1 |
| Status: ERROR |
##############################################################################
##############################################################################
###
### Running command:
###
### /Library/Frameworks/R.framework/Versions/Current/Resources/bin/R CMD INSTALL spliceSites
###
##############################################################################
##############################################################################
* installing to library ‘/Library/Frameworks/R.framework/Versions/3.6/Resources/library’
* installing *source* package ‘spliceSites’ ...
** libs
clang -I"/Library/Frameworks/R.framework/Resources/include" -DNDEBUG -I/usr/local/include -fPIC -Wall -g -O2 -c spliceSites.c -o spliceSites.o
clang -dynamiclib -Wl,-headerpad_max_install_names -undefined dynamic_lookup -single_module -multiply_defined suppress -L/Library/Frameworks/R.framework/Resources/lib -L/usr/local/lib -o spliceSites.so spliceSites.o -lm -F/Library/Frameworks/R.framework/.. -framework R -Wl,-framework -Wl,CoreFoundation
installing to /Library/Frameworks/R.framework/Versions/3.6/Resources/library/spliceSites/libs
** R
Error in .install_package_code_files(".", instdir) :
files in '/Users/biocbuild/bbs-3.9-bioc/meat/spliceSites/R' missing from 'Collate' field:
zzz.R
ERROR: unable to collate and parse R files for package ‘spliceSites’
* removing ‘/Library/Frameworks/R.framework/Versions/3.6/Resources/library/spliceSites’
* restoring previous ‘/Library/Frameworks/R.framework/Versions/3.6/Resources/library/spliceSites’