| Back to Multiple platform build/check report for BioC 3.9 |
|
This page was generated on 2019-04-09 11:56:19 -0400 (Tue, 09 Apr 2019).
| Package 1523/1703 | Hostname | OS / Arch | INSTALL | BUILD | CHECK | BUILD BIN | ||||||
| snpStats 1.33.0 David Clayton
| malbec2 | Linux (Ubuntu 18.04.2 LTS) / x86_64 | OK | OK | OK | |||||||
| tokay2 | Windows Server 2012 R2 Standard / x64 | OK | OK | OK | [ OK ] | |||||||
| celaya2 | OS X 10.11.6 El Capitan / x86_64 | OK | OK | OK | OK | |||||||
| merida2 | OS X 10.11.6 El Capitan / x86_64 | OK | OK | OK | OK |
| Package: snpStats |
| Version: 1.33.0 |
| Command: rm -rf snpStats.buildbin-libdir && mkdir snpStats.buildbin-libdir && C:\Users\biocbuild\bbs-3.9-bioc\R\bin\R.exe CMD INSTALL --merge-multiarch --build --library=snpStats.buildbin-libdir snpStats_1.33.0.tar.gz |
| StartedAt: 2019-04-09 09:00:28 -0400 (Tue, 09 Apr 2019) |
| EndedAt: 2019-04-09 09:01:51 -0400 (Tue, 09 Apr 2019) |
| EllapsedTime: 82.6 seconds |
| RetCode: 0 |
| Status: OK |
| PackageFile: snpStats_1.33.0.zip |
| PackageFileSize: 7.52 MiB |
##############################################################################
##############################################################################
###
### Running command:
###
### rm -rf snpStats.buildbin-libdir && mkdir snpStats.buildbin-libdir && C:\Users\biocbuild\bbs-3.9-bioc\R\bin\R.exe CMD INSTALL --merge-multiarch --build --library=snpStats.buildbin-libdir snpStats_1.33.0.tar.gz
###
##############################################################################
##############################################################################
install for i386
* installing *source* package 'snpStats' ...
** libs
C:/Rtools/mingw_32/bin/gcc -I"C:/Users/biocbuild/bbs-3.9-bioc/R/library/zlibbioc/include" -I"C:/Users/BIOCBU˜1/BBS-3˜1.9-B/R/include" -DNDEBUG -I"C:/extsoft/include" -O3 -Wall -std=gnu99 -mtune=generic -c Runcertain.c -o Runcertain.o
C:/Rtools/mingw_32/bin/gcc -I"C:/Users/biocbuild/bbs-3.9-bioc/R/library/zlibbioc/include" -I"C:/Users/BIOCBU˜1/BBS-3˜1.9-B/R/include" -DNDEBUG -I"C:/extsoft/include" -O3 -Wall -std=gnu99 -mtune=generic -c bind.c -o bind.o
C:/Rtools/mingw_32/bin/gcc -I"C:/Users/biocbuild/bbs-3.9-bioc/R/library/zlibbioc/include" -I"C:/Users/BIOCBU˜1/BBS-3˜1.9-B/R/include" -DNDEBUG -I"C:/extsoft/include" -O3 -Wall -std=gnu99 -mtune=generic -c count_gt.c -o count_gt.o
C:/Rtools/mingw_32/bin/gcc -I"C:/Users/biocbuild/bbs-3.9-bioc/R/library/zlibbioc/include" -I"C:/Users/BIOCBU˜1/BBS-3˜1.9-B/R/include" -DNDEBUG -I"C:/extsoft/include" -O3 -Wall -std=gnu99 -mtune=generic -c covwin.c -o covwin.o
C:/Rtools/mingw_32/bin/gcc -I"C:/Users/biocbuild/bbs-3.9-bioc/R/library/zlibbioc/include" -I"C:/Users/BIOCBU˜1/BBS-3˜1.9-B/R/include" -DNDEBUG -I"C:/extsoft/include" -O3 -Wall -std=gnu99 -mtune=generic -c force_hom.c -o force_hom.o
C:/Rtools/mingw_32/bin/gcc -I"C:/Users/biocbuild/bbs-3.9-bioc/R/library/zlibbioc/include" -I"C:/Users/BIOCBU˜1/BBS-3˜1.9-B/R/include" -DNDEBUG -I"C:/extsoft/include" -O3 -Wall -std=gnu99 -mtune=generic -c fst.c -o fst.o
C:/Rtools/mingw_32/bin/gcc -I"C:/Users/biocbuild/bbs-3.9-bioc/R/library/zlibbioc/include" -I"C:/Users/BIOCBU˜1/BBS-3˜1.9-B/R/include" -DNDEBUG -I"C:/extsoft/include" -O3 -Wall -std=gnu99 -mtune=generic -c glm_test.c -o glm_test.o
C:/Rtools/mingw_32/bin/gcc -I"C:/Users/biocbuild/bbs-3.9-bioc/R/library/zlibbioc/include" -I"C:/Users/BIOCBU˜1/BBS-3˜1.9-B/R/include" -DNDEBUG -I"C:/extsoft/include" -O3 -Wall -std=gnu99 -mtune=generic -c glm_test_R.c -o glm_test_R.o
glm_test_R.c: In function 'snp_rhs_score':
glm_test_R.c:368:7: warning: unused variable 'max_name_length' [-Wunused-variable]
int max_name_length = MAX_NAME_LENGTH -1;
^
C:/Rtools/mingw_32/bin/gcc -I"C:/Users/biocbuild/bbs-3.9-bioc/R/library/zlibbioc/include" -I"C:/Users/BIOCBU˜1/BBS-3˜1.9-B/R/include" -DNDEBUG -I"C:/extsoft/include" -O3 -Wall -std=gnu99 -mtune=generic -c hash_index.c -o hash_index.o
C:/Rtools/mingw_32/bin/gcc -I"C:/Users/biocbuild/bbs-3.9-bioc/R/library/zlibbioc/include" -I"C:/Users/BIOCBU˜1/BBS-3˜1.9-B/R/include" -DNDEBUG -I"C:/extsoft/include" -O3 -Wall -std=gnu99 -mtune=generic -c hphase.c -o hphase.o
C:/Rtools/mingw_32/bin/gcc -I"C:/Users/biocbuild/bbs-3.9-bioc/R/library/zlibbioc/include" -I"C:/Users/BIOCBU˜1/BBS-3˜1.9-B/R/include" -DNDEBUG -I"C:/extsoft/include" -O3 -Wall -std=gnu99 -mtune=generic -c imputation.c -o imputation.o
C:/Rtools/mingw_32/bin/gcc -I"C:/Users/biocbuild/bbs-3.9-bioc/R/library/zlibbioc/include" -I"C:/Users/BIOCBU˜1/BBS-3˜1.9-B/R/include" -DNDEBUG -I"C:/extsoft/include" -O3 -Wall -std=gnu99 -mtune=generic -c in.c -o in.o
C:/Rtools/mingw_32/bin/gcc -I"C:/Users/biocbuild/bbs-3.9-bioc/R/library/zlibbioc/include" -I"C:/Users/BIOCBU˜1/BBS-3˜1.9-B/R/include" -DNDEBUG -I"C:/extsoft/include" -O3 -Wall -std=gnu99 -mtune=generic -c input.c -o input.o
C:/Rtools/mingw_32/bin/gcc -I"C:/Users/biocbuild/bbs-3.9-bioc/R/library/zlibbioc/include" -I"C:/Users/BIOCBU˜1/BBS-3˜1.9-B/R/include" -DNDEBUG -I"C:/extsoft/include" -O3 -Wall -std=gnu99 -mtune=generic -c invert.c -o invert.o
C:/Rtools/mingw_32/bin/gcc -I"C:/Users/biocbuild/bbs-3.9-bioc/R/library/zlibbioc/include" -I"C:/Users/BIOCBU˜1/BBS-3˜1.9-B/R/include" -DNDEBUG -I"C:/extsoft/include" -O3 -Wall -std=gnu99 -mtune=generic -c ipf.c -o ipf.o
C:/Rtools/mingw_32/bin/gcc -I"C:/Users/biocbuild/bbs-3.9-bioc/R/library/zlibbioc/include" -I"C:/Users/BIOCBU˜1/BBS-3˜1.9-B/R/include" -DNDEBUG -I"C:/extsoft/include" -O3 -Wall -std=gnu99 -mtune=generic -c ld.c -o ld.o
C:/Rtools/mingw_32/bin/gcc -I"C:/Users/biocbuild/bbs-3.9-bioc/R/library/zlibbioc/include" -I"C:/Users/BIOCBU˜1/BBS-3˜1.9-B/R/include" -DNDEBUG -I"C:/extsoft/include" -O3 -Wall -std=gnu99 -mtune=generic -c misc.c -o misc.o
C:/Rtools/mingw_32/bin/gcc -I"C:/Users/biocbuild/bbs-3.9-bioc/R/library/zlibbioc/include" -I"C:/Users/BIOCBU˜1/BBS-3˜1.9-B/R/include" -DNDEBUG -I"C:/extsoft/include" -O3 -Wall -std=gnu99 -mtune=generic -c mla.c -o mla.o
C:/Rtools/mingw_32/bin/gcc -I"C:/Users/biocbuild/bbs-3.9-bioc/R/library/zlibbioc/include" -I"C:/Users/BIOCBU˜1/BBS-3˜1.9-B/R/include" -DNDEBUG -I"C:/extsoft/include" -O3 -Wall -std=gnu99 -mtune=generic -c mvphenotype.c -o mvphenotype.o
C:/Rtools/mingw_32/bin/gcc -I"C:/Users/biocbuild/bbs-3.9-bioc/R/library/zlibbioc/include" -I"C:/Users/BIOCBU˜1/BBS-3˜1.9-B/R/include" -DNDEBUG -I"C:/extsoft/include" -O3 -Wall -std=gnu99 -mtune=generic -c outdata.c -o outdata.o
C:/Rtools/mingw_32/bin/gcc -I"C:/Users/biocbuild/bbs-3.9-bioc/R/library/zlibbioc/include" -I"C:/Users/BIOCBU˜1/BBS-3˜1.9-B/R/include" -DNDEBUG -I"C:/extsoft/include" -O3 -Wall -std=gnu99 -mtune=generic -c plink.c -o plink.o
C:/Rtools/mingw_32/bin/gcc -I"C:/Users/biocbuild/bbs-3.9-bioc/R/library/zlibbioc/include" -I"C:/Users/BIOCBU˜1/BBS-3˜1.9-B/R/include" -DNDEBUG -I"C:/extsoft/include" -O3 -Wall -std=gnu99 -mtune=generic -c read_uncertain.c -o read_uncertain.o
C:/Rtools/mingw_32/bin/gcc -I"C:/Users/biocbuild/bbs-3.9-bioc/R/library/zlibbioc/include" -I"C:/Users/BIOCBU˜1/BBS-3˜1.9-B/R/include" -DNDEBUG -I"C:/extsoft/include" -O3 -Wall -std=gnu99 -mtune=generic -c readped.c -o readped.o
C:/Rtools/mingw_32/bin/gcc -I"C:/Users/biocbuild/bbs-3.9-bioc/R/library/zlibbioc/include" -I"C:/Users/BIOCBU˜1/BBS-3˜1.9-B/R/include" -DNDEBUG -I"C:/extsoft/include" -O3 -Wall -std=gnu99 -mtune=generic -c single_snp_tests.c -o single_snp_tests.o
single_snp_tests.c: In function 'score_single':
single_snp_tests.c:327:4: warning: 'name_index' may be used uninitialized in this function [-Wmaybe-uninitialized]
do_impute(Snps, n, diploid, subset, nsubj, name_index, Rule, gt2ht,
^
C:/Rtools/mingw_32/bin/gcc -I"C:/Users/biocbuild/bbs-3.9-bioc/R/library/zlibbioc/include" -I"C:/Users/BIOCBU˜1/BBS-3˜1.9-B/R/include" -DNDEBUG -I"C:/extsoft/include" -O3 -Wall -std=gnu99 -mtune=generic -c snp_summary.c -o snp_summary.o
C:/Rtools/mingw_32/bin/gcc -I"C:/Users/biocbuild/bbs-3.9-bioc/R/library/zlibbioc/include" -I"C:/Users/BIOCBU˜1/BBS-3˜1.9-B/R/include" -DNDEBUG -I"C:/extsoft/include" -O3 -Wall -std=gnu99 -mtune=generic -c snpmpy.c -o snpmpy.o
C:/Rtools/mingw_32/bin/gcc -I"C:/Users/biocbuild/bbs-3.9-bioc/R/library/zlibbioc/include" -I"C:/Users/BIOCBU˜1/BBS-3˜1.9-B/R/include" -DNDEBUG -I"C:/extsoft/include" -O3 -Wall -std=gnu99 -mtune=generic -c solve_cubic.c -o solve_cubic.o
C:/Rtools/mingw_32/bin/gcc -I"C:/Users/biocbuild/bbs-3.9-bioc/R/library/zlibbioc/include" -I"C:/Users/BIOCBU˜1/BBS-3˜1.9-B/R/include" -DNDEBUG -I"C:/extsoft/include" -O3 -Wall -std=gnu99 -mtune=generic -c structure.c -o structure.o
C:/Rtools/mingw_32/bin/gcc -I"C:/Users/biocbuild/bbs-3.9-bioc/R/library/zlibbioc/include" -I"C:/Users/BIOCBU˜1/BBS-3˜1.9-B/R/include" -DNDEBUG -I"C:/extsoft/include" -O3 -Wall -std=gnu99 -mtune=generic -c subset.c -o subset.o
C:/Rtools/mingw_32/bin/gcc -I"C:/Users/biocbuild/bbs-3.9-bioc/R/library/zlibbioc/include" -I"C:/Users/BIOCBU˜1/BBS-3˜1.9-B/R/include" -DNDEBUG -I"C:/extsoft/include" -O3 -Wall -std=gnu99 -mtune=generic -c switch.c -o switch.o
switch.c: In function 'test_switch':
switch.c:32:8: warning: variable 'female2' set but not used [-Wunused-but-set-variable]
int *female2 = NULL;
^
C:/Rtools/mingw_32/bin/gcc -I"C:/Users/biocbuild/bbs-3.9-bioc/R/library/zlibbioc/include" -I"C:/Users/BIOCBU˜1/BBS-3˜1.9-B/R/include" -DNDEBUG -I"C:/extsoft/include" -O3 -Wall -std=gnu99 -mtune=generic -c tdt.c -o tdt.o
C:/Rtools/mingw_32/bin/gcc -I"C:/Users/biocbuild/bbs-3.9-bioc/R/library/zlibbioc/include" -I"C:/Users/BIOCBU˜1/BBS-3˜1.9-B/R/include" -DNDEBUG -I"C:/extsoft/include" -O3 -Wall -std=gnu99 -mtune=generic -c testBig.c -o testBig.o
C:/Rtools/mingw_32/bin/gcc -I"C:/Users/biocbuild/bbs-3.9-bioc/R/library/zlibbioc/include" -I"C:/Users/BIOCBU˜1/BBS-3˜1.9-B/R/include" -DNDEBUG -I"C:/extsoft/include" -O3 -Wall -std=gnu99 -mtune=generic -c uncertain.c -o uncertain.o
C:/Rtools/mingw_32/bin/gcc -shared -s -static-libgcc -o snpStats.dll tmp.def Runcertain.o bind.o count_gt.o covwin.o force_hom.o fst.o glm_test.o glm_test_R.o hash_index.o hphase.o imputation.o in.o input.o invert.o ipf.o ld.o misc.o mla.o mvphenotype.o outdata.o plink.o read_uncertain.o readped.o single_snp_tests.o snp_summary.o snpmpy.o solve_cubic.o structure.o subset.o switch.o tdt.o testBig.o uncertain.o -LC:/Users/biocbuild/bbs-3.9-bioc/R/library/zlibbioc/libs/i386 -lzlib1bioc -LC:/extsoft/lib/i386 -LC:/extsoft/lib -LC:/Users/BIOCBU˜1/BBS-3˜1.9-B/R/bin/i386 -lR
installing to C:/Users/biocbuild/bbs-3.9-bioc/meat/snpStats.buildbin-libdir/00LOCK-snpStats/00new/snpStats/libs/i386
** R
** data
** inst
** byte-compile and prepare package for lazy loading
** help
*** installing help indices
converting help for package 'snpStats'
finding HTML links ... done
Fst html
GlmEstimates-class html
GlmTests-class html
ImputationRules-class html
SingleSnpTests-class html
SnpMatrix-class html
XSnpMatrix-class html
chi.squared html
convert.snpMatrix html
example-new html
families html
filter.rules html
for.exercise html
glm.test.control html
ibsCount html
ibsDist html
imputation.maf html
impute.snps html
ld html
ld.example html
mean2g html
misinherits html
mvtests html
plotUncertainty html
pool html
pool2 html
pp html
qq.chisq html
random.snps html
read.beagle html
read.impute html
read.long html
read.mach html
read.pedfile html
read.plink html
read.snps.long html
row.summary html
sample html
single.snp.tests html
sm.compare html
snp.cor html
snp.imputation html
snp.lhs.estimates html
snp.lhs.tests html
snp.pre.multiply html
snp.rhs.estimates html
snp.rhs.tests html
snpStats-package html
switch.alleles html
tdt.snp html
test.allele.switch html
testdata html
write.plink html
write.snp.matrix html
xxt html
** building package indices
** installing vignettes
** testing if installed package can be loaded from temporary location
** testing if installed package can be loaded from final location
** testing if installed package keeps a record of temporary installation path
install for x64
* installing *source* package 'snpStats' ...
** libs
C:/Rtools/mingw_64/bin/gcc -I"C:/Users/biocbuild/bbs-3.9-bioc/R/library/zlibbioc/include" -I"C:/Users/BIOCBU˜1/BBS-3˜1.9-B/R/include" -DNDEBUG -I"C:/extsoft/include" -O2 -Wall -std=gnu99 -mtune=generic -c Runcertain.c -o Runcertain.o
C:/Rtools/mingw_64/bin/gcc -I"C:/Users/biocbuild/bbs-3.9-bioc/R/library/zlibbioc/include" -I"C:/Users/BIOCBU˜1/BBS-3˜1.9-B/R/include" -DNDEBUG -I"C:/extsoft/include" -O2 -Wall -std=gnu99 -mtune=generic -c bind.c -o bind.o
C:/Rtools/mingw_64/bin/gcc -I"C:/Users/biocbuild/bbs-3.9-bioc/R/library/zlibbioc/include" -I"C:/Users/BIOCBU˜1/BBS-3˜1.9-B/R/include" -DNDEBUG -I"C:/extsoft/include" -O2 -Wall -std=gnu99 -mtune=generic -c count_gt.c -o count_gt.o
C:/Rtools/mingw_64/bin/gcc -I"C:/Users/biocbuild/bbs-3.9-bioc/R/library/zlibbioc/include" -I"C:/Users/BIOCBU˜1/BBS-3˜1.9-B/R/include" -DNDEBUG -I"C:/extsoft/include" -O2 -Wall -std=gnu99 -mtune=generic -c covwin.c -o covwin.o
C:/Rtools/mingw_64/bin/gcc -I"C:/Users/biocbuild/bbs-3.9-bioc/R/library/zlibbioc/include" -I"C:/Users/BIOCBU˜1/BBS-3˜1.9-B/R/include" -DNDEBUG -I"C:/extsoft/include" -O2 -Wall -std=gnu99 -mtune=generic -c force_hom.c -o force_hom.o
C:/Rtools/mingw_64/bin/gcc -I"C:/Users/biocbuild/bbs-3.9-bioc/R/library/zlibbioc/include" -I"C:/Users/BIOCBU˜1/BBS-3˜1.9-B/R/include" -DNDEBUG -I"C:/extsoft/include" -O2 -Wall -std=gnu99 -mtune=generic -c fst.c -o fst.o
C:/Rtools/mingw_64/bin/gcc -I"C:/Users/biocbuild/bbs-3.9-bioc/R/library/zlibbioc/include" -I"C:/Users/BIOCBU˜1/BBS-3˜1.9-B/R/include" -DNDEBUG -I"C:/extsoft/include" -O2 -Wall -std=gnu99 -mtune=generic -c glm_test.c -o glm_test.o
C:/Rtools/mingw_64/bin/gcc -I"C:/Users/biocbuild/bbs-3.9-bioc/R/library/zlibbioc/include" -I"C:/Users/BIOCBU˜1/BBS-3˜1.9-B/R/include" -DNDEBUG -I"C:/extsoft/include" -O2 -Wall -std=gnu99 -mtune=generic -c glm_test_R.c -o glm_test_R.o
glm_test_R.c: In function 'snp_rhs_score':
glm_test_R.c:368:7: warning: unused variable 'max_name_length' [-Wunused-variable]
int max_name_length = MAX_NAME_LENGTH -1;
^
C:/Rtools/mingw_64/bin/gcc -I"C:/Users/biocbuild/bbs-3.9-bioc/R/library/zlibbioc/include" -I"C:/Users/BIOCBU˜1/BBS-3˜1.9-B/R/include" -DNDEBUG -I"C:/extsoft/include" -O2 -Wall -std=gnu99 -mtune=generic -c hash_index.c -o hash_index.o
C:/Rtools/mingw_64/bin/gcc -I"C:/Users/biocbuild/bbs-3.9-bioc/R/library/zlibbioc/include" -I"C:/Users/BIOCBU˜1/BBS-3˜1.9-B/R/include" -DNDEBUG -I"C:/extsoft/include" -O2 -Wall -std=gnu99 -mtune=generic -c hphase.c -o hphase.o
C:/Rtools/mingw_64/bin/gcc -I"C:/Users/biocbuild/bbs-3.9-bioc/R/library/zlibbioc/include" -I"C:/Users/BIOCBU˜1/BBS-3˜1.9-B/R/include" -DNDEBUG -I"C:/extsoft/include" -O2 -Wall -std=gnu99 -mtune=generic -c imputation.c -o imputation.o
C:/Rtools/mingw_64/bin/gcc -I"C:/Users/biocbuild/bbs-3.9-bioc/R/library/zlibbioc/include" -I"C:/Users/BIOCBU˜1/BBS-3˜1.9-B/R/include" -DNDEBUG -I"C:/extsoft/include" -O2 -Wall -std=gnu99 -mtune=generic -c in.c -o in.o
C:/Rtools/mingw_64/bin/gcc -I"C:/Users/biocbuild/bbs-3.9-bioc/R/library/zlibbioc/include" -I"C:/Users/BIOCBU˜1/BBS-3˜1.9-B/R/include" -DNDEBUG -I"C:/extsoft/include" -O2 -Wall -std=gnu99 -mtune=generic -c input.c -o input.o
C:/Rtools/mingw_64/bin/gcc -I"C:/Users/biocbuild/bbs-3.9-bioc/R/library/zlibbioc/include" -I"C:/Users/BIOCBU˜1/BBS-3˜1.9-B/R/include" -DNDEBUG -I"C:/extsoft/include" -O2 -Wall -std=gnu99 -mtune=generic -c invert.c -o invert.o
C:/Rtools/mingw_64/bin/gcc -I"C:/Users/biocbuild/bbs-3.9-bioc/R/library/zlibbioc/include" -I"C:/Users/BIOCBU˜1/BBS-3˜1.9-B/R/include" -DNDEBUG -I"C:/extsoft/include" -O2 -Wall -std=gnu99 -mtune=generic -c ipf.c -o ipf.o
C:/Rtools/mingw_64/bin/gcc -I"C:/Users/biocbuild/bbs-3.9-bioc/R/library/zlibbioc/include" -I"C:/Users/BIOCBU˜1/BBS-3˜1.9-B/R/include" -DNDEBUG -I"C:/extsoft/include" -O2 -Wall -std=gnu99 -mtune=generic -c ld.c -o ld.o
C:/Rtools/mingw_64/bin/gcc -I"C:/Users/biocbuild/bbs-3.9-bioc/R/library/zlibbioc/include" -I"C:/Users/BIOCBU˜1/BBS-3˜1.9-B/R/include" -DNDEBUG -I"C:/extsoft/include" -O2 -Wall -std=gnu99 -mtune=generic -c misc.c -o misc.o
C:/Rtools/mingw_64/bin/gcc -I"C:/Users/biocbuild/bbs-3.9-bioc/R/library/zlibbioc/include" -I"C:/Users/BIOCBU˜1/BBS-3˜1.9-B/R/include" -DNDEBUG -I"C:/extsoft/include" -O2 -Wall -std=gnu99 -mtune=generic -c mla.c -o mla.o
C:/Rtools/mingw_64/bin/gcc -I"C:/Users/biocbuild/bbs-3.9-bioc/R/library/zlibbioc/include" -I"C:/Users/BIOCBU˜1/BBS-3˜1.9-B/R/include" -DNDEBUG -I"C:/extsoft/include" -O2 -Wall -std=gnu99 -mtune=generic -c mvphenotype.c -o mvphenotype.o
C:/Rtools/mingw_64/bin/gcc -I"C:/Users/biocbuild/bbs-3.9-bioc/R/library/zlibbioc/include" -I"C:/Users/BIOCBU˜1/BBS-3˜1.9-B/R/include" -DNDEBUG -I"C:/extsoft/include" -O2 -Wall -std=gnu99 -mtune=generic -c outdata.c -o outdata.o
C:/Rtools/mingw_64/bin/gcc -I"C:/Users/biocbuild/bbs-3.9-bioc/R/library/zlibbioc/include" -I"C:/Users/BIOCBU˜1/BBS-3˜1.9-B/R/include" -DNDEBUG -I"C:/extsoft/include" -O2 -Wall -std=gnu99 -mtune=generic -c plink.c -o plink.o
C:/Rtools/mingw_64/bin/gcc -I"C:/Users/biocbuild/bbs-3.9-bioc/R/library/zlibbioc/include" -I"C:/Users/BIOCBU˜1/BBS-3˜1.9-B/R/include" -DNDEBUG -I"C:/extsoft/include" -O2 -Wall -std=gnu99 -mtune=generic -c read_uncertain.c -o read_uncertain.o
C:/Rtools/mingw_64/bin/gcc -I"C:/Users/biocbuild/bbs-3.9-bioc/R/library/zlibbioc/include" -I"C:/Users/BIOCBU˜1/BBS-3˜1.9-B/R/include" -DNDEBUG -I"C:/extsoft/include" -O2 -Wall -std=gnu99 -mtune=generic -c readped.c -o readped.o
C:/Rtools/mingw_64/bin/gcc -I"C:/Users/biocbuild/bbs-3.9-bioc/R/library/zlibbioc/include" -I"C:/Users/BIOCBU˜1/BBS-3˜1.9-B/R/include" -DNDEBUG -I"C:/extsoft/include" -O2 -Wall -std=gnu99 -mtune=generic -c single_snp_tests.c -o single_snp_tests.o
single_snp_tests.c: In function 'score_single':
single_snp_tests.c:327:4: warning: 'name_index' may be used uninitialized in this function [-Wmaybe-uninitialized]
do_impute(Snps, n, diploid, subset, nsubj, name_index, Rule, gt2ht,
^
C:/Rtools/mingw_64/bin/gcc -I"C:/Users/biocbuild/bbs-3.9-bioc/R/library/zlibbioc/include" -I"C:/Users/BIOCBU˜1/BBS-3˜1.9-B/R/include" -DNDEBUG -I"C:/extsoft/include" -O2 -Wall -std=gnu99 -mtune=generic -c snp_summary.c -o snp_summary.o
C:/Rtools/mingw_64/bin/gcc -I"C:/Users/biocbuild/bbs-3.9-bioc/R/library/zlibbioc/include" -I"C:/Users/BIOCBU˜1/BBS-3˜1.9-B/R/include" -DNDEBUG -I"C:/extsoft/include" -O2 -Wall -std=gnu99 -mtune=generic -c snpmpy.c -o snpmpy.o
C:/Rtools/mingw_64/bin/gcc -I"C:/Users/biocbuild/bbs-3.9-bioc/R/library/zlibbioc/include" -I"C:/Users/BIOCBU˜1/BBS-3˜1.9-B/R/include" -DNDEBUG -I"C:/extsoft/include" -O2 -Wall -std=gnu99 -mtune=generic -c solve_cubic.c -o solve_cubic.o
C:/Rtools/mingw_64/bin/gcc -I"C:/Users/biocbuild/bbs-3.9-bioc/R/library/zlibbioc/include" -I"C:/Users/BIOCBU˜1/BBS-3˜1.9-B/R/include" -DNDEBUG -I"C:/extsoft/include" -O2 -Wall -std=gnu99 -mtune=generic -c structure.c -o structure.o
C:/Rtools/mingw_64/bin/gcc -I"C:/Users/biocbuild/bbs-3.9-bioc/R/library/zlibbioc/include" -I"C:/Users/BIOCBU˜1/BBS-3˜1.9-B/R/include" -DNDEBUG -I"C:/extsoft/include" -O2 -Wall -std=gnu99 -mtune=generic -c subset.c -o subset.o
C:/Rtools/mingw_64/bin/gcc -I"C:/Users/biocbuild/bbs-3.9-bioc/R/library/zlibbioc/include" -I"C:/Users/BIOCBU˜1/BBS-3˜1.9-B/R/include" -DNDEBUG -I"C:/extsoft/include" -O2 -Wall -std=gnu99 -mtune=generic -c switch.c -o switch.o
switch.c: In function 'test_switch':
switch.c:32:8: warning: variable 'female2' set but not used [-Wunused-but-set-variable]
int *female2 = NULL;
^
C:/Rtools/mingw_64/bin/gcc -I"C:/Users/biocbuild/bbs-3.9-bioc/R/library/zlibbioc/include" -I"C:/Users/BIOCBU˜1/BBS-3˜1.9-B/R/include" -DNDEBUG -I"C:/extsoft/include" -O2 -Wall -std=gnu99 -mtune=generic -c tdt.c -o tdt.o
C:/Rtools/mingw_64/bin/gcc -I"C:/Users/biocbuild/bbs-3.9-bioc/R/library/zlibbioc/include" -I"C:/Users/BIOCBU˜1/BBS-3˜1.9-B/R/include" -DNDEBUG -I"C:/extsoft/include" -O2 -Wall -std=gnu99 -mtune=generic -c testBig.c -o testBig.o
C:/Rtools/mingw_64/bin/gcc -I"C:/Users/biocbuild/bbs-3.9-bioc/R/library/zlibbioc/include" -I"C:/Users/BIOCBU˜1/BBS-3˜1.9-B/R/include" -DNDEBUG -I"C:/extsoft/include" -O2 -Wall -std=gnu99 -mtune=generic -c uncertain.c -o uncertain.o
C:/Rtools/mingw_64/bin/gcc -shared -s -static-libgcc -o snpStats.dll tmp.def Runcertain.o bind.o count_gt.o covwin.o force_hom.o fst.o glm_test.o glm_test_R.o hash_index.o hphase.o imputation.o in.o input.o invert.o ipf.o ld.o misc.o mla.o mvphenotype.o outdata.o plink.o read_uncertain.o readped.o single_snp_tests.o snp_summary.o snpmpy.o solve_cubic.o structure.o subset.o switch.o tdt.o testBig.o uncertain.o -LC:/Users/biocbuild/bbs-3.9-bioc/R/library/zlibbioc/libs/x64 -lzlib1bioc -LC:/extsoft/lib/x64 -LC:/extsoft/lib -LC:/Users/BIOCBU˜1/BBS-3˜1.9-B/R/bin/x64 -lR
installing to C:/Users/biocbuild/bbs-3.9-bioc/meat/snpStats.buildbin-libdir/snpStats/libs/x64
** testing if installed package can be loaded
* MD5 sums
packaged installation of 'snpStats' as snpStats_1.33.0.zip
* DONE (snpStats)