| Back to Multiple platform build/check report for BioC 3.9 |
|
This page was generated on 2019-04-09 12:40:40 -0400 (Tue, 09 Apr 2019).
| Package 1511/1703 | Hostname | OS / Arch | INSTALL | BUILD | CHECK | BUILD BIN | ||||||
| slinky 1.1.1 Eric J. Kort
| malbec2 | Linux (Ubuntu 18.04.2 LTS) / x86_64 | OK | OK | OK | |||||||
| tokay2 | Windows Server 2012 R2 Standard / x64 | OK | OK | OK | [ OK ] | |||||||
| celaya2 | OS X 10.11.6 El Capitan / x86_64 | OK | OK | OK | OK | |||||||
| merida2 | OS X 10.11.6 El Capitan / x86_64 | OK | OK | OK | OK |
| Package: slinky |
| Version: 1.1.1 |
| Command: rm -rf slinky.buildbin-libdir && mkdir slinky.buildbin-libdir && C:\Users\biocbuild\bbs-3.9-bioc\R\bin\R.exe CMD INSTALL --merge-multiarch --build --library=slinky.buildbin-libdir slinky_1.1.1.tar.gz |
| StartedAt: 2019-04-09 08:59:50 -0400 (Tue, 09 Apr 2019) |
| EndedAt: 2019-04-09 09:00:25 -0400 (Tue, 09 Apr 2019) |
| EllapsedTime: 34.5 seconds |
| RetCode: 0 |
| Status: OK |
| PackageFile: slinky_1.1.1.zip |
| PackageFileSize: 1.623 MiB |
##############################################################################
##############################################################################
###
### Running command:
###
### rm -rf slinky.buildbin-libdir && mkdir slinky.buildbin-libdir && C:\Users\biocbuild\bbs-3.9-bioc\R\bin\R.exe CMD INSTALL --merge-multiarch --build --library=slinky.buildbin-libdir slinky_1.1.1.tar.gz
###
##############################################################################
##############################################################################
install for i386
* installing *source* package 'slinky' ...
** R
** inst
** byte-compile and prepare package for lazy loading
** help
*** installing help indices
converting help for package 'slinky'
finding HTML links ... done
Slinky-class html
chDir html
closeAll html
clue html
clueCount html
clueInstances html
clueVehicle html
coerce html
colnames html
controls html
diffexp html
download html
ks html
loadL1K html
finding level-2 HTML links ... done
metadata html
nrow html
readGCTX html
rownames html
rzs html
slinky-internal html
subset html
** building package indices
** installing vignettes
** testing if installed package can be loaded from temporary location
** testing if installed package can be loaded from final location
** testing if installed package keeps a record of temporary installation path
install for x64
* installing *source* package 'slinky' ...
** testing if installed package can be loaded
* MD5 sums
packaged installation of 'slinky' as slinky_1.1.1.zip
* DONE (slinky)