| Back to Multiple platform build/check report for BioC 3.9 | 
  | 
This page was generated on 2019-04-09 13:36:58 -0400 (Tue, 09 Apr 2019).
| Package 1503/1703 | Hostname | OS / Arch | INSTALL | BUILD | CHECK | BUILD BIN | ||||||
| singscore 1.3.4 Dharmesh D. Bhuva 
  | malbec2 | Linux (Ubuntu 18.04.2 LTS) / x86_64 | OK | OK | OK | |||||||
| tokay2 | Windows Server 2012 R2 Standard / x64 | OK | OK | OK | OK | |||||||
| celaya2 | OS X 10.11.6 El Capitan / x86_64 | OK | OK | OK | OK | |||||||
| merida2 | OS X 10.11.6 El Capitan / x86_64 | OK | OK | [ OK ] | OK | 
| Package: singscore | 
| Version: 1.3.4 | 
| Command: /Library/Frameworks/R.framework/Versions/Current/Resources/bin/R CMD check --install=check:singscore.install-out.txt --library=/Library/Frameworks/R.framework/Versions/Current/Resources/library --no-vignettes --timings singscore_1.3.4.tar.gz | 
| StartedAt: 2019-04-09 03:48:43 -0400 (Tue, 09 Apr 2019) | 
| EndedAt: 2019-04-09 03:52:38 -0400 (Tue, 09 Apr 2019) | 
| EllapsedTime: 234.7 seconds | 
| RetCode: 0 | 
| Status: OK | 
| CheckDir: singscore.Rcheck | 
| Warnings: 0 | 
############################################################################## ############################################################################## ### ### Running command: ### ### /Library/Frameworks/R.framework/Versions/Current/Resources/bin/R CMD check --install=check:singscore.install-out.txt --library=/Library/Frameworks/R.framework/Versions/Current/Resources/library --no-vignettes --timings singscore_1.3.4.tar.gz ### ############################################################################## ############################################################################## * using log directory ‘/Users/biocbuild/bbs-3.9-bioc/meat/singscore.Rcheck’ * using R Under development (unstable) (2018-11-27 r75683) * using platform: x86_64-apple-darwin15.6.0 (64-bit) * using session charset: UTF-8 * using option ‘--no-vignettes’ * checking for file ‘singscore/DESCRIPTION’ ... OK * checking extension type ... Package * this is package ‘singscore’ version ‘1.3.4’ * package encoding: UTF-8 * checking package namespace information ... OK * checking package dependencies ... OK * checking if this is a source package ... OK * checking if there is a namespace ... OK * checking for hidden files and directories ... OK * checking for portable file names ... OK * checking for sufficient/correct file permissions ... OK * checking whether package ‘singscore’ can be installed ... OK * checking installed package size ... OK * checking package directory ... OK * checking ‘build’ directory ... OK * checking DESCRIPTION meta-information ...It is recommended to use ‘given’ instead of ‘middle’. OK * checking top-level files ... OK * checking for left-over files ... OK * checking index information ... OK * checking package subdirectories ... OK * checking R files for non-ASCII characters ... OK * checking R files for syntax errors ... OK * checking whether the package can be loaded ... OK * checking whether the package can be loaded with stated dependencies ... OK * checking whether the package can be unloaded cleanly ... OK * checking whether the namespace can be loaded with stated dependencies ... OK * checking whether the namespace can be unloaded cleanly ... OK * checking dependencies in R code ... OK * checking S3 generic/method consistency ... OK * checking replacement functions ... OK * checking foreign function calls ... OK * checking R code for possible problems ... NOTE plotDispersion: no visible binding for global variable ‘Score’ plotDispersion: no visible binding for global variable ‘Dispersion’ plotDispersion: no visible binding for global variable ‘Class’ plotDispersion: no visible binding for global variable ‘SampleID’ plotRankDensity_intl: no visible binding for global variable ‘Ranks’ plotRankDensity_intl: no visible binding for global variable ‘upDown’ plotRankDensity_intl: no visible binding for global variable ‘..density..’ plotRankDensity_intl: no visible binding for global variable ‘EntrezID’ plotScoreLandscape: no visible binding for global variable ‘sc1’ plotScoreLandscape: no visible binding for global variable ‘sc2’ projectScoreLandscape: no visible binding for global variable ‘SampleLabel’ projectScoreLandscape: no visible binding for global variable ‘Class’ Undefined global functions or variables: ..density.. Class Dispersion EntrezID Ranks SampleID SampleLabel Score sc1 sc2 upDown * checking Rd files ... OK * checking Rd metadata ... OK * checking Rd cross-references ... OK * checking for missing documentation entries ... OK * checking for code/documentation mismatches ... OK * checking Rd \usage sections ... OK * checking Rd contents ... OK * checking for unstated dependencies in examples ... OK * checking contents of ‘data’ directory ... OK * checking data for non-ASCII characters ... OK * checking data for ASCII and uncompressed saves ... OK * checking files in ‘vignettes’ ... OK * checking examples ... OK * checking for unstated dependencies in ‘tests’ ... OK * checking tests ... Running ‘testthat.R’ OK * checking for unstated dependencies in vignettes ... OK * checking package vignettes in ‘inst/doc’ ... OK * checking running R code from vignettes ... SKIPPED * checking re-building of vignette outputs ... SKIPPED * checking PDF version of manual ... OK * DONE Status: 1 NOTE See ‘/Users/biocbuild/bbs-3.9-bioc/meat/singscore.Rcheck/00check.log’ for details.
singscore.Rcheck/00install.out
############################################################################## ############################################################################## ### ### Running command: ### ### /Library/Frameworks/R.framework/Versions/Current/Resources/bin/R CMD INSTALL singscore ### ############################################################################## ############################################################################## * installing to library ‘/Library/Frameworks/R.framework/Versions/3.6/Resources/library’ * installing *source* package ‘singscore’ ... It is recommended to use ‘given’ instead of ‘middle’. It is recommended to use ‘given’ instead of ‘middle’. ** R ** data *** moving datasets to lazyload DB ** inst ** byte-compile and prepare package for lazy loading ** help *** installing help indices *** copying figures ** building package indices ** installing vignettes ** testing if installed package can be loaded * DONE (singscore)
singscore.Rcheck/tests/testthat.Rout
R Under development (unstable) (2018-11-27 r75683) -- "Unsuffered Consequences"
Copyright (C) 2018 The R Foundation for Statistical Computing
Platform: x86_64-apple-darwin15.6.0 (64-bit)
R is free software and comes with ABSOLUTELY NO WARRANTY.
You are welcome to redistribute it under certain conditions.
Type 'license()' or 'licence()' for distribution details.
R is a collaborative project with many contributors.
Type 'contributors()' for more information and
'citation()' on how to cite R or R packages in publications.
Type 'demo()' for some demos, 'help()' for on-line help, or
'help.start()' for an HTML browser interface to help.
Type 'q()' to quit R.
> library(testthat)
> library(singscore)
Loading required package: GSEABase
Loading required package: BiocGenerics
Loading required package: parallel
Attaching package: 'BiocGenerics'
The following objects are masked from 'package:parallel':
    clusterApply, clusterApplyLB, clusterCall, clusterEvalQ,
    clusterExport, clusterMap, parApply, parCapply, parLapply,
    parLapplyLB, parRapply, parSapply, parSapplyLB
The following objects are masked from 'package:stats':
    IQR, mad, sd, var, xtabs
The following objects are masked from 'package:base':
    Filter, Find, Map, Position, Reduce, anyDuplicated, append,
    as.data.frame, basename, cbind, colMeans, colSums, colnames,
    dirname, do.call, duplicated, eval, evalq, get, grep, grepl,
    intersect, is.unsorted, lapply, mapply, match, mget, order, paste,
    pmax, pmax.int, pmin, pmin.int, rank, rbind, rowMeans, rowSums,
    rownames, sapply, setdiff, sort, table, tapply, union, unique,
    unsplit, which, which.max, which.min
Loading required package: Biobase
Welcome to Bioconductor
    Vignettes contain introductory material; view with
    'browseVignettes()'. To cite Bioconductor, see
    'citation("Biobase")', and for packages 'citation("pkgname")'.
Loading required package: annotate
Loading required package: AnnotationDbi
Loading required package: stats4
Loading required package: IRanges
Loading required package: S4Vectors
Attaching package: 'S4Vectors'
The following object is masked from 'package:base':
    expand.grid
Loading required package: XML
Loading required package: graph
Attaching package: 'graph'
The following object is masked from 'package:XML':
    addNode
> 
> test_check("singscore")
══ testthat results  ═══════════════════════════════════════════════════════════
OK: 145 SKIPPED: 0 FAILED: 0
> 
> proc.time()
   user  system elapsed 
 24.369   6.457  19.087 
singscore.Rcheck/singscore-Ex.timings
| name | user | system | elapsed | |
| generateNull | 0.198 | 0.021 | 0.220 | |
| getPvals | 0.089 | 0.002 | 0.090 | |
| multiScore | 0.022 | 0.000 | 0.022 | |
| plotDispersion | 1.243 | 0.059 | 1.327 | |
| plotNull | 1.446 | 0.008 | 1.462 | |
| plotRankDensity | 0.270 | 0.002 | 0.275 | |
| plotScoreLandscape | 0.172 | 0.003 | 0.175 | |
| rankExpr | 0 | 0 | 0 | |
| rankGenes | 0.10 | 0.01 | 0.11 | |
| simpleScore | 0.011 | 0.001 | 0.011 | |