| Back to Multiple platform build/check report for BioC 3.9 |
|
This page was generated on 2019-04-09 12:26:46 -0400 (Tue, 09 Apr 2019).
| Package 1487/1703 | Hostname | OS / Arch | INSTALL | BUILD | CHECK | BUILD BIN | ||||||
| sights 1.9.1 Elika Garg
| malbec2 | Linux (Ubuntu 18.04.2 LTS) / x86_64 | OK | OK | OK | |||||||
| tokay2 | Windows Server 2012 R2 Standard / x64 | [ OK ] | OK | WARNINGS | OK | |||||||
| celaya2 | OS X 10.11.6 El Capitan / x86_64 | OK | OK | OK | OK | |||||||
| merida2 | OS X 10.11.6 El Capitan / x86_64 | OK | OK | OK | OK |
| Package: sights |
| Version: 1.9.1 |
| Command: C:\cygwin\bin\curl.exe -O https://malbec2.bioconductor.org/BBS/3.9/bioc/src/contrib/sights_1.9.1.tar.gz && rm -rf sights.buildbin-libdir && mkdir sights.buildbin-libdir && C:\Users\biocbuild\bbs-3.9-bioc\R\bin\R.exe CMD INSTALL --merge-multiarch --build --library=sights.buildbin-libdir sights_1.9.1.tar.gz && C:\Users\biocbuild\bbs-3.9-bioc\R\bin\R.exe CMD INSTALL sights_1.9.1.zip && rm sights_1.9.1.tar.gz sights_1.9.1.zip |
| StartedAt: 2019-04-08 18:51:56 -0400 (Mon, 08 Apr 2019) |
| EndedAt: 2019-04-08 18:52:19 -0400 (Mon, 08 Apr 2019) |
| EllapsedTime: 23.6 seconds |
| RetCode: 0 |
| Status: OK |
##############################################################################
##############################################################################
###
### Running command:
###
### C:\cygwin\bin\curl.exe -O https://malbec2.bioconductor.org/BBS/3.9/bioc/src/contrib/sights_1.9.1.tar.gz && rm -rf sights.buildbin-libdir && mkdir sights.buildbin-libdir && C:\Users\biocbuild\bbs-3.9-bioc\R\bin\R.exe CMD INSTALL --merge-multiarch --build --library=sights.buildbin-libdir sights_1.9.1.tar.gz && C:\Users\biocbuild\bbs-3.9-bioc\R\bin\R.exe CMD INSTALL sights_1.9.1.zip && rm sights_1.9.1.tar.gz sights_1.9.1.zip
###
##############################################################################
##############################################################################
% Total % Received % Xferd Average Speed Time Time Time Current
Dload Upload Total Spent Left Speed
0 0 0 0 0 0 0 0 --:--:-- --:--:-- --:--:-- 0
100 2443k 100 2443k 0 0 28.3M 0 --:--:-- --:--:-- --:--:-- 30.5M
install for i386
* installing *source* package 'sights' ...
** R
** data
*** moving datasets to lazyload DB
** inst
** byte-compile and prepare package for lazy loading
** help
*** installing help indices
converting help for package 'sights'
finding HTML links ... done
ex_dataMatrix html
inglese html
normLoess html
normMedFil html
normR html
normRobZ html
normSPAWN html
normSights html
normZ html
plot3d html
plotAutoco html
plotBox html
plotHeatmap html
plotHist html
plotIGFit html
Rd warning: C:/Users/biocbuild/bbs-3.9-bioc/tmpdir/RtmpGwwsS3/R.INSTALLd5c75a191c/sights/man/plotIGFit.Rd:19: file link 'geom_step' in package 'ggplot2' does not exist and so has been treated as a topic
plotScatter html
plotSights html
statFDR html
statRVM html
statSights html
statT html
** building package indices
** installing vignettes
** testing if installed package can be loaded from temporary location
** testing if installed package can be loaded from final location
** testing if installed package keeps a record of temporary installation path
install for x64
* installing *source* package 'sights' ...
** testing if installed package can be loaded
* MD5 sums
packaged installation of 'sights' as sights_1.9.1.zip
* DONE (sights)
* installing to library 'C:/Users/biocbuild/bbs-3.9-bioc/R/library'
package 'sights' successfully unpacked and MD5 sums checked