| Back to Multiple platform build/check report for BioC 3.9 |
|
This page was generated on 2019-04-09 12:06:38 -0400 (Tue, 09 Apr 2019).
| Package 1463/1703 | Hostname | OS / Arch | INSTALL | BUILD | CHECK | BUILD BIN | ||||||
| seqCNA 1.29.0 David Mosen-Ansorena
| malbec2 | Linux (Ubuntu 18.04.2 LTS) / x86_64 | OK | OK | OK | |||||||
| tokay2 | Windows Server 2012 R2 Standard / x64 | OK | OK | OK | [ OK ] | |||||||
| celaya2 | OS X 10.11.6 El Capitan / x86_64 | OK | OK | WARNINGS | OK | |||||||
| merida2 | OS X 10.11.6 El Capitan / x86_64 | OK | OK | WARNINGS | OK |
| Package: seqCNA |
| Version: 1.29.0 |
| Command: rm -rf seqCNA.buildbin-libdir && mkdir seqCNA.buildbin-libdir && C:\Users\biocbuild\bbs-3.9-bioc\R\bin\R.exe CMD INSTALL --merge-multiarch --build --library=seqCNA.buildbin-libdir seqCNA_1.29.0.tar.gz |
| StartedAt: 2019-04-09 08:57:00 -0400 (Tue, 09 Apr 2019) |
| EndedAt: 2019-04-09 08:57:27 -0400 (Tue, 09 Apr 2019) |
| EllapsedTime: 26.3 seconds |
| RetCode: 0 |
| Status: OK |
| PackageFile: seqCNA_1.29.0.zip |
| PackageFileSize: 1.762 MiB |
##############################################################################
##############################################################################
###
### Running command:
###
### rm -rf seqCNA.buildbin-libdir && mkdir seqCNA.buildbin-libdir && C:\Users\biocbuild\bbs-3.9-bioc\R\bin\R.exe CMD INSTALL --merge-multiarch --build --library=seqCNA.buildbin-libdir seqCNA_1.29.0.tar.gz
###
##############################################################################
##############################################################################
install for i386
* installing *source* package 'seqCNA' ...
** libs
C:/Rtools/mingw_32/bin/g++ -I"C:/Users/BIOCBU˜1/BBS-3˜1.9-B/R/include" -DNDEBUG -I"C:/extsoft/include" -O2 -Wall -mtune=generic -c seqCNA.cpp -o seqCNA.o
C:/Rtools/mingw_32/bin/g++ -shared -s -static-libgcc -o seqCNA.dll tmp.def seqCNA.o -LC:/extsoft/lib/i386 -LC:/extsoft/lib -LC:/Users/BIOCBU˜1/BBS-3˜1.9-B/R/bin/i386 -lR
installing to C:/Users/biocbuild/bbs-3.9-bioc/meat/seqCNA.buildbin-libdir/00LOCK-seqCNA/00new/seqCNA/libs/i386
** R
** data
** inst
** byte-compile and prepare package for lazy loading
** help
*** installing help indices
converting help for package 'seqCNA'
finding HTML links ... done
SeqCNAInfo-class html
applyFilters html
applyThresholds html
plotCNProfile html
readSeqsumm html
runGLAD html
runSeqnorm html
runSeqsumm html
seqCNA-package html
seqsumm_HCC1143 html
writeCNProfile html
** building package indices
** installing vignettes
** testing if installed package can be loaded from temporary location
** testing if installed package can be loaded from final location
** testing if installed package keeps a record of temporary installation path
install for x64
* installing *source* package 'seqCNA' ...
** libs
C:/Rtools/mingw_64/bin/g++ -I"C:/Users/BIOCBU˜1/BBS-3˜1.9-B/R/include" -DNDEBUG -I"C:/extsoft/include" -O2 -Wall -mtune=generic -c seqCNA.cpp -o seqCNA.o
C:/Rtools/mingw_64/bin/g++ -shared -s -static-libgcc -o seqCNA.dll tmp.def seqCNA.o -LC:/extsoft/lib/x64 -LC:/extsoft/lib -LC:/Users/BIOCBU˜1/BBS-3˜1.9-B/R/bin/x64 -lR
installing to C:/Users/biocbuild/bbs-3.9-bioc/meat/seqCNA.buildbin-libdir/seqCNA/libs/x64
** testing if installed package can be loaded
* MD5 sums
packaged installation of 'seqCNA' as seqCNA_1.29.0.zip
* DONE (seqCNA)