| Back to Multiple platform build/check report for BioC 3.9 |
|
This page was generated on 2019-04-09 13:33:10 -0400 (Tue, 09 Apr 2019).
| Package 1448/1703 | Hostname | OS / Arch | INSTALL | BUILD | CHECK | BUILD BIN | ||||||
| scran 1.11.25 Aaron Lun
| malbec2 | Linux (Ubuntu 18.04.2 LTS) / x86_64 | OK | OK | OK | |||||||
| tokay2 | Windows Server 2012 R2 Standard / x64 | OK | OK | ERROR | OK | |||||||
| celaya2 | OS X 10.11.6 El Capitan / x86_64 | OK | OK | OK | OK | |||||||
| merida2 | OS X 10.11.6 El Capitan / x86_64 | OK | OK | OK | [ OK ] |
| Package: scran |
| Version: 1.11.25 |
| Command: rm -rf scran.buildbin-libdir && mkdir scran.buildbin-libdir && /Users/biocbuild/BBS/utils/build-universal.sh scran_1.11.25.tar.gz /Library/Frameworks/R.framework/Versions/Current/Resources/bin/R scran.buildbin-libdir |
| StartedAt: 2019-04-09 06:27:22 -0400 (Tue, 09 Apr 2019) |
| EndedAt: 2019-04-09 06:31:13 -0400 (Tue, 09 Apr 2019) |
| EllapsedTime: 231.6 seconds |
| RetCode: 0 |
| Status: OK |
| PackageFile: scran_1.11.25.tgz |
| PackageFileSize: 1.907 MiB |
##############################################################################
##############################################################################
###
### Running command:
###
### rm -rf scran.buildbin-libdir && mkdir scran.buildbin-libdir && /Users/biocbuild/BBS/utils/build-universal.sh scran_1.11.25.tar.gz /Library/Frameworks/R.framework/Versions/Current/Resources/bin/R scran.buildbin-libdir
###
##############################################################################
##############################################################################
>>>>>>>
>>>>>>> INSTALLATION WITH 'R CMD INSTALL --preclean --no-multiarch --library=scran.buildbin-libdir scran_1.11.25.tar.gz'
>>>>>>>
* installing *source* package ‘scran’ ...
** libs
clang++ -std=gnu++11 -I"/Library/Frameworks/R.framework/Resources/include" -DNDEBUG -I"/Library/Frameworks/R.framework/Versions/3.6/Resources/library/Rcpp/include" -I"/Library/Frameworks/R.framework/Versions/3.6/Resources/library/beachmat/include" -I"/Library/Frameworks/R.framework/Versions/3.6/Resources/library/BH/include" -I"/Library/Frameworks/R.framework/Versions/3.6/Resources/library/dqrng/include" -I/usr/local/include -fPIC -Wall -g -O2 -c build_snn.cpp -o build_snn.o
clang++ -std=gnu++11 -I"/Library/Frameworks/R.framework/Resources/include" -DNDEBUG -I"/Library/Frameworks/R.framework/Versions/3.6/Resources/library/Rcpp/include" -I"/Library/Frameworks/R.framework/Versions/3.6/Resources/library/beachmat/include" -I"/Library/Frameworks/R.framework/Versions/3.6/Resources/library/BH/include" -I"/Library/Frameworks/R.framework/Versions/3.6/Resources/library/dqrng/include" -I/usr/local/include -fPIC -Wall -g -O2 -c calc_log_count_stats.cpp -o calc_log_count_stats.o
clang++ -std=gnu++11 -I"/Library/Frameworks/R.framework/Resources/include" -DNDEBUG -I"/Library/Frameworks/R.framework/Versions/3.6/Resources/library/Rcpp/include" -I"/Library/Frameworks/R.framework/Versions/3.6/Resources/library/beachmat/include" -I"/Library/Frameworks/R.framework/Versions/3.6/Resources/library/BH/include" -I"/Library/Frameworks/R.framework/Versions/3.6/Resources/library/dqrng/include" -I/usr/local/include -fPIC -Wall -g -O2 -c combine_rho.cpp -o combine_rho.o
clang++ -std=gnu++11 -I"/Library/Frameworks/R.framework/Resources/include" -DNDEBUG -I"/Library/Frameworks/R.framework/Versions/3.6/Resources/library/Rcpp/include" -I"/Library/Frameworks/R.framework/Versions/3.6/Resources/library/beachmat/include" -I"/Library/Frameworks/R.framework/Versions/3.6/Resources/library/BH/include" -I"/Library/Frameworks/R.framework/Versions/3.6/Resources/library/dqrng/include" -I/usr/local/include -fPIC -Wall -g -O2 -c combine_simes.cpp -o combine_simes.o
clang++ -std=gnu++11 -I"/Library/Frameworks/R.framework/Resources/include" -DNDEBUG -I"/Library/Frameworks/R.framework/Versions/3.6/Resources/library/Rcpp/include" -I"/Library/Frameworks/R.framework/Versions/3.6/Resources/library/beachmat/include" -I"/Library/Frameworks/R.framework/Versions/3.6/Resources/library/BH/include" -I"/Library/Frameworks/R.framework/Versions/3.6/Resources/library/dqrng/include" -I/usr/local/include -fPIC -Wall -g -O2 -c compute_CV2.cpp -o compute_CV2.o
clang++ -std=gnu++11 -I"/Library/Frameworks/R.framework/Resources/include" -DNDEBUG -I"/Library/Frameworks/R.framework/Versions/3.6/Resources/library/Rcpp/include" -I"/Library/Frameworks/R.framework/Versions/3.6/Resources/library/beachmat/include" -I"/Library/Frameworks/R.framework/Versions/3.6/Resources/library/BH/include" -I"/Library/Frameworks/R.framework/Versions/3.6/Resources/library/dqrng/include" -I/usr/local/include -fPIC -Wall -g -O2 -c compute_rho_null.cpp -o compute_rho_null.o
In file included from compute_rho_null.cpp:4:
In file included from ./rand_custom.h:6:
In file included from /Library/Frameworks/R.framework/Versions/3.6/Resources/library/BH/include/boost/random.hpp:36:
In file included from /Library/Frameworks/R.framework/Versions/3.6/Resources/library/BH/include/boost/random/additive_combine.hpp:27:
In file included from /Library/Frameworks/R.framework/Versions/3.6/Resources/library/BH/include/boost/random/linear_congruential.hpp:30:
In file included from /Library/Frameworks/R.framework/Versions/3.6/Resources/library/BH/include/boost/random/detail/const_mod.hpp:23:
In file included from /Library/Frameworks/R.framework/Versions/3.6/Resources/library/BH/include/boost/random/detail/large_arithmetic.hpp:19:
In file included from /Library/Frameworks/R.framework/Versions/3.6/Resources/library/BH/include/boost/random/detail/integer_log2.hpp:19:
/Library/Frameworks/R.framework/Versions/3.6/Resources/library/BH/include/boost/pending/integer_log2.hpp:7:1: warning: This header is deprecated. Use <boost/integer/integer_log2.hpp> instead. [-W#pragma-messages]
BOOST_HEADER_DEPRECATED("<boost/integer/integer_log2.hpp>");
^
/Library/Frameworks/R.framework/Versions/3.6/Resources/library/BH/include/boost/config/header_deprecated.hpp:23:37: note: expanded from macro 'BOOST_HEADER_DEPRECATED'
# define BOOST_HEADER_DEPRECATED(a) BOOST_PRAGMA_MESSAGE("This header is deprecated. Use " a " instead.")
^
/Library/Frameworks/R.framework/Versions/3.6/Resources/library/BH/include/boost/config/pragma_message.hpp:24:34: note: expanded from macro 'BOOST_PRAGMA_MESSAGE'
# define BOOST_PRAGMA_MESSAGE(x) _Pragma(BOOST_STRINGIZE(message(x)))
^
<scratch space>:159:2: note: expanded from here
message("This header is deprecated. Use " "<boost/integer/integer_log2.hpp>" " instead.")
^
1 warning generated.
clang++ -std=gnu++11 -I"/Library/Frameworks/R.framework/Resources/include" -DNDEBUG -I"/Library/Frameworks/R.framework/Versions/3.6/Resources/library/Rcpp/include" -I"/Library/Frameworks/R.framework/Versions/3.6/Resources/library/beachmat/include" -I"/Library/Frameworks/R.framework/Versions/3.6/Resources/library/BH/include" -I"/Library/Frameworks/R.framework/Versions/3.6/Resources/library/dqrng/include" -I/usr/local/include -fPIC -Wall -g -O2 -c compute_rho_pairs.cpp -o compute_rho_pairs.o
clang++ -std=gnu++11 -I"/Library/Frameworks/R.framework/Resources/include" -DNDEBUG -I"/Library/Frameworks/R.framework/Versions/3.6/Resources/library/Rcpp/include" -I"/Library/Frameworks/R.framework/Versions/3.6/Resources/library/beachmat/include" -I"/Library/Frameworks/R.framework/Versions/3.6/Resources/library/BH/include" -I"/Library/Frameworks/R.framework/Versions/3.6/Resources/library/dqrng/include" -I/usr/local/include -fPIC -Wall -g -O2 -c cyclone_scores.cpp -o cyclone_scores.o
In file included from cyclone_scores.cpp:7:
In file included from ./rand_custom.h:6:
In file included from /Library/Frameworks/R.framework/Versions/3.6/Resources/library/BH/include/boost/random.hpp:36:
In file included from /Library/Frameworks/R.framework/Versions/3.6/Resources/library/BH/include/boost/random/additive_combine.hpp:27:
In file included from /Library/Frameworks/R.framework/Versions/3.6/Resources/library/BH/include/boost/random/linear_congruential.hpp:30:
In file included from /Library/Frameworks/R.framework/Versions/3.6/Resources/library/BH/include/boost/random/detail/const_mod.hpp:23:
In file included from /Library/Frameworks/R.framework/Versions/3.6/Resources/library/BH/include/boost/random/detail/large_arithmetic.hpp:19:
In file included from /Library/Frameworks/R.framework/Versions/3.6/Resources/library/BH/include/boost/random/detail/integer_log2.hpp:19:
/Library/Frameworks/R.framework/Versions/3.6/Resources/library/BH/include/boost/pending/integer_log2.hpp:7:1: warning: This header is deprecated. Use <boost/integer/integer_log2.hpp> instead. [-W#pragma-messages]
BOOST_HEADER_DEPRECATED("<boost/integer/integer_log2.hpp>");
^
/Library/Frameworks/R.framework/Versions/3.6/Resources/library/BH/include/boost/config/header_deprecated.hpp:23:37: note: expanded from macro 'BOOST_HEADER_DEPRECATED'
# define BOOST_HEADER_DEPRECATED(a) BOOST_PRAGMA_MESSAGE("This header is deprecated. Use " a " instead.")
^
/Library/Frameworks/R.framework/Versions/3.6/Resources/library/BH/include/boost/config/pragma_message.hpp:24:34: note: expanded from macro 'BOOST_PRAGMA_MESSAGE'
# define BOOST_PRAGMA_MESSAGE(x) _Pragma(BOOST_STRINGIZE(message(x)))
^
<scratch space>:159:2: note: expanded from here
message("This header is deprecated. Use " "<boost/integer/integer_log2.hpp>" " instead.")
^
1 warning generated.
clang++ -std=gnu++11 -I"/Library/Frameworks/R.framework/Resources/include" -DNDEBUG -I"/Library/Frameworks/R.framework/Versions/3.6/Resources/library/Rcpp/include" -I"/Library/Frameworks/R.framework/Versions/3.6/Resources/library/beachmat/include" -I"/Library/Frameworks/R.framework/Versions/3.6/Resources/library/BH/include" -I"/Library/Frameworks/R.framework/Versions/3.6/Resources/library/dqrng/include" -I/usr/local/include -fPIC -Wall -g -O2 -c find_mutual_nns.cpp -o find_mutual_nns.o
clang++ -std=gnu++11 -I"/Library/Frameworks/R.framework/Resources/include" -DNDEBUG -I"/Library/Frameworks/R.framework/Versions/3.6/Resources/library/Rcpp/include" -I"/Library/Frameworks/R.framework/Versions/3.6/Resources/library/beachmat/include" -I"/Library/Frameworks/R.framework/Versions/3.6/Resources/library/BH/include" -I"/Library/Frameworks/R.framework/Versions/3.6/Resources/library/dqrng/include" -I/usr/local/include -fPIC -Wall -g -O2 -c fit_linear_model.cpp -o fit_linear_model.o
clang++ -std=gnu++11 -I"/Library/Frameworks/R.framework/Resources/include" -DNDEBUG -I"/Library/Frameworks/R.framework/Versions/3.6/Resources/library/Rcpp/include" -I"/Library/Frameworks/R.framework/Versions/3.6/Resources/library/beachmat/include" -I"/Library/Frameworks/R.framework/Versions/3.6/Resources/library/BH/include" -I"/Library/Frameworks/R.framework/Versions/3.6/Resources/library/dqrng/include" -I/usr/local/include -fPIC -Wall -g -O2 -c get_residuals.cpp -o get_residuals.o
clang++ -std=gnu++11 -I"/Library/Frameworks/R.framework/Resources/include" -DNDEBUG -I"/Library/Frameworks/R.framework/Versions/3.6/Resources/library/Rcpp/include" -I"/Library/Frameworks/R.framework/Versions/3.6/Resources/library/beachmat/include" -I"/Library/Frameworks/R.framework/Versions/3.6/Resources/library/BH/include" -I"/Library/Frameworks/R.framework/Versions/3.6/Resources/library/dqrng/include" -I/usr/local/include -fPIC -Wall -g -O2 -c get_scaled_ranks.cpp -o get_scaled_ranks.o
get_scaled_ranks.cpp:67:16: warning: unused variable 'accumulated_rank' [-Wunused-variable]
double accumulated_rank=0;
^
1 warning generated.
clang++ -std=gnu++11 -I"/Library/Frameworks/R.framework/Resources/include" -DNDEBUG -I"/Library/Frameworks/R.framework/Versions/3.6/Resources/library/Rcpp/include" -I"/Library/Frameworks/R.framework/Versions/3.6/Resources/library/beachmat/include" -I"/Library/Frameworks/R.framework/Versions/3.6/Resources/library/BH/include" -I"/Library/Frameworks/R.framework/Versions/3.6/Resources/library/dqrng/include" -I/usr/local/include -fPIC -Wall -g -O2 -c init.cpp -o init.o
clang++ -std=gnu++11 -I"/Library/Frameworks/R.framework/Resources/include" -DNDEBUG -I"/Library/Frameworks/R.framework/Versions/3.6/Resources/library/Rcpp/include" -I"/Library/Frameworks/R.framework/Versions/3.6/Resources/library/beachmat/include" -I"/Library/Frameworks/R.framework/Versions/3.6/Resources/library/BH/include" -I"/Library/Frameworks/R.framework/Versions/3.6/Resources/library/dqrng/include" -I/usr/local/include -fPIC -Wall -g -O2 -c overlap_exprs.cpp -o overlap_exprs.o
clang++ -std=gnu++11 -I"/Library/Frameworks/R.framework/Resources/include" -DNDEBUG -I"/Library/Frameworks/R.framework/Versions/3.6/Resources/library/Rcpp/include" -I"/Library/Frameworks/R.framework/Versions/3.6/Resources/library/beachmat/include" -I"/Library/Frameworks/R.framework/Versions/3.6/Resources/library/BH/include" -I"/Library/Frameworks/R.framework/Versions/3.6/Resources/library/dqrng/include" -I/usr/local/include -fPIC -Wall -g -O2 -c pool_size_factors.cpp -o pool_size_factors.o
clang++ -std=gnu++11 -I"/Library/Frameworks/R.framework/Resources/include" -DNDEBUG -I"/Library/Frameworks/R.framework/Versions/3.6/Resources/library/Rcpp/include" -I"/Library/Frameworks/R.framework/Versions/3.6/Resources/library/beachmat/include" -I"/Library/Frameworks/R.framework/Versions/3.6/Resources/library/BH/include" -I"/Library/Frameworks/R.framework/Versions/3.6/Resources/library/dqrng/include" -I/usr/local/include -fPIC -Wall -g -O2 -c rand_custom.cpp -o rand_custom.o
In file included from rand_custom.cpp:1:
In file included from ./rand_custom.h:6:
In file included from /Library/Frameworks/R.framework/Versions/3.6/Resources/library/BH/include/boost/random.hpp:36:
In file included from /Library/Frameworks/R.framework/Versions/3.6/Resources/library/BH/include/boost/random/additive_combine.hpp:27:
In file included from /Library/Frameworks/R.framework/Versions/3.6/Resources/library/BH/include/boost/random/linear_congruential.hpp:30:
In file included from /Library/Frameworks/R.framework/Versions/3.6/Resources/library/BH/include/boost/random/detail/const_mod.hpp:23:
In file included from /Library/Frameworks/R.framework/Versions/3.6/Resources/library/BH/include/boost/random/detail/large_arithmetic.hpp:19:
In file included from /Library/Frameworks/R.framework/Versions/3.6/Resources/library/BH/include/boost/random/detail/integer_log2.hpp:19:
/Library/Frameworks/R.framework/Versions/3.6/Resources/library/BH/include/boost/pending/integer_log2.hpp:7:1: warning: This header is deprecated. Use <boost/integer/integer_log2.hpp> instead. [-W#pragma-messages]
BOOST_HEADER_DEPRECATED("<boost/integer/integer_log2.hpp>");
^
/Library/Frameworks/R.framework/Versions/3.6/Resources/library/BH/include/boost/config/header_deprecated.hpp:23:37: note: expanded from macro 'BOOST_HEADER_DEPRECATED'
# define BOOST_HEADER_DEPRECATED(a) BOOST_PRAGMA_MESSAGE("This header is deprecated. Use " a " instead.")
^
/Library/Frameworks/R.framework/Versions/3.6/Resources/library/BH/include/boost/config/pragma_message.hpp:24:34: note: expanded from macro 'BOOST_PRAGMA_MESSAGE'
# define BOOST_PRAGMA_MESSAGE(x) _Pragma(BOOST_STRINGIZE(message(x)))
^
<scratch space>:159:2: note: expanded from here
message("This header is deprecated. Use " "<boost/integer/integer_log2.hpp>" " instead.")
^
1 warning generated.
clang++ -std=gnu++11 -I"/Library/Frameworks/R.framework/Resources/include" -DNDEBUG -I"/Library/Frameworks/R.framework/Versions/3.6/Resources/library/Rcpp/include" -I"/Library/Frameworks/R.framework/Versions/3.6/Resources/library/beachmat/include" -I"/Library/Frameworks/R.framework/Versions/3.6/Resources/library/BH/include" -I"/Library/Frameworks/R.framework/Versions/3.6/Resources/library/dqrng/include" -I/usr/local/include -fPIC -Wall -g -O2 -c run_dormqr.cpp -o run_dormqr.o
clang++ -std=gnu++11 -I"/Library/Frameworks/R.framework/Resources/include" -DNDEBUG -I"/Library/Frameworks/R.framework/Versions/3.6/Resources/library/Rcpp/include" -I"/Library/Frameworks/R.framework/Versions/3.6/Resources/library/beachmat/include" -I"/Library/Frameworks/R.framework/Versions/3.6/Resources/library/BH/include" -I"/Library/Frameworks/R.framework/Versions/3.6/Resources/library/dqrng/include" -I/usr/local/include -fPIC -Wall -g -O2 -c shuffle_matrix.cpp -o shuffle_matrix.o
In file included from shuffle_matrix.cpp:7:
In file included from ./rand_custom.h:6:
In file included from /Library/Frameworks/R.framework/Versions/3.6/Resources/library/BH/include/boost/random.hpp:36:
In file included from /Library/Frameworks/R.framework/Versions/3.6/Resources/library/BH/include/boost/random/additive_combine.hpp:27:
In file included from /Library/Frameworks/R.framework/Versions/3.6/Resources/library/BH/include/boost/random/linear_congruential.hpp:30:
In file included from /Library/Frameworks/R.framework/Versions/3.6/Resources/library/BH/include/boost/random/detail/const_mod.hpp:23:
In file included from /Library/Frameworks/R.framework/Versions/3.6/Resources/library/BH/include/boost/random/detail/large_arithmetic.hpp:19:
In file included from /Library/Frameworks/R.framework/Versions/3.6/Resources/library/BH/include/boost/random/detail/integer_log2.hpp:19:
/Library/Frameworks/R.framework/Versions/3.6/Resources/library/BH/include/boost/pending/integer_log2.hpp:7:1: warning: This header is deprecated. Use <boost/integer/integer_log2.hpp> instead. [-W#pragma-messages]
BOOST_HEADER_DEPRECATED("<boost/integer/integer_log2.hpp>");
^
/Library/Frameworks/R.framework/Versions/3.6/Resources/library/BH/include/boost/config/header_deprecated.hpp:23:37: note: expanded from macro 'BOOST_HEADER_DEPRECATED'
# define BOOST_HEADER_DEPRECATED(a) BOOST_PRAGMA_MESSAGE("This header is deprecated. Use " a " instead.")
^
/Library/Frameworks/R.framework/Versions/3.6/Resources/library/BH/include/boost/config/pragma_message.hpp:24:34: note: expanded from macro 'BOOST_PRAGMA_MESSAGE'
# define BOOST_PRAGMA_MESSAGE(x) _Pragma(BOOST_STRINGIZE(message(x)))
^
<scratch space>:159:2: note: expanded from here
message("This header is deprecated. Use " "<boost/integer/integer_log2.hpp>" " instead.")
^
1 warning generated.
clang++ -std=gnu++11 -I"/Library/Frameworks/R.framework/Resources/include" -DNDEBUG -I"/Library/Frameworks/R.framework/Versions/3.6/Resources/library/Rcpp/include" -I"/Library/Frameworks/R.framework/Versions/3.6/Resources/library/beachmat/include" -I"/Library/Frameworks/R.framework/Versions/3.6/Resources/library/BH/include" -I"/Library/Frameworks/R.framework/Versions/3.6/Resources/library/dqrng/include" -I/usr/local/include -fPIC -Wall -g -O2 -c subset_and_divide.cpp -o subset_and_divide.o
clang++ -std=gnu++11 -I"/Library/Frameworks/R.framework/Resources/include" -DNDEBUG -I"/Library/Frameworks/R.framework/Versions/3.6/Resources/library/Rcpp/include" -I"/Library/Frameworks/R.framework/Versions/3.6/Resources/library/beachmat/include" -I"/Library/Frameworks/R.framework/Versions/3.6/Resources/library/BH/include" -I"/Library/Frameworks/R.framework/Versions/3.6/Resources/library/dqrng/include" -I/usr/local/include -fPIC -Wall -g -O2 -c test_shuffle.cpp -o test_shuffle.o
In file included from test_shuffle.cpp:3:
In file included from ./rand_custom.h:6:
In file included from /Library/Frameworks/R.framework/Versions/3.6/Resources/library/BH/include/boost/random.hpp:36:
In file included from /Library/Frameworks/R.framework/Versions/3.6/Resources/library/BH/include/boost/random/additive_combine.hpp:27:
In file included from /Library/Frameworks/R.framework/Versions/3.6/Resources/library/BH/include/boost/random/linear_congruential.hpp:30:
In file included from /Library/Frameworks/R.framework/Versions/3.6/Resources/library/BH/include/boost/random/detail/const_mod.hpp:23:
In file included from /Library/Frameworks/R.framework/Versions/3.6/Resources/library/BH/include/boost/random/detail/large_arithmetic.hpp:19:
In file included from /Library/Frameworks/R.framework/Versions/3.6/Resources/library/BH/include/boost/random/detail/integer_log2.hpp:19:
/Library/Frameworks/R.framework/Versions/3.6/Resources/library/BH/include/boost/pending/integer_log2.hpp:7:1: warning: This header is deprecated. Use <boost/integer/integer_log2.hpp> instead. [-W#pragma-messages]
BOOST_HEADER_DEPRECATED("<boost/integer/integer_log2.hpp>");
^
/Library/Frameworks/R.framework/Versions/3.6/Resources/library/BH/include/boost/config/header_deprecated.hpp:23:37: note: expanded from macro 'BOOST_HEADER_DEPRECATED'
# define BOOST_HEADER_DEPRECATED(a) BOOST_PRAGMA_MESSAGE("This header is deprecated. Use " a " instead.")
^
/Library/Frameworks/R.framework/Versions/3.6/Resources/library/BH/include/boost/config/pragma_message.hpp:24:34: note: expanded from macro 'BOOST_PRAGMA_MESSAGE'
# define BOOST_PRAGMA_MESSAGE(x) _Pragma(BOOST_STRINGIZE(message(x)))
^
<scratch space>:159:2: note: expanded from here
message("This header is deprecated. Use " "<boost/integer/integer_log2.hpp>" " instead.")
^
1 warning generated.
clang++ -std=gnu++11 -I"/Library/Frameworks/R.framework/Resources/include" -DNDEBUG -I"/Library/Frameworks/R.framework/Versions/3.6/Resources/library/Rcpp/include" -I"/Library/Frameworks/R.framework/Versions/3.6/Resources/library/beachmat/include" -I"/Library/Frameworks/R.framework/Versions/3.6/Resources/library/BH/include" -I"/Library/Frameworks/R.framework/Versions/3.6/Resources/library/dqrng/include" -I/usr/local/include -fPIC -Wall -g -O2 -c utils.cpp -o utils.o
clang++ -std=gnu++11 -dynamiclib -Wl,-headerpad_max_install_names -undefined dynamic_lookup -single_module -multiply_defined suppress -L/Library/Frameworks/R.framework/Resources/lib -L/usr/local/lib -o scran.so build_snn.o calc_log_count_stats.o combine_rho.o combine_simes.o compute_CV2.o compute_rho_null.o compute_rho_pairs.o cyclone_scores.o find_mutual_nns.o fit_linear_model.o get_residuals.o get_scaled_ranks.o init.o overlap_exprs.o pool_size_factors.o rand_custom.o run_dormqr.o shuffle_matrix.o subset_and_divide.o test_shuffle.o utils.o -L/Library/Frameworks/R.framework/Resources/lib -lRlapack -L/Library/Frameworks/R.framework/Resources/lib -lRblas -L/usr/local/gfortran/lib/gcc/x86_64-apple-darwin15/6.1.0 -L/usr/local/gfortran/lib -lgfortran -lquadmath -lm -F/Library/Frameworks/R.framework/.. -framework R -Wl,-framework -Wl,CoreFoundation
installing to /Users/biocbuild/bbs-3.9-bioc/meat/scran.buildbin-libdir/scran/libs
** R
** inst
** byte-compile and prepare package for lazy loading
** help
*** installing help indices
** building package indices
** installing vignettes
** testing if installed package can be loaded
* DONE (scran)
>>>>>>>
>>>>>>> FIXING LINKS FOR scran.buildbin-libdir/scran/libs//scran.so
>>>>>>>
install_name_tool -change "/usr/local/lib/libgcc_s.1.dylib" "/Library/Frameworks/R.framework/Versions/3.6/Resources/lib/libgcc_s.1.dylib" "scran.buildbin-libdir/scran/libs//scran.so"
install_name_tool -change "/usr/local/lib/libgfortran.3.dylib" "/Library/Frameworks/R.framework/Versions/3.6/Resources/lib/libgfortran.3.dylib" "scran.buildbin-libdir/scran/libs//scran.so"
install_name_tool -change "/usr/local/lib/libreadline.5.2.dylib" "/Library/Frameworks/R.framework/Versions/3.6/Resources/lib/libreadline.5.2.dylib" "scran.buildbin-libdir/scran/libs//scran.so"
install_name_tool -change "/usr/local/lib/libreadline.dylib" "/Library/Frameworks/R.framework/Versions/3.6/Resources/lib/libreadline.dylib" "scran.buildbin-libdir/scran/libs//scran.so"
install_name_tool -change "/usr/local/lib/libquadmath.0.dylib" "/Library/Frameworks/R.framework/Versions/3.6/Resources/lib/libquadmath.0.dylib" "scran.buildbin-libdir/scran/libs//scran.so"
install_name_tool -change "/usr/local/gfortran/lib/libgfortran.3.dylib" "/Library/Frameworks/R.framework/Versions/3.6/Resources/lib/libgfortran.3.dylib" "scran.buildbin-libdir/scran/libs//scran.so"
install_name_tool -change "/usr/local/gfortran/lib/libquadmath.0.dylib" "/Library/Frameworks/R.framework/Versions/3.6/Resources/lib/libquadmath.0.dylib" "scran.buildbin-libdir/scran/libs//scran.so"