| Back to Multiple platform build/check report for BioC 3.9 |
|
This page was generated on 2019-04-09 13:15:37 -0400 (Tue, 09 Apr 2019).
| Package 1433/1703 | Hostname | OS / Arch | INSTALL | BUILD | CHECK | BUILD BIN | ||||||
| scater 1.11.15 Davis McCarthy
| malbec2 | Linux (Ubuntu 18.04.2 LTS) / x86_64 | OK | OK | OK | |||||||
| tokay2 | Windows Server 2012 R2 Standard / x64 | OK | OK | WARNINGS | OK | |||||||
| celaya2 | OS X 10.11.6 El Capitan / x86_64 | OK | OK | [ OK ] | OK | |||||||
| merida2 | OS X 10.11.6 El Capitan / x86_64 | OK | OK | OK | OK |
| Package: scater |
| Version: 1.11.15 |
| Command: /Library/Frameworks/R.framework/Versions/Current/Resources/bin/R CMD check --install=check:scater.install-out.txt --library=/Library/Frameworks/R.framework/Versions/Current/Resources/library --no-vignettes --timings scater_1.11.15.tar.gz |
| StartedAt: 2019-04-09 05:16:39 -0400 (Tue, 09 Apr 2019) |
| EndedAt: 2019-04-09 05:28:10 -0400 (Tue, 09 Apr 2019) |
| EllapsedTime: 690.5 seconds |
| RetCode: 0 |
| Status: OK |
| CheckDir: scater.Rcheck |
| Warnings: 0 |
##############################################################################
##############################################################################
###
### Running command:
###
### /Library/Frameworks/R.framework/Versions/Current/Resources/bin/R CMD check --install=check:scater.install-out.txt --library=/Library/Frameworks/R.framework/Versions/Current/Resources/library --no-vignettes --timings scater_1.11.15.tar.gz
###
##############################################################################
##############################################################################
* using log directory ‘/Users/biocbuild/bbs-3.9-bioc/meat/scater.Rcheck’
* using R Under development (unstable) (2019-03-18 r76245)
* using platform: x86_64-apple-darwin15.6.0 (64-bit)
* using session charset: UTF-8
* using option ‘--no-vignettes’
* checking for file ‘scater/DESCRIPTION’ ... OK
* checking extension type ... Package
* this is package ‘scater’ version ‘1.11.15’
* checking package namespace information ... OK
* checking package dependencies ... OK
* checking if this is a source package ... OK
* checking if there is a namespace ... OK
* checking for hidden files and directories ... OK
* checking for portable file names ... OK
* checking for sufficient/correct file permissions ... OK
* checking whether package ‘scater’ can be installed ... OK
* checking installed package size ... OK
* checking package directory ... OK
* checking ‘build’ directory ... OK
* checking DESCRIPTION meta-information ... OK
* checking top-level files ... OK
* checking for left-over files ... OK
* checking index information ... OK
* checking package subdirectories ... OK
* checking R files for non-ASCII characters ... OK
* checking R files for syntax errors ... OK
* checking whether the package can be loaded ... OK
* checking whether the package can be loaded with stated dependencies ... OK
* checking whether the package can be unloaded cleanly ... OK
* checking whether the namespace can be loaded with stated dependencies ... OK
* checking whether the namespace can be unloaded cleanly ... OK
* checking dependencies in R code ... OK
* checking S3 generic/method consistency ... OK
* checking replacement functions ... OK
* checking foreign function calls ... OK
* checking R code for possible problems ... OK
* checking Rd files ... OK
* checking Rd metadata ... OK
* checking Rd cross-references ... OK
* checking for missing documentation entries ... OK
* checking for code/documentation mismatches ... OK
* checking Rd \usage sections ... OK
* checking Rd contents ... OK
* checking for unstated dependencies in examples ... OK
* checking contents of ‘data’ directory ... OK
* checking data for non-ASCII characters ... OK
* checking data for ASCII and uncompressed saves ... OK
* checking line endings in C/C++/Fortran sources/headers ... OK
* checking compiled code ... NOTE
Note: information on .o files is not available
* checking files in ‘vignettes’ ... OK
* checking examples ... OK
Examples with CPU or elapsed time > 5s
user system elapsed
plot_reddim 6.869 0.104 6.980
plotExpression 4.995 0.200 5.196
* checking for unstated dependencies in ‘tests’ ... OK
* checking tests ...
Running ‘testthat.R’
OK
* checking for unstated dependencies in vignettes ... OK
* checking package vignettes in ‘inst/doc’ ... OK
* checking running R code from vignettes ... SKIPPED
* checking re-building of vignette outputs ... SKIPPED
* checking PDF version of manual ... OK
* DONE
Status: 1 NOTE
See
‘/Users/biocbuild/bbs-3.9-bioc/meat/scater.Rcheck/00check.log’
for details.
scater.Rcheck/00install.out
##############################################################################
##############################################################################
###
### Running command:
###
### /Library/Frameworks/R.framework/Versions/Current/Resources/bin/R CMD INSTALL scater
###
##############################################################################
##############################################################################
* installing to library ‘/Library/Frameworks/R.framework/Versions/3.6/Resources/library’
* installing *source* package ‘scater’ ...
** using staged installation
** libs
clang++ -std=gnu++11 -I"/Library/Frameworks/R.framework/Resources/include" -DNDEBUG -I"/Library/Frameworks/R.framework/Versions/3.6/Resources/library/Rcpp/include" -I"/Library/Frameworks/R.framework/Versions/3.6/Resources/library/beachmat/include" -I/usr/local/include -fPIC -Wall -g -O2 -c calc_exprs.cpp -o calc_exprs.o
clang++ -std=gnu++11 -I"/Library/Frameworks/R.framework/Resources/include" -DNDEBUG -I"/Library/Frameworks/R.framework/Versions/3.6/Resources/library/Rcpp/include" -I"/Library/Frameworks/R.framework/Versions/3.6/Resources/library/beachmat/include" -I/usr/local/include -fPIC -Wall -g -O2 -c combined_qc.cpp -o combined_qc.o
clang++ -std=gnu++11 -I"/Library/Frameworks/R.framework/Resources/include" -DNDEBUG -I"/Library/Frameworks/R.framework/Versions/3.6/Resources/library/Rcpp/include" -I"/Library/Frameworks/R.framework/Versions/3.6/Resources/library/beachmat/include" -I/usr/local/include -fPIC -Wall -g -O2 -c init.cpp -o init.o
clang++ -std=gnu++11 -I"/Library/Frameworks/R.framework/Resources/include" -DNDEBUG -I"/Library/Frameworks/R.framework/Versions/3.6/Resources/library/Rcpp/include" -I"/Library/Frameworks/R.framework/Versions/3.6/Resources/library/beachmat/include" -I/usr/local/include -fPIC -Wall -g -O2 -c num_exprs.cpp -o num_exprs.o
clang++ -std=gnu++11 -I"/Library/Frameworks/R.framework/Resources/include" -DNDEBUG -I"/Library/Frameworks/R.framework/Versions/3.6/Resources/library/Rcpp/include" -I"/Library/Frameworks/R.framework/Versions/3.6/Resources/library/beachmat/include" -I/usr/local/include -fPIC -Wall -g -O2 -c sum_counts.cpp -o sum_counts.o
sum_counts.cpp:72:18: warning: unused variable 'ncells' [-Wunused-variable]
const size_t ncells=end_index - start_index;
^
sum_counts.cpp:96:18: warning: unused variable 'ncells' [-Wunused-variable]
const size_t ncells=mat->get_ncol();
^
2 warnings generated.
clang++ -std=gnu++11 -I"/Library/Frameworks/R.framework/Resources/include" -DNDEBUG -I"/Library/Frameworks/R.framework/Versions/3.6/Resources/library/Rcpp/include" -I"/Library/Frameworks/R.framework/Versions/3.6/Resources/library/beachmat/include" -I/usr/local/include -fPIC -Wall -g -O2 -c utils.cpp -o utils.o
clang++ -std=gnu++11 -dynamiclib -Wl,-headerpad_max_install_names -undefined dynamic_lookup -single_module -multiply_defined suppress -L/Library/Frameworks/R.framework/Resources/lib -L/usr/local/lib -o scater.so calc_exprs.o combined_qc.o init.o num_exprs.o sum_counts.o utils.o -F/Library/Frameworks/R.framework/.. -framework R -Wl,-framework -Wl,CoreFoundation
installing to /Library/Frameworks/R.framework/Versions/3.6/Resources/library/00LOCK-scater/00new/scater/libs
** R
** data
*** moving datasets to lazyload DB
** inst
** byte-compile and prepare package for lazy loading
Creating a new generic function for ‘filter’ in package ‘scater’
** help
*** installing help indices
** building package indices
** installing vignettes
** testing if installed package can be loaded from temporary location
** checking absolute paths in shared objects and dynamic libraries
** testing if installed package can be loaded from final location
** testing if installed package keeps a record of temporary installation path
* DONE (scater)
scater.Rcheck/tests/testthat.Rout
R Under development (unstable) (2019-03-18 r76245) -- "Unsuffered Consequences"
Copyright (C) 2019 The R Foundation for Statistical Computing
Platform: x86_64-apple-darwin15.6.0 (64-bit)
R is free software and comes with ABSOLUTELY NO WARRANTY.
You are welcome to redistribute it under certain conditions.
Type 'license()' or 'licence()' for distribution details.
R is a collaborative project with many contributors.
Type 'contributors()' for more information and
'citation()' on how to cite R or R packages in publications.
Type 'demo()' for some demos, 'help()' for on-line help, or
'help.start()' for an HTML browser interface to help.
Type 'q()' to quit R.
> Sys.setenv("R_TESTS" = "")
> library(testthat)
> library(scater)
Loading required package: SingleCellExperiment
Loading required package: SummarizedExperiment
Loading required package: GenomicRanges
Loading required package: stats4
Loading required package: BiocGenerics
Loading required package: parallel
Attaching package: 'BiocGenerics'
The following objects are masked from 'package:parallel':
clusterApply, clusterApplyLB, clusterCall, clusterEvalQ,
clusterExport, clusterMap, parApply, parCapply, parLapply,
parLapplyLB, parRapply, parSapply, parSapplyLB
The following objects are masked from 'package:stats':
IQR, mad, sd, var, xtabs
The following objects are masked from 'package:base':
Filter, Find, Map, Position, Reduce, anyDuplicated, append,
as.data.frame, basename, cbind, colMeans, colSums, colnames,
dirname, do.call, duplicated, eval, evalq, get, grep, grepl,
intersect, is.unsorted, lapply, mapply, match, mget, order, paste,
pmax, pmax.int, pmin, pmin.int, rank, rbind, rowMeans, rowSums,
rownames, sapply, setdiff, sort, table, tapply, union, unique,
unsplit, which, which.max, which.min
Loading required package: S4Vectors
Attaching package: 'S4Vectors'
The following object is masked from 'package:base':
expand.grid
Loading required package: IRanges
Loading required package: GenomeInfoDb
Loading required package: Biobase
Welcome to Bioconductor
Vignettes contain introductory material; view with
'browseVignettes()'. To cite Bioconductor, see
'citation("Biobase")', and for packages 'citation("pkgname")'.
Loading required package: DelayedArray
Loading required package: matrixStats
Attaching package: 'matrixStats'
The following objects are masked from 'package:Biobase':
anyMissing, rowMedians
Loading required package: BiocParallel
Attaching package: 'DelayedArray'
The following objects are masked from 'package:matrixStats':
colMaxs, colMins, colRanges, rowMaxs, rowMins, rowRanges
The following objects are masked from 'package:base':
aperm, apply, rowsum
Loading required package: ggplot2
Attaching package: 'scater'
The following object is masked from 'package:S4Vectors':
rename
The following object is masked from 'package:stats':
filter
>
> test_check("scater")
══ testthat results ═══════════════════════════════════════════════════════════
OK: 1227 SKIPPED: 0 FAILED: 0
>
> proc.time()
user system elapsed
216.764 12.306 390.696
scater.Rcheck/scater-Ex.timings
| name | user | system | elapsed | |
| accessors | 1.059 | 0.112 | 1.172 | |
| arrange | 0.095 | 0.006 | 0.101 | |
| bootstraps | 0.097 | 0.008 | 0.106 | |
| calculateAverage | 0.094 | 0.008 | 0.101 | |
| calculateCPM | 0.102 | 0.009 | 0.110 | |
| calculateFPKM | 0.096 | 0.009 | 0.105 | |
| calculateQCMetrics | 0.598 | 0.014 | 0.613 | |
| calculateTPM | 0.171 | 0.008 | 0.179 | |
| centreSizeFactors | 0.115 | 0.008 | 0.122 | |
| filter | 0.082 | 0.005 | 0.087 | |
| getBMFeatureAnnos | 0.000 | 0.000 | 0.001 | |
| getExplanatoryPCs | 0.423 | 0.058 | 0.571 | |
| getVarianceExplained | 0.135 | 0.018 | 0.153 | |
| isOutlier | 0.251 | 0.009 | 0.260 | |
| librarySizeFactors | 0.009 | 0.003 | 0.012 | |
| multiplot | 2.298 | 0.041 | 2.340 | |
| mutate | 0.048 | 0.005 | 0.052 | |
| nexprs | 0.054 | 0.005 | 0.059 | |
| normalize | 0.137 | 0.006 | 0.142 | |
| normalizeCounts | 0.008 | 0.003 | 0.010 | |
| plotColData | 2.385 | 0.036 | 2.425 | |
| plotExplanatoryPCs | 0.821 | 0.010 | 0.832 | |
| plotExplanatoryVariables | 0.652 | 0.050 | 0.701 | |
| plotExpression | 4.995 | 0.200 | 5.196 | |
| plotExprsFreqVsMean | 1.363 | 0.027 | 1.391 | |
| plotExprsVsTxLength | 3.598 | 0.086 | 3.687 | |
| plotHeatmap | 0.561 | 0.039 | 0.602 | |
| plotHighestExprs | 1.618 | 0.027 | 1.646 | |
| plotPlatePosition | 1.453 | 0.012 | 1.465 | |
| plotRLE | 3.308 | 0.199 | 3.508 | |
| plotReducedDim | 4.634 | 0.032 | 4.668 | |
| plotRowData | 1.606 | 0.017 | 1.626 | |
| plotScater | 3.737 | 0.212 | 3.952 | |
| plot_reddim | 6.869 | 0.104 | 6.980 | |
| readSparseCounts | 0.022 | 0.002 | 0.023 | |
| rename | 0.129 | 0.007 | 0.137 | |
| runDiffusionMap | 0.198 | 0.008 | 0.206 | |
| runMDS | 0.149 | 0.009 | 0.159 | |
| runPCA | 0.185 | 0.014 | 0.199 | |
| runTSNE | 0.232 | 0.010 | 0.242 | |
| runUMAP | 3.231 | 0.038 | 3.260 | |
| sumCountsAcrossCells | 0.081 | 0.018 | 0.100 | |
| sumCountsAcrossFeatures | 0.046 | 0.006 | 0.051 | |
| toSingleCellExperiment | 0.001 | 0.000 | 0.001 | |
| uniquifyFeatureNames | 0.001 | 0.001 | 0.001 | |