| Back to Multiple platform build/check report for BioC 3.9 |
|
This page was generated on 2019-04-09 13:38:14 -0400 (Tue, 09 Apr 2019).
| Package 1451/1703 | Hostname | OS / Arch | INSTALL | BUILD | CHECK | BUILD BIN | ||||||
| scTensor 0.99.22 Koki Tsuyuzaki
| malbec2 | Linux (Ubuntu 18.04.2 LTS) / x86_64 | OK | OK | WARNINGS | |||||||
| tokay2 | Windows Server 2012 R2 Standard / x64 | OK | OK | WARNINGS | OK | |||||||
| celaya2 | OS X 10.11.6 El Capitan / x86_64 | OK | OK | WARNINGS | OK | |||||||
| merida2 | OS X 10.11.6 El Capitan / x86_64 | OK | OK | [ OK ] | OK |
| Package: scTensor |
| Version: 0.99.22 |
| Command: /Library/Frameworks/R.framework/Versions/Current/Resources/bin/R CMD check --install=check:scTensor.install-out.txt --library=/Library/Frameworks/R.framework/Versions/Current/Resources/library --no-vignettes --timings scTensor_0.99.22.tar.gz |
| StartedAt: 2019-04-09 03:38:08 -0400 (Tue, 09 Apr 2019) |
| EndedAt: 2019-04-09 03:46:13 -0400 (Tue, 09 Apr 2019) |
| EllapsedTime: 485.4 seconds |
| RetCode: 0 |
| Status: OK |
| CheckDir: scTensor.Rcheck |
| Warnings: 0 |
############################################################################## ############################################################################## ### ### Running command: ### ### /Library/Frameworks/R.framework/Versions/Current/Resources/bin/R CMD check --install=check:scTensor.install-out.txt --library=/Library/Frameworks/R.framework/Versions/Current/Resources/library --no-vignettes --timings scTensor_0.99.22.tar.gz ### ############################################################################## ############################################################################## * using log directory ‘/Users/biocbuild/bbs-3.9-bioc/meat/scTensor.Rcheck’ * using R Under development (unstable) (2018-11-27 r75683) * using platform: x86_64-apple-darwin15.6.0 (64-bit) * using session charset: UTF-8 * using option ‘--no-vignettes’ * checking for file ‘scTensor/DESCRIPTION’ ... OK * checking extension type ... Package * this is package ‘scTensor’ version ‘0.99.22’ * checking package namespace information ... OK * checking package dependencies ... OK * checking if this is a source package ... OK * checking if there is a namespace ... OK * checking for hidden files and directories ... OK * checking for portable file names ... OK * checking for sufficient/correct file permissions ... OK * checking whether package ‘scTensor’ can be installed ... OK * checking installed package size ... OK * checking package directory ... OK * checking ‘build’ directory ... OK * checking DESCRIPTION meta-information ... OK * checking top-level files ... OK * checking for left-over files ... OK * checking index information ... OK * checking package subdirectories ... OK * checking R files for non-ASCII characters ... OK * checking R files for syntax errors ... OK * checking whether the package can be loaded ... OK * checking whether the package can be loaded with stated dependencies ... OK * checking whether the package can be unloaded cleanly ... OK * checking whether the namespace can be loaded with stated dependencies ... OK * checking whether the namespace can be unloaded cleanly ... OK * checking dependencies in R code ... OK * checking S3 generic/method consistency ... OK * checking replacement functions ... OK * checking foreign function calls ... OK * checking R code for possible problems ... NOTE .simulateDropoutCounts: no visible binding for global variable '.v' .simulateDropoutCounts: no visible binding for global variable '.m' Undefined global functions or variables: .m .v * checking Rd files ... OK * checking Rd metadata ... OK * checking Rd cross-references ... OK * checking for missing documentation entries ... OK * checking for code/documentation mismatches ... OK * checking Rd \usage sections ... OK * checking Rd contents ... OK * checking for unstated dependencies in examples ... OK * checking contents of ‘data’ directory ... OK * checking data for non-ASCII characters ... OK * checking data for ASCII and uncompressed saves ... OK * checking files in ‘vignettes’ ... OK * checking examples ... OK * checking for unstated dependencies in ‘tests’ ... OK * checking tests ... Running ‘testthat.R’ OK * checking for unstated dependencies in vignettes ... OK * checking package vignettes in ‘inst/doc’ ... OK * checking running R code from vignettes ... SKIPPED * checking re-building of vignette outputs ... SKIPPED * checking PDF version of manual ... OK * DONE Status: 1 NOTE See ‘/Users/biocbuild/bbs-3.9-bioc/meat/scTensor.Rcheck/00check.log’ for details.
scTensor.Rcheck/00install.out
############################################################################## ############################################################################## ### ### Running command: ### ### /Library/Frameworks/R.framework/Versions/Current/Resources/bin/R CMD INSTALL scTensor ### ############################################################################## ############################################################################## * installing to library ‘/Library/Frameworks/R.framework/Versions/3.6/Resources/library’ * installing *source* package ‘scTensor’ ... ** R ** data ** inst ** byte-compile and prepare package for lazy loading Creating a new generic function for 'show' in package 'scTensor' ** help *** installing help indices ** building package indices ** installing vignettes ** testing if installed package can be loaded * DONE (scTensor)
scTensor.Rcheck/tests/testthat.Rout
R Under development (unstable) (2018-11-27 r75683) -- "Unsuffered Consequences"
Copyright (C) 2018 The R Foundation for Statistical Computing
Platform: x86_64-apple-darwin15.6.0 (64-bit)
R is free software and comes with ABSOLUTELY NO WARRANTY.
You are welcome to redistribute it under certain conditions.
Type 'license()' or 'licence()' for distribution details.
R is a collaborative project with many contributors.
Type 'contributors()' for more information and
'citation()' on how to cite R or R packages in publications.
Type 'demo()' for some demos, 'help()' for on-line help, or
'help.start()' for an HTML browser interface to help.
Type 'q()' to quit R.
> library("testthat")
> library("scTensor")
>
> options(testthat.use_colours = FALSE)
>
> test_file("testthat/test_GermMale.R")
✔ | OK F W S | Context
⠏ | 0 | GermMale
⠋ | 0 1 | GermMale
✖ | 0 1 | GermMale
────────────────────────────────────────────────────────────────────────────────
test_GermMale.R:5: failure: (unknown)
dim(GermMale) not equivalent to c(2547, 852).
1/2 mismatches
[1] 242 - 2547 == -2305
────────────────────────────────────────────────────────────────────────────────
══ Results ═════════════════════════════════════════════════════════════════════
Duration: 0.1 s
OK: 0
Failed: 1
Warnings: 0
Skipped: 0
> test_file("testthat/test_tsneGermMale.R")
✔ | OK F W S | Context
⠏ | 0 | tsneGermMale
⠋ | 1 | tsneGermMale
✔ | 1 | tsneGermMale
══ Results ═════════════════════════════════════════════════════════════════════
OK: 1
Failed: 0
Warnings: 0
Skipped: 0
> test_file("testthat/test_labelGermMale.R")
✔ | OK F W S | Context
⠏ | 0 | labelGermMale
⠋ | 1 | labelGermMale
✔ | 1 | labelGermMale
══ Results ═════════════════════════════════════════════════════════════════════
OK: 1
Failed: 0
Warnings: 0
Skipped: 0
> test_file("testthat/test_cellCellFunctions.R")
✔ | OK F W S | Context
⠏ | 0 | cellCellFunctions
⠋ | 1 | cellCellFunctions
⠙ | 2 | cellCellFunctions
⠹ | 3 | cellCellFunctions
⠸ | 3 1 | cellCellFunctions
⠼ | 3 2 | cellCellFunctions
⠴ | 3 3 | cellCellFunctions
✖ | 3 3 | cellCellFunctions [1.0 s]
────────────────────────────────────────────────────────────────────────────────
test_cellCellFunctions.R:21: failure: (unknown)
is.null(metadata(sce)$lrbase) isn't false.
test_cellCellFunctions.R:22: failure: (unknown)
is.null(metadata(sce)$color) isn't false.
test_cellCellFunctions.R:23: failure: (unknown)
is.null(metadata(sce)$label) isn't false.
────────────────────────────────────────────────────────────────────────────────
══ Results ═════════════════════════════════════════════════════════════════════
Duration: 1.0 s
OK: 3
Failed: 3
Warnings: 0
Skipped: 0
> test_file("testthat/test_CCSParamsFunctions.R")
✔ | OK F W S | Context
⠋ | 1 | 0
⠙ | 2 | 0
⠹ | 3 | 0
⠸ | 4 | 0
⠼ | 5 | 0
⠴ | 6 | 0
⠦ | 7 | 0
⠧ | 8 | 0
⠇ | 9 | 0
⠏ | 10 | 0
⠋ | 11 | 0
══ Results ═════════════════════════════════════════════════════════════════════
OK: 11
Failed: 0
Warnings: 0
Skipped: 0
Woot!
>
> proc.time()
user system elapsed
24.601 1.301 26.163
scTensor.Rcheck/scTensor-Ex.timings
| name | user | system | elapsed | |
| GermMale | 0.016 | 0.003 | 0.019 | |
| cellCellDecomp | 0.003 | 0.000 | 0.003 | |
| cellCellRanks | 0.001 | 0.000 | 0.001 | |
| cellCellReport | 0.004 | 0.001 | 0.004 | |
| cellCellSetting | 0.001 | 0.000 | 0.002 | |
| cellCellSimulate | 0.001 | 0.000 | 0.001 | |
| getParam | 0.002 | 0.000 | 0.002 | |
| labelGermMale | 0.002 | 0.001 | 0.002 | |
| m | 0.002 | 0.001 | 0.003 | |
| newCCSParams | 0 | 0 | 0 | |
| scTensor-package | 0.004 | 0.000 | 0.003 | |
| setParam | 0.003 | 0.000 | 0.003 | |
| tsneGermMale | 0.001 | 0.001 | 0.002 | |
| v | 0.002 | 0.001 | 0.003 | |