| Back to Multiple platform build/check report for BioC 3.9 |
|
This page was generated on 2019-04-09 11:37:24 -0400 (Tue, 09 Apr 2019).
| Package 1428/1703 | Hostname | OS / Arch | INSTALL | BUILD | CHECK | BUILD BIN | ||||||
| savR 1.21.0 R. Brent Calder
| malbec2 | Linux (Ubuntu 18.04.2 LTS) / x86_64 | OK | OK | [ OK ] | |||||||
| tokay2 | Windows Server 2012 R2 Standard / x64 | OK | OK | OK | OK | |||||||
| celaya2 | OS X 10.11.6 El Capitan / x86_64 | OK | OK | OK | OK | |||||||
| merida2 | OS X 10.11.6 El Capitan / x86_64 | OK | OK | OK | OK |
| Package: savR |
| Version: 1.21.0 |
| Command: /home/biocbuild/bbs-3.9-bioc/R/bin/R CMD check --install=check:savR.install-out.txt --library=/home/biocbuild/bbs-3.9-bioc/R/library --no-vignettes --timings savR_1.21.0.tar.gz |
| StartedAt: 2019-04-09 03:27:28 -0400 (Tue, 09 Apr 2019) |
| EndedAt: 2019-04-09 03:28:51 -0400 (Tue, 09 Apr 2019) |
| EllapsedTime: 82.7 seconds |
| RetCode: 0 |
| Status: OK |
| CheckDir: savR.Rcheck |
| Warnings: 0 |
##############################################################################
##############################################################################
###
### Running command:
###
### /home/biocbuild/bbs-3.9-bioc/R/bin/R CMD check --install=check:savR.install-out.txt --library=/home/biocbuild/bbs-3.9-bioc/R/library --no-vignettes --timings savR_1.21.0.tar.gz
###
##############################################################################
##############################################################################
* using log directory ‘/home/biocbuild/bbs-3.9-bioc/meat/savR.Rcheck’
* using R Under development (unstable) (2019-03-18 r76245)
* using platform: x86_64-pc-linux-gnu (64-bit)
* using session charset: UTF-8
* using option ‘--no-vignettes’
* checking for file ‘savR/DESCRIPTION’ ... OK
* checking extension type ... Package
* this is package ‘savR’ version ‘1.21.0’
* checking package namespace information ... OK
* checking package dependencies ... OK
* checking if this is a source package ... OK
* checking if there is a namespace ... OK
* checking for hidden files and directories ... OK
* checking for portable file names ... OK
* checking for sufficient/correct file permissions ... OK
* checking whether package ‘savR’ can be installed ... OK
* checking installed package size ... OK
* checking package directory ... OK
* checking ‘build’ directory ... OK
* checking DESCRIPTION meta-information ... OK
* checking top-level files ... OK
* checking for left-over files ... OK
* checking index information ... OK
* checking package subdirectories ... OK
* checking R files for non-ASCII characters ... OK
* checking R files for syntax errors ... OK
* checking whether the package can be loaded ... OK
* checking whether the package can be loaded with stated dependencies ... OK
* checking whether the package can be unloaded cleanly ... OK
* checking whether the namespace can be loaded with stated dependencies ... OK
* checking whether the namespace can be unloaded cleanly ... OK
* checking dependencies in R code ... OK
* checking S3 generic/method consistency ... OK
* checking replacement functions ... OK
* checking foreign function calls ... OK
* checking R code for possible problems ... NOTE
buildReports,savProject-character: no visible global function
definition for ‘dev.off’
qualityHeatmap,savProject-integer-integer-logical: no visible global
function definition for ‘quantile’
Undefined global functions or variables:
dev.off quantile
Consider adding
importFrom("grDevices", "dev.off")
importFrom("stats", "quantile")
to your NAMESPACE file.
* checking Rd files ... OK
* checking Rd metadata ... OK
* checking Rd cross-references ... OK
* checking for missing documentation entries ... OK
* checking for code/documentation mismatches ... OK
* checking Rd \usage sections ... OK
* checking Rd contents ... OK
* checking for unstated dependencies in examples ... OK
* checking files in ‘vignettes’ ... OK
* checking examples ... OK
* checking for unstated dependencies in ‘tests’ ... OK
* checking tests ...
Running ‘testthat.R’
OK
* checking for unstated dependencies in vignettes ... OK
* checking package vignettes in ‘inst/doc’ ... OK
* checking running R code from vignettes ... SKIPPED
* checking re-building of vignette outputs ... SKIPPED
* checking PDF version of manual ... OK
* DONE
Status: 1 NOTE
See
‘/home/biocbuild/bbs-3.9-bioc/meat/savR.Rcheck/00check.log’
for details.
savR.Rcheck/00install.out
############################################################################## ############################################################################## ### ### Running command: ### ### /home/biocbuild/bbs-3.9-bioc/R/bin/R CMD INSTALL savR ### ############################################################################## ############################################################################## * installing to library ‘/home/biocbuild/bbs-3.9-bioc/R/library’ * installing *source* package ‘savR’ ... ** using staged installation ** R ** inst ** byte-compile and prepare package for lazy loading ** help *** installing help indices ** building package indices ** installing vignettes ** testing if installed package can be loaded from temporary location ** testing if installed package can be loaded from final location ** testing if installed package keeps a record of temporary installation path * DONE (savR)
savR.Rcheck/tests/testthat.Rout
R Under development (unstable) (2019-03-18 r76245) -- "Unsuffered Consequences"
Copyright (C) 2019 The R Foundation for Statistical Computing
Platform: x86_64-pc-linux-gnu (64-bit)
R is free software and comes with ABSOLUTELY NO WARRANTY.
You are welcome to redistribute it under certain conditions.
Type 'license()' or 'licence()' for distribution details.
R is a collaborative project with many contributors.
Type 'contributors()' for more information and
'citation()' on how to cite R or R packages in publications.
Type 'demo()' for some demos, 'help()' for on-line help, or
'help.start()' for an HTML browser interface to help.
Type 'q()' to quit R.
> library(testthat)
> library(savR)
Loading required package: ggplot2
>
> test_check("savR")
══ testthat results ═══════════════════════════════════════════════════════════
OK: 8 SKIPPED: 7 FAILED: 0
>
> proc.time()
user system elapsed
5.689 0.072 5.749
savR.Rcheck/savR-Ex.timings
| name | user | system | elapsed | |
| buildReports | 0 | 0 | 0 | |
| clusterQualityGtN | 0 | 0 | 0 | |
| clusters | 0.000 | 0.000 | 0.001 | |
| correctedIntensities | 2.717 | 0.007 | 2.844 | |
| cycles | 2.984 | 0.008 | 3.000 | |
| directions | 2.982 | 0.000 | 3.101 | |
| errorMetrics | 2.968 | 0.008 | 2.988 | |
| extractionMetrics | 2.965 | 0.004 | 2.995 | |
| flowcellLayout | 3.144 | 0.004 | 3.167 | |
| location | 2.809 | 0.000 | 2.955 | |
| pfClusters | 0 | 0 | 0 | |
| qualityMetrics | 2.992 | 0.000 | 3.076 | |
| reads | 2.981 | 0.004 | 3.311 | |
| run | 3.029 | 0.004 | 3.066 | |
| savR | 3.115 | 0.000 | 3.126 | |
| tileMetrics | 3.258 | 0.004 | 3.263 | |