| Back to Multiple platform build/check report for BioC 3.9 |
|
This page was generated on 2019-04-09 13:22:51 -0400 (Tue, 09 Apr 2019).
| Package 1420/1703 | Hostname | OS / Arch | INSTALL | BUILD | CHECK | BUILD BIN | ||||||
| sagenhaft 1.53.0 Tim Beissbarth
| malbec2 | Linux (Ubuntu 18.04.2 LTS) / x86_64 | OK | OK | OK | |||||||
| tokay2 | Windows Server 2012 R2 Standard / x64 | OK | OK | OK | OK | |||||||
| celaya2 | OS X 10.11.6 El Capitan / x86_64 | OK | OK | OK | OK | |||||||
| merida2 | OS X 10.11.6 El Capitan / x86_64 | OK | OK | [ OK ] | OK |
| Package: sagenhaft |
| Version: 1.53.0 |
| Command: /Library/Frameworks/R.framework/Versions/Current/Resources/bin/R CMD check --install=check:sagenhaft.install-out.txt --library=/Library/Frameworks/R.framework/Versions/Current/Resources/library --no-vignettes --timings sagenhaft_1.53.0.tar.gz |
| StartedAt: 2019-04-09 03:32:58 -0400 (Tue, 09 Apr 2019) |
| EndedAt: 2019-04-09 03:34:37 -0400 (Tue, 09 Apr 2019) |
| EllapsedTime: 98.4 seconds |
| RetCode: 0 |
| Status: OK |
| CheckDir: sagenhaft.Rcheck |
| Warnings: 0 |
##############################################################################
##############################################################################
###
### Running command:
###
### /Library/Frameworks/R.framework/Versions/Current/Resources/bin/R CMD check --install=check:sagenhaft.install-out.txt --library=/Library/Frameworks/R.framework/Versions/Current/Resources/library --no-vignettes --timings sagenhaft_1.53.0.tar.gz
###
##############################################################################
##############################################################################
* using log directory ‘/Users/biocbuild/bbs-3.9-bioc/meat/sagenhaft.Rcheck’
* using R Under development (unstable) (2018-11-27 r75683)
* using platform: x86_64-apple-darwin15.6.0 (64-bit)
* using session charset: UTF-8
* using option ‘--no-vignettes’
* checking for file ‘sagenhaft/DESCRIPTION’ ... OK
* this is package ‘sagenhaft’ version ‘1.53.0’
* checking package namespace information ... OK
* checking package dependencies ... OK
* checking if this is a source package ... OK
* checking if there is a namespace ... OK
* checking for hidden files and directories ... OK
* checking for portable file names ... OK
* checking for sufficient/correct file permissions ... OK
* checking whether package ‘sagenhaft’ can be installed ... OK
* checking installed package size ... NOTE
installed size is 7.1Mb
sub-directories of 1Mb or more:
extdata 7.0Mb
* checking package directory ... OK
* checking ‘build’ directory ... OK
* checking DESCRIPTION meta-information ... NOTE
Packages listed in more than one of Depends, Imports, Suggests, Enhances:
‘methods’ ‘SparseM’
A package should be listed in only one of these fields.
* checking top-level files ... OK
* checking for left-over files ... OK
* checking index information ... OK
* checking package subdirectories ... OK
* checking R files for non-ASCII characters ... OK
* checking R files for syntax errors ... OK
* checking whether the package can be loaded ... OK
* checking whether the package can be loaded with stated dependencies ... OK
* checking whether the package can be unloaded cleanly ... OK
* checking whether the namespace can be loaded with stated dependencies ... OK
* checking whether the namespace can be unloaded cleanly ... OK
* checking dependencies in R code ... OK
* checking S3 generic/method consistency ... NOTE
Found the following apparent S3 methods exported but not registered:
plot.sage.library plot.sage.library.comparison print.sage.library
print.sage.library.comparison summary.sage.library
summary.sage.library.comparison
See section ‘Registering S3 methods’ in the ‘Writing R Extensions’
manual.
* checking replacement functions ... OK
* checking foreign function calls ... OK
* checking R code for possible problems ... NOTE
sage.test: warning in dbinom(0:isize, p = (prob[i])[1], size = isize):
partial argument match of 'p' to 'prob'
* checking Rd files ... OK
* checking Rd metadata ... OK
* checking Rd cross-references ... OK
* checking for missing documentation entries ... OK
* checking for code/documentation mismatches ... OK
* checking Rd \usage sections ... OK
* checking Rd contents ... OK
* checking for unstated dependencies in examples ... OK
* checking contents of ‘data’ directory ... OK
* checking data for non-ASCII characters ... OK
* checking data for ASCII and uncompressed saves ... OK
* checking sizes of PDF files under ‘inst/doc’ ... OK
* checking files in ‘vignettes’ ... OK
* checking examples ... OK
Examples with CPU or elapsed time > 5s
user system elapsed
error.correction 41.863 1.546 43.671
sagelibrary.simulate 10.776 0.656 11.498
* checking for unstated dependencies in vignettes ... OK
* checking package vignettes in ‘inst/doc’ ... OK
* checking running R code from vignettes ... SKIPPED
* checking re-building of vignette outputs ... SKIPPED
* checking PDF version of manual ... OK
* DONE
Status: 4 NOTEs
See
‘/Users/biocbuild/bbs-3.9-bioc/meat/sagenhaft.Rcheck/00check.log’
for details.
sagenhaft.Rcheck/00install.out
############################################################################## ############################################################################## ### ### Running command: ### ### /Library/Frameworks/R.framework/Versions/Current/Resources/bin/R CMD INSTALL sagenhaft ### ############################################################################## ############################################################################## * installing to library ‘/Library/Frameworks/R.framework/Versions/3.6/Resources/library’ * installing *source* package ‘sagenhaft’ ... ** R ** data ** inst ** byte-compile and prepare package for lazy loading ** help *** installing help indices ** building package indices ** installing vignettes ** testing if installed package can be loaded * DONE (sagenhaft)
sagenhaft.Rcheck/sagenhaft-Ex.timings
| name | user | system | elapsed | |
| error.correction | 41.863 | 1.546 | 43.671 | |
| extract.lib | 0.000 | 0.001 | 0.001 | |
| sage.library | 0.365 | 0.013 | 0.381 | |
| sage.library.comparison | 2.022 | 0.147 | 2.180 | |
| sage.test | 0.009 | 0.001 | 0.009 | |
| sage.utilities | 0.002 | 0.000 | 0.001 | |
| sagelibrary.simulate | 10.776 | 0.656 | 11.498 | |