| Back to Multiple platform build/check report for BioC 3.9 |
|
This page was generated on 2019-04-09 13:33:56 -0400 (Tue, 09 Apr 2019).
| Package 1315/1703 | Hostname | OS / Arch | INSTALL | BUILD | CHECK | BUILD BIN | ||||||
| readat 1.9.0 Richard Cotton
| malbec2 | Linux (Ubuntu 18.04.2 LTS) / x86_64 | OK | OK | OK | |||||||
| tokay2 | Windows Server 2012 R2 Standard / x64 | OK | OK | WARNINGS | OK | |||||||
| celaya2 | OS X 10.11.6 El Capitan / x86_64 | OK | OK | OK | OK | |||||||
| merida2 | OS X 10.11.6 El Capitan / x86_64 | OK | OK | [ OK ] | OK |
| Package: readat |
| Version: 1.9.0 |
| Command: /Library/Frameworks/R.framework/Versions/Current/Resources/bin/R CMD check --install=check:readat.install-out.txt --library=/Library/Frameworks/R.framework/Versions/Current/Resources/library --no-vignettes --timings readat_1.9.0.tar.gz |
| StartedAt: 2019-04-09 03:14:14 -0400 (Tue, 09 Apr 2019) |
| EndedAt: 2019-04-09 03:17:20 -0400 (Tue, 09 Apr 2019) |
| EllapsedTime: 186.0 seconds |
| RetCode: 0 |
| Status: OK |
| CheckDir: readat.Rcheck |
| Warnings: 0 |
##############################################################################
##############################################################################
###
### Running command:
###
### /Library/Frameworks/R.framework/Versions/Current/Resources/bin/R CMD check --install=check:readat.install-out.txt --library=/Library/Frameworks/R.framework/Versions/Current/Resources/library --no-vignettes --timings readat_1.9.0.tar.gz
###
##############################################################################
##############################################################################
* using log directory ‘/Users/biocbuild/bbs-3.9-bioc/meat/readat.Rcheck’
* using R Under development (unstable) (2018-11-27 r75683)
* using platform: x86_64-apple-darwin15.6.0 (64-bit)
* using session charset: UTF-8
* using option ‘--no-vignettes’
* checking for file ‘readat/DESCRIPTION’ ... OK
* this is package ‘readat’ version ‘1.9.0’
* checking package namespace information ... OK
* checking package dependencies ... OK
* checking if this is a source package ... OK
* checking if there is a namespace ... OK
* checking for hidden files and directories ... OK
* checking for portable file names ... OK
* checking for sufficient/correct file permissions ... OK
* checking whether package ‘readat’ can be installed ... OK
* checking installed package size ... OK
* checking package directory ... OK
* checking ‘build’ directory ... OK
* checking DESCRIPTION meta-information ... OK
* checking top-level files ... OK
* checking for left-over files ... OK
* checking index information ... OK
* checking package subdirectories ... OK
* checking R files for non-ASCII characters ... OK
* checking R files for syntax errors ... OK
* checking whether the package can be loaded ... OK
* checking whether the package can be loaded with stated dependencies ... OK
* checking whether the package can be unloaded cleanly ... OK
* checking whether the namespace can be loaded with stated dependencies ... OK
* checking whether the namespace can be unloaded cleanly ... OK
* checking dependencies in R code ... OK
* checking S3 generic/method consistency ... OK
* checking replacement functions ... OK
* checking foreign function calls ... OK
* checking R code for possible problems ... NOTE
sfread: no visible binding for global variable ‘header’
sfread: no visible binding for global variable ‘nrows’
Undefined global functions or variables:
header nrows
* checking Rd files ... OK
* checking Rd metadata ... OK
* checking Rd cross-references ... OK
* checking for missing documentation entries ... OK
* checking for code/documentation mismatches ... OK
* checking Rd \usage sections ... OK
* checking Rd contents ... OK
* checking for unstated dependencies in examples ... OK
* checking contents of ‘data’ directory ... OK
* checking data for non-ASCII characters ... OK
* checking data for ASCII and uncompressed saves ... OK
* checking files in ‘vignettes’ ... OK
* checking examples ... OK
Examples with CPU or elapsed time > 5s
user system elapsed
as.ExpressionSet 4.481 1.566 3.098
* checking for unstated dependencies in ‘tests’ ... OK
* checking tests ...
Running ‘testthat.R’
OK
* checking for unstated dependencies in vignettes ... OK
* checking package vignettes in ‘inst/doc’ ... OK
* checking running R code from vignettes ... SKIPPED
* checking re-building of vignette outputs ... SKIPPED
* checking PDF version of manual ... OK
* DONE
Status: 1 NOTE
See
‘/Users/biocbuild/bbs-3.9-bioc/meat/readat.Rcheck/00check.log’
for details.
readat.Rcheck/00install.out
############################################################################## ############################################################################## ### ### Running command: ### ### /Library/Frameworks/R.framework/Versions/Current/Resources/bin/R CMD INSTALL readat ### ############################################################################## ############################################################################## * installing to library ‘/Library/Frameworks/R.framework/Versions/3.6/Resources/library’ * installing *source* package ‘readat’ ... ** R ** data *** moving datasets to lazyload DB ** inst ** byte-compile and prepare package for lazy loading ** help *** installing help indices ** building package indices ** installing vignettes ** testing if installed package can be loaded * DONE (readat)
readat.Rcheck/tests/testthat.Rout
R Under development (unstable) (2018-11-27 r75683) -- "Unsuffered Consequences"
Copyright (C) 2018 The R Foundation for Statistical Computing
Platform: x86_64-apple-darwin15.6.0 (64-bit)
R is free software and comes with ABSOLUTELY NO WARRANTY.
You are welcome to redistribute it under certain conditions.
Type 'license()' or 'licence()' for distribution details.
R is a collaborative project with many contributors.
Type 'contributors()' for more information and
'citation()' on how to cite R or R packages in publications.
Type 'demo()' for some demos, 'help()' for on-line help, or
'help.start()' for an HTML browser interface to help.
Type 'q()' to quit R.
> library(readat)
> library(testthat)
>
> test_check("readat")
══ testthat results ═══════════════════════════════════════════════════════════
OK: 62 SKIPPED: 0 FAILED: 0
>
> proc.time()
user system elapsed
13.088 4.475 9.450
readat.Rcheck/readat-Ex.timings
| name | user | system | elapsed | |
| WideSomaLogicData | 0.032 | 0.011 | 0.042 | |
| WideSomaLogicDataAttributes | 1.301 | 0.929 | 0.446 | |
| aptamers | 0.062 | 0.069 | 0.018 | |
| as.ExpressionSet | 4.481 | 1.566 | 3.098 | |
| as.SummarizedExperiment | 1.075 | 0.604 | 0.332 | |
| chromosomalPositions | 0.496 | 0.356 | 0.175 | |
| colnamesStartWithSeqId | 0.792 | 0.417 | 0.231 | |
| convertSeqIdToAptamer | 0.002 | 0.002 | 0.001 | |
| ensemblIds | 0.010 | 0.008 | 0.003 | |
| extractSampleData | 0.052 | 0.049 | 0.015 | |
| getChromosomalPositions | 0.176 | 0.135 | 0.045 | |
| getEnsemblIds | 0.016 | 0.015 | 0.005 | |
| getGoMolecularFunctions | 1.063 | 0.336 | 0.781 | |
| getKeggDefinitions | 0.031 | 0.003 | 0.034 | |
| getPfam | 0.011 | 0.001 | 0.011 | |
| getUniProtKeywords | 0.021 | 0.002 | 0.023 | |
| goMolecularFunction | 0.286 | 0.011 | 0.307 | |
| keggDefinitions | 0.044 | 0.002 | 0.046 | |
| pfam | 0.013 | 0.000 | 0.015 | |
| readAdat | 1.248 | 0.758 | 0.362 | |
| readComments | 0.203 | 0.177 | 0.054 | |
| readControls | 0.476 | 0.418 | 0.128 | |
| readSamples | 0.929 | 0.573 | 0.288 | |
| readSlides | 0.392 | 0.276 | 0.098 | |
| sub-.WideSomaLogicData | 1.323 | 0.673 | 0.281 | |
| uniprotKeywords | 0.144 | 0.082 | 0.030 | |
| writeSampleSubmissionForm | 0.531 | 0.298 | 0.124 | |