| Back to Multiple platform build/check report for BioC 3.9 |
|
This page was generated on 2019-04-09 12:26:51 -0400 (Tue, 09 Apr 2019).
| Package 1263/1703 | Hostname | OS / Arch | INSTALL | BUILD | CHECK | BUILD BIN | ||||||
| qsea 1.9.1 Matthias Lienhard
| malbec2 | Linux (Ubuntu 18.04.2 LTS) / x86_64 | OK | OK | OK | |||||||
| tokay2 | Windows Server 2012 R2 Standard / x64 | OK | OK | OK | [ OK ] | |||||||
| celaya2 | OS X 10.11.6 El Capitan / x86_64 | OK | OK | OK | OK | |||||||
| merida2 | OS X 10.11.6 El Capitan / x86_64 | OK | OK | OK | OK |
| Package: qsea |
| Version: 1.9.1 |
| Command: rm -rf qsea.buildbin-libdir && mkdir qsea.buildbin-libdir && C:\Users\biocbuild\bbs-3.9-bioc\R\bin\R.exe CMD INSTALL --merge-multiarch --build --library=qsea.buildbin-libdir qsea_1.9.1.tar.gz |
| StartedAt: 2019-04-09 08:45:04 -0400 (Tue, 09 Apr 2019) |
| EndedAt: 2019-04-09 08:45:43 -0400 (Tue, 09 Apr 2019) |
| EllapsedTime: 38.6 seconds |
| RetCode: 0 |
| Status: OK |
| PackageFile: qsea_1.9.1.zip |
| PackageFileSize: 877.4 KiB |
##############################################################################
##############################################################################
###
### Running command:
###
### rm -rf qsea.buildbin-libdir && mkdir qsea.buildbin-libdir && C:\Users\biocbuild\bbs-3.9-bioc\R\bin\R.exe CMD INSTALL --merge-multiarch --build --library=qsea.buildbin-libdir qsea_1.9.1.tar.gz
###
##############################################################################
##############################################################################
install for i386
* installing *source* package 'qsea' ...
** libs
C:/Rtools/mingw_32/bin/gcc -I"C:/Users/BIOCBU˜1/BBS-3˜1.9-B/R/include" -DNDEBUG -I"C:/extsoft/include" -O3 -Wall -std=gnu99 -mtune=generic -c lm.c -o lm.o
C:/Rtools/mingw_32/bin/gcc -shared -s -static-libgcc -o qsea.dll tmp.def lm.o -LC:/extsoft/lib/i386 -LC:/extsoft/lib -LC:/Users/BIOCBU˜1/BBS-3˜1.9-B/R/bin/i386 -lR
installing to C:/Users/biocbuild/bbs-3.9-bioc/meat/qsea.buildbin-libdir/00LOCK-qsea/00new/qsea/libs/i386
** R
** inst
** preparing package for lazy loading
** help
*** installing help indices
converting help for package 'qsea'
finding HTML links ... done
addCNV html
addContrast html
addCoverage html
addEnrichmentParameters html
addLibraryFactors html
addNewSamples html
addOffset html
addPatternDensity html
addSeqPref html
createQseaSet html
example html
fitNBglm html
getPCA html
isSignificant html
makeTable html
normMethod html
plotCNV html
plotCoverage html
plotEnrichmentProfile html
plotPCA html
qsea-package html
qseaGLM-class html
qseaPCA-class html
qseaSet-class html
regionStats html
** building package indices
** installing vignettes
** testing if installed package can be loaded from temporary location
** testing if installed package can be loaded from final location
** testing if installed package keeps a record of temporary installation path
install for x64
* installing *source* package 'qsea' ...
** libs
C:/Rtools/mingw_64/bin/gcc -I"C:/Users/BIOCBU˜1/BBS-3˜1.9-B/R/include" -DNDEBUG -I"C:/extsoft/include" -O2 -Wall -std=gnu99 -mtune=generic -c lm.c -o lm.o
C:/Rtools/mingw_64/bin/gcc -shared -s -static-libgcc -o qsea.dll tmp.def lm.o -LC:/extsoft/lib/x64 -LC:/extsoft/lib -LC:/Users/BIOCBU˜1/BBS-3˜1.9-B/R/bin/x64 -lR
installing to C:/Users/biocbuild/bbs-3.9-bioc/meat/qsea.buildbin-libdir/qsea/libs/x64
** testing if installed package can be loaded
* MD5 sums
packaged installation of 'qsea' as qsea_1.9.1.zip
* DONE (qsea)