| Back to Multiple platform build/check report for BioC 3.9 |
|
This page was generated on 2019-04-09 11:59:01 -0400 (Tue, 09 Apr 2019).
| Package 1228/1703 | Hostname | OS / Arch | INSTALL | BUILD | CHECK | BUILD BIN | ||||||
| procoil 2.11.0 Ulrich Bodenhofer
| malbec2 | Linux (Ubuntu 18.04.2 LTS) / x86_64 | OK | OK | OK | |||||||
| tokay2 | Windows Server 2012 R2 Standard / x64 | OK | OK | OK | [ OK ] | |||||||
| celaya2 | OS X 10.11.6 El Capitan / x86_64 | OK | OK | OK | OK | |||||||
| merida2 | OS X 10.11.6 El Capitan / x86_64 | OK | OK | OK | OK |
| Package: procoil |
| Version: 2.11.0 |
| Command: rm -rf procoil.buildbin-libdir && mkdir procoil.buildbin-libdir && C:\Users\biocbuild\bbs-3.9-bioc\R\bin\R.exe CMD INSTALL --merge-multiarch --build --library=procoil.buildbin-libdir procoil_2.11.0.tar.gz |
| StartedAt: 2019-04-09 08:43:07 -0400 (Tue, 09 Apr 2019) |
| EndedAt: 2019-04-09 08:43:54 -0400 (Tue, 09 Apr 2019) |
| EllapsedTime: 47.7 seconds |
| RetCode: 0 |
| Status: OK |
| PackageFile: procoil_2.11.0.zip |
| PackageFileSize: 1.691 MiB |
##############################################################################
##############################################################################
###
### Running command:
###
### rm -rf procoil.buildbin-libdir && mkdir procoil.buildbin-libdir && C:\Users\biocbuild\bbs-3.9-bioc\R\bin\R.exe CMD INSTALL --merge-multiarch --build --library=procoil.buildbin-libdir procoil_2.11.0.tar.gz
###
##############################################################################
##############################################################################
install for i386
* installing *source* package 'procoil' ...
** R
** data
*** moving datasets to lazyload DB
** inst
** byte-compile and prepare package for lazy loading
** help
*** installing help indices
converting help for package 'procoil'
finding HTML links ... done
CCModel-FileOps html
CCModel-class html
CCProfile-class html
finding level-2 HTML links ... done
plot-methods html
predict-methods html
procoil-package html
** building package indices
** installing vignettes
** testing if installed package can be loaded from temporary location
** testing if installed package can be loaded from final location
** testing if installed package keeps a record of temporary installation path
install for x64
* installing *source* package 'procoil' ...
** testing if installed package can be loaded
* MD5 sums
packaged installation of 'procoil' as procoil_2.11.0.zip
* DONE (procoil)