| Back to Multiple platform build/check report for BioC 3.9 |
|
This page was generated on 2019-04-09 13:22:02 -0400 (Tue, 09 Apr 2019).
| Package 1226/1703 | Hostname | OS / Arch | INSTALL | BUILD | CHECK | BUILD BIN | ||||||
| proBatch 0.99.25 Chloe H. Lee
| malbec2 | Linux (Ubuntu 18.04.2 LTS) / x86_64 | OK | OK | OK | |||||||
| tokay2 | Windows Server 2012 R2 Standard / x64 | OK | OK | OK | OK | |||||||
| celaya2 | OS X 10.11.6 El Capitan / x86_64 | OK | OK | [ OK ] | OK | |||||||
| merida2 | OS X 10.11.6 El Capitan / x86_64 | OK | OK | OK | OK |
| Package: proBatch |
| Version: 0.99.25 |
| Command: /Library/Frameworks/R.framework/Versions/Current/Resources/bin/R CMD check --install=check:proBatch.install-out.txt --library=/Library/Frameworks/R.framework/Versions/Current/Resources/library --no-vignettes --timings proBatch_0.99.25.tar.gz |
| StartedAt: 2019-04-09 04:33:14 -0400 (Tue, 09 Apr 2019) |
| EndedAt: 2019-04-09 04:37:22 -0400 (Tue, 09 Apr 2019) |
| EllapsedTime: 247.4 seconds |
| RetCode: 0 |
| Status: OK |
| CheckDir: proBatch.Rcheck |
| Warnings: 0 |
##############################################################################
##############################################################################
###
### Running command:
###
### /Library/Frameworks/R.framework/Versions/Current/Resources/bin/R CMD check --install=check:proBatch.install-out.txt --library=/Library/Frameworks/R.framework/Versions/Current/Resources/library --no-vignettes --timings proBatch_0.99.25.tar.gz
###
##############################################################################
##############################################################################
* using log directory ‘/Users/biocbuild/bbs-3.9-bioc/meat/proBatch.Rcheck’
* using R Under development (unstable) (2019-03-18 r76245)
* using platform: x86_64-apple-darwin15.6.0 (64-bit)
* using session charset: UTF-8
* using option ‘--no-vignettes’
* checking for file ‘proBatch/DESCRIPTION’ ... OK
* checking extension type ... Package
* this is package ‘proBatch’ version ‘0.99.25’
* package encoding: UTF-8
* checking package namespace information ... OK
* checking package dependencies ... OK
* checking if this is a source package ... OK
* checking if there is a namespace ... OK
* checking for hidden files and directories ... OK
* checking for portable file names ... OK
* checking for sufficient/correct file permissions ... OK
* checking whether package ‘proBatch’ can be installed ... OK
* checking installed package size ... OK
* checking package directory ... OK
* checking ‘build’ directory ... OK
* checking DESCRIPTION meta-information ... OK
* checking top-level files ... OK
* checking for left-over files ... OK
* checking index information ... OK
* checking package subdirectories ... OK
* checking R files for non-ASCII characters ... OK
* checking R files for syntax errors ... OK
* checking whether the package can be loaded ... OK
* checking whether the package can be loaded with stated dependencies ... OK
* checking whether the package can be unloaded cleanly ... OK
* checking whether the namespace can be loaded with stated dependencies ... OK
* checking whether the namespace can be unloaded cleanly ... OK
* checking dependencies in R code ... OK
* checking S3 generic/method consistency ... OK
* checking replacement functions ... OK
* checking foreign function calls ... OK
* checking R code for possible problems ... OK
* checking Rd files ... OK
* checking Rd metadata ... OK
* checking Rd cross-references ... OK
* checking for missing documentation entries ... OK
* checking for code/documentation mismatches ... OK
* checking Rd \usage sections ... OK
* checking Rd contents ... OK
* checking for unstated dependencies in examples ... OK
* checking contents of ‘data’ directory ... OK
* checking data for non-ASCII characters ... OK
* checking data for ASCII and uncompressed saves ... OK
* checking sizes of PDF files under ‘inst/doc’ ... OK
* checking files in ‘vignettes’ ... OK
* checking examples ... OK
Examples with CPU or elapsed time > 5s
user system elapsed
correct_batch_effects 11.422 0.435 11.858
adjust_batch_trend 9.755 0.470 10.225
plot_with_fitting_curve 9.067 0.247 9.315
plot_PVCA 6.206 0.102 6.312
* checking for unstated dependencies in ‘tests’ ... OK
* checking tests ...
Running ‘testthat.R’
OK
* checking for unstated dependencies in vignettes ... OK
* checking package vignettes in ‘inst/doc’ ... OK
* checking running R code from vignettes ... SKIPPED
* checking re-building of vignette outputs ... SKIPPED
* checking PDF version of manual ... OK
* DONE
Status: OK
proBatch.Rcheck/00install.out
############################################################################## ############################################################################## ### ### Running command: ### ### /Library/Frameworks/R.framework/Versions/Current/Resources/bin/R CMD INSTALL proBatch ### ############################################################################## ############################################################################## * installing to library ‘/Library/Frameworks/R.framework/Versions/3.6/Resources/library’ * installing *source* package ‘proBatch’ ... ** using staged installation ** R ** data *** moving datasets to lazyload DB ** inst ** byte-compile and prepare package for lazy loading ** help *** installing help indices ** building package indices ** installing vignettes ** testing if installed package can be loaded from temporary location ** testing if installed package can be loaded from final location ** testing if installed package keeps a record of temporary installation path * DONE (proBatch)
proBatch.Rcheck/tests/testthat.Rout
R Under development (unstable) (2019-03-18 r76245) -- "Unsuffered Consequences"
Copyright (C) 2019 The R Foundation for Statistical Computing
Platform: x86_64-apple-darwin15.6.0 (64-bit)
R is free software and comes with ABSOLUTELY NO WARRANTY.
You are welcome to redistribute it under certain conditions.
Type 'license()' or 'licence()' for distribution details.
R is a collaborative project with many contributors.
Type 'contributors()' for more information and
'citation()' on how to cite R or R packages in publications.
Type 'demo()' for some demos, 'help()' for on-line help, or
'help.start()' for an HTML browser interface to help.
Type 'q()' to quit R.
> library(testthat)
> library(proBatch)
>
> test_check("proBatch")
Standardizing Data across genes
══ testthat results ═══════════════════════════════════════════════════════════
OK: 144 SKIPPED: 0 FAILED: 0
>
> proc.time()
user system elapsed
20.795 1.543 22.287
proBatch.Rcheck/proBatch-Ex.timings
| name | user | system | elapsed | |
| adjust_batch_trend | 9.755 | 0.470 | 10.225 | |
| center_peptide_batch_medians | 1.457 | 0.174 | 1.631 | |
| correct_batch_effects | 11.422 | 0.435 | 11.858 | |
| correct_with_ComBat | 1.137 | 0.095 | 1.233 | |
| create_peptide_annotation | 0.016 | 0.001 | 0.016 | |
| date_to_sample_order | 0.244 | 0.027 | 0.272 | |
| dates_to_posix | 0.009 | 0.001 | 0.009 | |
| log_transform | 0.005 | 0.003 | 0.007 | |
| long_to_matrix | 0.206 | 0.049 | 0.256 | |
| matrix_to_long | 0.698 | 0.038 | 0.737 | |
| normalize_data | 0.032 | 0.001 | 0.033 | |
| normalize_sample_medians | 0.089 | 0.006 | 0.095 | |
| plot_PCA | 0.293 | 0.023 | 0.315 | |
| plot_PVCA | 6.206 | 0.102 | 6.312 | |
| plot_corr_matrix | 0.018 | 0.001 | 0.019 | |
| plot_heatmap | 1.718 | 0.082 | 1.800 | |
| plot_hierarchical_clustering | 0.349 | 0.015 | 0.367 | |
| plot_iRT | 0.141 | 0.004 | 0.146 | |
| plot_peptide_corr_distribution | 4.487 | 0.232 | 4.720 | |
| plot_peptides_of_one_protein | 0.075 | 0.004 | 0.079 | |
| plot_protein_corrplot | 0.092 | 0.004 | 0.095 | |
| plot_sample_corr_distribution | 0.592 | 0.052 | 0.644 | |
| plot_sample_corr_heatmap | 0.057 | 0.001 | 0.058 | |
| plot_sample_mean_or_boxplot | 0.809 | 0.045 | 0.854 | |
| plot_single_feature | 0.042 | 0.004 | 0.046 | |
| plot_spike_in | 0.657 | 0.034 | 0.690 | |
| plot_with_fitting_curve | 9.067 | 0.247 | 9.315 | |
| quantile_normalize | 0.030 | 0.001 | 0.032 | |
| sample_annotation_to_colors | 0.044 | 0.001 | 0.045 | |