| Back to Multiple platform build/check report for BioC 3.9 |
|
This page was generated on 2019-04-09 11:55:23 -0400 (Tue, 09 Apr 2019).
| Package 1213/1703 | Hostname | OS / Arch | INSTALL | BUILD | CHECK | BUILD BIN | ||||||
| ppiStats 1.49.0 Bioconductor Package Maintainer
| malbec2 | Linux (Ubuntu 18.04.2 LTS) / x86_64 | OK | OK | OK | |||||||
| tokay2 | Windows Server 2012 R2 Standard / x64 | [ OK ] | OK | OK | OK | |||||||
| celaya2 | OS X 10.11.6 El Capitan / x86_64 | OK | OK | OK | OK | |||||||
| merida2 | OS X 10.11.6 El Capitan / x86_64 | OK | OK | OK | OK |
| Package: ppiStats |
| Version: 1.49.0 |
| Command: C:\cygwin\bin\curl.exe -O https://malbec2.bioconductor.org/BBS/3.9/bioc/src/contrib/ppiStats_1.49.0.tar.gz && rm -rf ppiStats.buildbin-libdir && mkdir ppiStats.buildbin-libdir && C:\Users\biocbuild\bbs-3.9-bioc\R\bin\R.exe CMD INSTALL --merge-multiarch --build --library=ppiStats.buildbin-libdir ppiStats_1.49.0.tar.gz && C:\Users\biocbuild\bbs-3.9-bioc\R\bin\R.exe CMD INSTALL ppiStats_1.49.0.zip && rm ppiStats_1.49.0.tar.gz ppiStats_1.49.0.zip |
| StartedAt: 2019-04-08 19:33:57 -0400 (Mon, 08 Apr 2019) |
| EndedAt: 2019-04-08 19:35:03 -0400 (Mon, 08 Apr 2019) |
| EllapsedTime: 66.3 seconds |
| RetCode: 0 |
| Status: OK |
##############################################################################
##############################################################################
###
### Running command:
###
### C:\cygwin\bin\curl.exe -O https://malbec2.bioconductor.org/BBS/3.9/bioc/src/contrib/ppiStats_1.49.0.tar.gz && rm -rf ppiStats.buildbin-libdir && mkdir ppiStats.buildbin-libdir && C:\Users\biocbuild\bbs-3.9-bioc\R\bin\R.exe CMD INSTALL --merge-multiarch --build --library=ppiStats.buildbin-libdir ppiStats_1.49.0.tar.gz && C:\Users\biocbuild\bbs-3.9-bioc\R\bin\R.exe CMD INSTALL ppiStats_1.49.0.zip && rm ppiStats_1.49.0.tar.gz ppiStats_1.49.0.zip
###
##############################################################################
##############################################################################
% Total % Received % Xferd Average Speed Time Time Time Current
Dload Upload Total Spent Left Speed
0 0 0 0 0 0 0 0 --:--:-- --:--:-- --:--:-- 0
100 1017k 100 1017k 0 0 14.4M 0 --:--:-- --:--:-- --:--:-- 16.0M
install for i386
* installing *source* package 'ppiStats' ...
** R
** inst
** byte-compile and prepare package for lazy loading
No methods found in package 'Biobase' for request: 'listlen' when loading 'RpsiXML'
No methods found in package 'annotate' for requests: 'pubmed', 'buildPubMedAbst' when loading 'RpsiXML'
** help
*** installing help indices
converting help for package 'ppiStats'
finding HTML links ... done
assessSymmetry html
bpMatrix html
calcInOutDegStats html
createSummaryTables html
degreeEstimates html
estErrProbMethodOfMoments html
estimateCCMErrorRates html
estimatePPIErrorRates html
findAdjacent html
genBPGraph html
hgParams html
hgTests html
idProteinErrorType html
idProteinType html
inOutScatterCharts html
nullDistDoublyTestedEdges html
separateExptBySize html
twPERM html
viabilityCharts html
** building package indices
** installing vignettes
** testing if installed package can be loaded from temporary location
No methods found in package 'Biobase' for request: 'listlen' when loading 'RpsiXML'
No methods found in package 'annotate' for requests: 'pubmed', 'buildPubMedAbst' when loading 'RpsiXML'
** testing if installed package can be loaded from final location
No methods found in package 'Biobase' for request: 'listlen' when loading 'RpsiXML'
No methods found in package 'annotate' for requests: 'pubmed', 'buildPubMedAbst' when loading 'RpsiXML'
** testing if installed package keeps a record of temporary installation path
install for x64
* installing *source* package 'ppiStats' ...
** testing if installed package can be loaded
No methods found in package 'Biobase' for request: 'listlen' when loading 'RpsiXML'
No methods found in package 'annotate' for requests: 'pubmed', 'buildPubMedAbst' when loading 'RpsiXML'
* MD5 sums
packaged installation of 'ppiStats' as ppiStats_1.49.0.zip
* DONE (ppiStats)
* installing to library 'C:/Users/biocbuild/bbs-3.9-bioc/R/library'
package 'ppiStats' successfully unpacked and MD5 sums checked