| Back to Multiple platform build/check report for BioC 3.9 |
|
This page was generated on 2019-04-09 11:56:42 -0400 (Tue, 09 Apr 2019).
| Package 1147/1703 | Hostname | OS / Arch | INSTALL | BUILD | CHECK | BUILD BIN | ||||||
| parody 1.41.0 VJ Carey
| malbec2 | Linux (Ubuntu 18.04.2 LTS) / x86_64 | OK | OK | OK | |||||||
| tokay2 | Windows Server 2012 R2 Standard / x64 | [ OK ] | OK | OK | OK | |||||||
| celaya2 | OS X 10.11.6 El Capitan / x86_64 | OK | OK | OK | OK | |||||||
| merida2 | OS X 10.11.6 El Capitan / x86_64 | OK | OK | OK | OK |
| Package: parody |
| Version: 1.41.0 |
| Command: C:\cygwin\bin\curl.exe -O https://malbec2.bioconductor.org/BBS/3.9/bioc/src/contrib/parody_1.41.0.tar.gz && rm -rf parody.buildbin-libdir && mkdir parody.buildbin-libdir && C:\Users\biocbuild\bbs-3.9-bioc\R\bin\R.exe CMD INSTALL --merge-multiarch --build --library=parody.buildbin-libdir parody_1.41.0.tar.gz && C:\Users\biocbuild\bbs-3.9-bioc\R\bin\R.exe CMD INSTALL parody_1.41.0.zip && rm parody_1.41.0.tar.gz parody_1.41.0.zip |
| StartedAt: 2019-04-08 18:27:42 -0400 (Mon, 08 Apr 2019) |
| EndedAt: 2019-04-08 18:28:18 -0400 (Mon, 08 Apr 2019) |
| EllapsedTime: 36.3 seconds |
| RetCode: 0 |
| Status: OK |
##############################################################################
##############################################################################
###
### Running command:
###
### C:\cygwin\bin\curl.exe -O https://malbec2.bioconductor.org/BBS/3.9/bioc/src/contrib/parody_1.41.0.tar.gz && rm -rf parody.buildbin-libdir && mkdir parody.buildbin-libdir && C:\Users\biocbuild\bbs-3.9-bioc\R\bin\R.exe CMD INSTALL --merge-multiarch --build --library=parody.buildbin-libdir parody_1.41.0.tar.gz && C:\Users\biocbuild\bbs-3.9-bioc\R\bin\R.exe CMD INSTALL parody_1.41.0.zip && rm parody_1.41.0.tar.gz parody_1.41.0.zip
###
##############################################################################
##############################################################################
% Total % Received % Xferd Average Speed Time Time Time Current
Dload Upload Total Spent Left Speed
0 0 0 0 0 0 0 0 --:--:-- --:--:-- --:--:-- 0
100 13470 100 13470 0 0 218k 0 --:--:-- --:--:-- --:--:-- 248k
install for i386
* installing *source* package 'parody' ...
** R
** data
** byte-compile and prepare package for lazy loading
** help
*** installing help indices
converting help for package 'parody'
finding HTML links ... done
box.scale html
bushfire html
calout.detect html
mv.calout.detect html
shorth html
tcost html
tukeyor html
** building package indices
** installing vignettes
** testing if installed package can be loaded from temporary location
** testing if installed package can be loaded from final location
** testing if installed package keeps a record of temporary installation path
install for x64
* installing *source* package 'parody' ...
** testing if installed package can be loaded
* MD5 sums
packaged installation of 'parody' as parody_1.41.0.zip
* DONE (parody)
* installing to library 'C:/Users/biocbuild/bbs-3.9-bioc/R/library'
package 'parody' successfully unpacked and MD5 sums checked