| Back to Multiple platform build/check report for BioC 3.9 |
|
This page was generated on 2019-04-09 11:45:48 -0400 (Tue, 09 Apr 2019).
| Package 1124/1703 | Hostname | OS / Arch | INSTALL | BUILD | CHECK | BUILD BIN | ||||||
| oppar 1.11.0 Soroor Hediyeh zadeh
| malbec2 | Linux (Ubuntu 18.04.2 LTS) / x86_64 | [ OK ] | OK | OK | |||||||
| tokay2 | Windows Server 2012 R2 Standard / x64 | OK | OK | OK | OK | |||||||
| celaya2 | OS X 10.11.6 El Capitan / x86_64 | OK | OK | OK | OK | |||||||
| merida2 | OS X 10.11.6 El Capitan / x86_64 | OK | OK | OK | OK |
| Package: oppar |
| Version: 1.11.0 |
| Command: /home/biocbuild/bbs-3.9-bioc/R/bin/R CMD INSTALL oppar |
| StartedAt: 2019-04-08 18:06:49 -0400 (Mon, 08 Apr 2019) |
| EndedAt: 2019-04-08 18:07:12 -0400 (Mon, 08 Apr 2019) |
| EllapsedTime: 22.5 seconds |
| RetCode: 0 |
| Status: OK |
##############################################################################
##############################################################################
###
### Running command:
###
### /home/biocbuild/bbs-3.9-bioc/R/bin/R CMD INSTALL oppar
###
##############################################################################
##############################################################################
* installing to library ‘/home/biocbuild/bbs-3.9-bioc/R/library’
* installing *source* package ‘oppar’ ...
** using staged installation
** libs
gcc -I"/home/biocbuild/bbs-3.9-bioc/R/include" -DNDEBUG -I/usr/local/include -fpic -g -O2 -Wall -c R_init_oppar.c -o R_init_oppar.o
gcc -I"/home/biocbuild/bbs-3.9-bioc/R/include" -DNDEBUG -I/usr/local/include -fpic -g -O2 -Wall -c kernel_estimation.c -o kernel_estimation.o
gcc -I"/home/biocbuild/bbs-3.9-bioc/R/include" -DNDEBUG -I/usr/local/include -fpic -g -O2 -Wall -c ks_test.c -o ks_test.o
ks_test.c: In function ‘ks_sample’:
ks_test.c:22:9: warning: unused variable ‘mx_value’ [-Wunused-variable]
double mx_value = 0.0;
^˜˜˜˜˜˜˜
gcc -shared -L/home/biocbuild/bbs-3.9-bioc/R/lib -L/usr/local/lib -o oppar.so R_init_oppar.o kernel_estimation.o ks_test.o -L/home/biocbuild/bbs-3.9-bioc/R/lib -lR
installing to /home/biocbuild/bbs-3.9-bioc/R/library/00LOCK-oppar/00new/oppar/libs
** R
** data
*** moving datasets to lazyload DB
** inst
** byte-compile and prepare package for lazy loading
** help
*** installing help indices
** building package indices
** installing vignettes
** testing if installed package can be loaded from temporary location
** checking absolute paths in shared objects and dynamic libraries
** testing if installed package can be loaded from final location
** testing if installed package keeps a record of temporary installation path
* DONE (oppar)