| Back to Multiple platform build/check report for BioC 3.9 |
|
This page was generated on 2019-04-09 12:33:43 -0400 (Tue, 09 Apr 2019).
| Package 1109/1703 | Hostname | OS / Arch | INSTALL | BUILD | CHECK | BUILD BIN | ||||||
| omicRexposome 1.5.1 Carles Hernandez-Ferrer
| malbec2 | Linux (Ubuntu 18.04.2 LTS) / x86_64 | OK | OK | OK | |||||||
| tokay2 | Windows Server 2012 R2 Standard / x64 | [ OK ] | OK | OK | OK | |||||||
| celaya2 | OS X 10.11.6 El Capitan / x86_64 | OK | OK | OK | OK | |||||||
| merida2 | OS X 10.11.6 El Capitan / x86_64 | OK | OK | OK | OK |
| Package: omicRexposome |
| Version: 1.5.1 |
| Command: C:\cygwin\bin\curl.exe -O https://malbec2.bioconductor.org/BBS/3.9/bioc/src/contrib/omicRexposome_1.5.1.tar.gz && rm -rf omicRexposome.buildbin-libdir && mkdir omicRexposome.buildbin-libdir && C:\Users\biocbuild\bbs-3.9-bioc\R\bin\R.exe CMD INSTALL --merge-multiarch --build --library=omicRexposome.buildbin-libdir omicRexposome_1.5.1.tar.gz && C:\Users\biocbuild\bbs-3.9-bioc\R\bin\R.exe CMD INSTALL omicRexposome_1.5.1.zip && rm omicRexposome_1.5.1.tar.gz omicRexposome_1.5.1.zip |
| StartedAt: 2019-04-08 20:03:10 -0400 (Mon, 08 Apr 2019) |
| EndedAt: 2019-04-08 20:05:27 -0400 (Mon, 08 Apr 2019) |
| EllapsedTime: 136.8 seconds |
| RetCode: 0 |
| Status: OK |
##############################################################################
##############################################################################
###
### Running command:
###
### C:\cygwin\bin\curl.exe -O https://malbec2.bioconductor.org/BBS/3.9/bioc/src/contrib/omicRexposome_1.5.1.tar.gz && rm -rf omicRexposome.buildbin-libdir && mkdir omicRexposome.buildbin-libdir && C:\Users\biocbuild\bbs-3.9-bioc\R\bin\R.exe CMD INSTALL --merge-multiarch --build --library=omicRexposome.buildbin-libdir omicRexposome_1.5.1.tar.gz && C:\Users\biocbuild\bbs-3.9-bioc\R\bin\R.exe CMD INSTALL omicRexposome_1.5.1.zip && rm omicRexposome_1.5.1.tar.gz omicRexposome_1.5.1.zip
###
##############################################################################
##############################################################################
% Total % Received % Xferd Average Speed Time Time Time Current
Dload Upload Total Spent Left Speed
0 0 0 0 0 0 0 0 --:--:-- --:--:-- --:--:-- 0
100 1355k 100 1355k 0 0 9499k 0 --:--:-- --:--:-- --:--:-- 9969k
install for i386
* installing *source* package 'omicRexposome' ...
** R
** data
*** moving datasets to lazyload DB
Registered S3 methods overwritten by 'ggplot2':
method from
[.quosures rlang
c.quosures rlang
print.quosures rlang
Registered S3 method overwritten by 'pryr':
method from
print.bytes Rcpp
** inst
** byte-compile and prepare package for lazy loading
** help
*** installing help indices
converting help for package 'omicRexposome'
finding HTML links ... done
add_cls-methods html
finding level-2 HTML links ... done
add_exp-methods html
asr html
association-methods html
crossomics-methods html
crs html
getIntegration-methods html
mds html
omicRexposome html
plotAssociation-methods html
plotHits-methods html
plotIntegration-methods html
plotLambda-methods html
snpToContinuous html
tableHits-methods html
tableLambda-methods html
** building package indices
** installing vignettes
** testing if installed package can be loaded from temporary location
** testing if installed package can be loaded from final location
** testing if installed package keeps a record of temporary installation path
install for x64
* installing *source* package 'omicRexposome' ...
** testing if installed package can be loaded
* MD5 sums
packaged installation of 'omicRexposome' as omicRexposome_1.5.1.zip
* DONE (omicRexposome)
* installing to library 'C:/Users/biocbuild/bbs-3.9-bioc/R/library'
package 'omicRexposome' successfully unpacked and MD5 sums checked