| Back to Multiple platform build/check report for BioC 3.9 |
|
This page was generated on 2019-04-09 11:23:42 -0400 (Tue, 09 Apr 2019).
| Package 1084/1703 | Hostname | OS / Arch | INSTALL | BUILD | CHECK | BUILD BIN | ||||||
| nnNorm 2.47.0 Adi Laurentiu Tarca
| malbec2 | Linux (Ubuntu 18.04.2 LTS) / x86_64 | OK | OK | [ OK ] | |||||||
| tokay2 | Windows Server 2012 R2 Standard / x64 | OK | OK | OK | OK | |||||||
| celaya2 | OS X 10.11.6 El Capitan / x86_64 | OK | OK | OK | OK | |||||||
| merida2 | OS X 10.11.6 El Capitan / x86_64 | OK | OK | OK | OK |
| Package: nnNorm |
| Version: 2.47.0 |
| Command: /home/biocbuild/bbs-3.9-bioc/R/bin/R CMD check --install=check:nnNorm.install-out.txt --library=/home/biocbuild/bbs-3.9-bioc/R/library --no-vignettes --timings nnNorm_2.47.0.tar.gz |
| StartedAt: 2019-04-09 02:22:13 -0400 (Tue, 09 Apr 2019) |
| EndedAt: 2019-04-09 02:23:50 -0400 (Tue, 09 Apr 2019) |
| EllapsedTime: 96.8 seconds |
| RetCode: 0 |
| Status: OK |
| CheckDir: nnNorm.Rcheck |
| Warnings: 0 |
##############################################################################
##############################################################################
###
### Running command:
###
### /home/biocbuild/bbs-3.9-bioc/R/bin/R CMD check --install=check:nnNorm.install-out.txt --library=/home/biocbuild/bbs-3.9-bioc/R/library --no-vignettes --timings nnNorm_2.47.0.tar.gz
###
##############################################################################
##############################################################################
* using log directory ‘/home/biocbuild/bbs-3.9-bioc/meat/nnNorm.Rcheck’
* using R Under development (unstable) (2019-03-18 r76245)
* using platform: x86_64-pc-linux-gnu (64-bit)
* using session charset: UTF-8
* using option ‘--no-vignettes’
* checking for file ‘nnNorm/DESCRIPTION’ ... OK
* this is package ‘nnNorm’ version ‘2.47.0’
* checking package namespace information ... NOTE
Namespace with empty importFrom: ‘methods’
* checking package dependencies ... OK
* checking if this is a source package ... OK
* checking if there is a namespace ... OK
* checking for hidden files and directories ... OK
* checking for portable file names ... OK
* checking for sufficient/correct file permissions ... OK
* checking whether package ‘nnNorm’ can be installed ... OK
* checking installed package size ... OK
* checking package directory ... OK
* checking ‘build’ directory ... OK
* checking DESCRIPTION meta-information ... NOTE
Package listed in more than one of Depends, Imports, Suggests, Enhances:
‘marray’
A package should be listed in only one of these fields.
* checking top-level files ... OK
* checking for left-over files ... OK
* checking index information ... OK
* checking package subdirectories ... OK
* checking R files for non-ASCII characters ... OK
* checking R files for syntax errors ... OK
* checking whether the package can be loaded ... OK
* checking whether the package can be loaded with stated dependencies ... OK
* checking whether the package can be unloaded cleanly ... OK
* checking whether the namespace can be loaded with stated dependencies ... OK
* checking whether the namespace can be unloaded cleanly ... OK
* checking dependencies in R code ... OK
* checking S3 generic/method consistency ... OK
* checking replacement functions ... OK
* checking foreign function calls ... OK
* checking R code for possible problems ... NOTE
detectSpatialBias: no visible global function definition for ‘as’
maNormNN: no visible global function definition for ‘as’
maNormNN: no visible global function definition for ‘slot<-’
Undefined global functions or variables:
as slot<-
Consider adding
importFrom("methods", "as", "slot<-")
to your NAMESPACE file (and ensure that your DESCRIPTION Imports field
contains 'methods').
* checking Rd files ... OK
* checking Rd metadata ... OK
* checking Rd cross-references ... OK
* checking for missing documentation entries ... OK
* checking for code/documentation mismatches ... OK
* checking Rd \usage sections ... OK
* checking Rd contents ... OK
* checking for unstated dependencies in examples ... OK
* checking files in ‘vignettes’ ... OK
* checking examples ... OK
Examples with CPU or elapsed time > 5s
user system elapsed
maNormNN 38.681 0.008 38.699
compNorm 24.406 0.031 25.924
detectSpatialBias 7.761 0.008 7.768
* checking for unstated dependencies in vignettes ... OK
* checking package vignettes in ‘inst/doc’ ... OK
* checking running R code from vignettes ... SKIPPED
* checking re-building of vignette outputs ... SKIPPED
* checking PDF version of manual ... OK
* DONE
Status: 3 NOTEs
See
‘/home/biocbuild/bbs-3.9-bioc/meat/nnNorm.Rcheck/00check.log’
for details.
nnNorm.Rcheck/00install.out
############################################################################## ############################################################################## ### ### Running command: ### ### /home/biocbuild/bbs-3.9-bioc/R/bin/R CMD INSTALL nnNorm ### ############################################################################## ############################################################################## * installing to library ‘/home/biocbuild/bbs-3.9-bioc/R/library’ * installing *source* package ‘nnNorm’ ... ** using staged installation ** R ** inst ** byte-compile and prepare package for lazy loading ** help *** installing help indices ** building package indices ** installing vignettes ** testing if installed package can be loaded from temporary location ** testing if installed package can be loaded from final location ** testing if installed package keeps a record of temporary installation path * DONE (nnNorm)
nnNorm.Rcheck/nnNorm-Ex.timings
| name | user | system | elapsed | |
| compNorm | 24.406 | 0.031 | 25.924 | |
| detectSpatialBias | 7.761 | 0.008 | 7.768 | |
| maNormNN | 38.681 | 0.008 | 38.699 | |