| Back to Multiple platform build/check report for BioC 3.9 |
|
This page was generated on 2019-04-09 11:59:58 -0400 (Tue, 09 Apr 2019).
| Package 1068/1703 | Hostname | OS / Arch | INSTALL | BUILD | CHECK | BUILD BIN | ||||||
| ncdfFlow 2.29.3 Mike Jiang
| malbec2 | Linux (Ubuntu 18.04.2 LTS) / x86_64 | OK | OK | OK | |||||||
| tokay2 | Windows Server 2012 R2 Standard / x64 | [ OK ] | OK | OK | OK | |||||||
| celaya2 | OS X 10.11.6 El Capitan / x86_64 | OK | OK | OK | OK | |||||||
| merida2 | OS X 10.11.6 El Capitan / x86_64 | OK | OK | OK | OK |
| Package: ncdfFlow |
| Version: 2.29.3 |
| Command: C:\cygwin\bin\curl.exe -O https://malbec2.bioconductor.org/BBS/3.9/bioc/src/contrib/ncdfFlow_2.29.3.tar.gz && rm -rf ncdfFlow.buildbin-libdir && mkdir ncdfFlow.buildbin-libdir && C:\Users\biocbuild\bbs-3.9-bioc\R\bin\R.exe CMD INSTALL --merge-multiarch --build --library=ncdfFlow.buildbin-libdir ncdfFlow_2.29.3.tar.gz && C:\Users\biocbuild\bbs-3.9-bioc\R\bin\R.exe CMD INSTALL ncdfFlow_2.29.3.zip && rm ncdfFlow_2.29.3.tar.gz ncdfFlow_2.29.3.zip |
| StartedAt: 2019-04-08 19:11:15 -0400 (Mon, 08 Apr 2019) |
| EndedAt: 2019-04-08 19:13:25 -0400 (Mon, 08 Apr 2019) |
| EllapsedTime: 130.7 seconds |
| RetCode: 0 |
| Status: OK |
##############################################################################
##############################################################################
###
### Running command:
###
### C:\cygwin\bin\curl.exe -O https://malbec2.bioconductor.org/BBS/3.9/bioc/src/contrib/ncdfFlow_2.29.3.tar.gz && rm -rf ncdfFlow.buildbin-libdir && mkdir ncdfFlow.buildbin-libdir && C:\Users\biocbuild\bbs-3.9-bioc\R\bin\R.exe CMD INSTALL --merge-multiarch --build --library=ncdfFlow.buildbin-libdir ncdfFlow_2.29.3.tar.gz && C:\Users\biocbuild\bbs-3.9-bioc\R\bin\R.exe CMD INSTALL ncdfFlow_2.29.3.zip && rm ncdfFlow_2.29.3.tar.gz ncdfFlow_2.29.3.zip
###
##############################################################################
##############################################################################
% Total % Received % Xferd Average Speed Time Time Time Current
Dload Upload Total Spent Left Speed
0 0 0 0 0 0 0 0 --:--:-- --:--:-- --:--:-- 0
0 57046 0 0 0 0 0 0 --:--:-- --:--:-- --:--:-- 0
100 57046 100 57046 0 0 513k 0 --:--:-- --:--:-- --:--:-- 546k
install for i386
* installing *source* package 'ncdfFlow' ...
** libs
C:/Rtools/mingw_32/bin/g++ -I"C:/Users/BIOCBU˜1/BBS-3˜1.9-B/R/include" -DNDEBUG -I"C:/Users/biocbuild/bbs-3.9-bioc/R/library/Rcpp/include" -I"C:/Users/biocbuild/bbs-3.9-bioc/R/library/RcppArmadillo/include" -I"C:/Users/biocbuild/bbs-3.9-bioc/R/library/BH/include" -I"C:/Users/biocbuild/bbs-3.9-bioc/R/library/Rhdf5lib/include" -I"C:/extsoft/include" -O2 -Wall -mtune=generic -c RcppExports.cpp -o RcppExports.o
C:/Rtools/mingw_32/bin/g++ -I"C:/Users/BIOCBU˜1/BBS-3˜1.9-B/R/include" -DNDEBUG -I"C:/Users/biocbuild/bbs-3.9-bioc/R/library/Rcpp/include" -I"C:/Users/biocbuild/bbs-3.9-bioc/R/library/RcppArmadillo/include" -I"C:/Users/biocbuild/bbs-3.9-bioc/R/library/BH/include" -I"C:/Users/biocbuild/bbs-3.9-bioc/R/library/Rhdf5lib/include" -I"C:/extsoft/include" -O2 -Wall -mtune=generic -c bitOps.cpp -o bitOps.o
C:/Rtools/mingw_32/bin/g++ -I"C:/Users/BIOCBU˜1/BBS-3˜1.9-B/R/include" -DNDEBUG -I"C:/Users/biocbuild/bbs-3.9-bioc/R/library/Rcpp/include" -I"C:/Users/biocbuild/bbs-3.9-bioc/R/library/RcppArmadillo/include" -I"C:/Users/biocbuild/bbs-3.9-bioc/R/library/BH/include" -I"C:/Users/biocbuild/bbs-3.9-bioc/R/library/Rhdf5lib/include" -I"C:/extsoft/include" -O2 -Wall -mtune=generic -c hdfFlow.cpp -o hdfFlow.o
hdfFlow.cpp: In function 'void readSlice_cpp(hid_t, hid_t, hid_t, std::vector<unsigned int, std::allocator<unsigned int> >, unsigned int, unsigned int, double*, bool)':
hdfFlow.cpp:486:14: warning: variable 'status' set but not used [-Wunused-but-set-variable]
herr_t status;
^
C:/Rtools/mingw_32/bin/gcc -I"C:/Users/BIOCBU˜1/BBS-3˜1.9-B/R/include" -DNDEBUG -I"C:/Users/biocbuild/bbs-3.9-bioc/R/library/Rcpp/include" -I"C:/Users/biocbuild/bbs-3.9-bioc/R/library/RcppArmadillo/include" -I"C:/Users/biocbuild/bbs-3.9-bioc/R/library/BH/include" -I"C:/Users/biocbuild/bbs-3.9-bioc/R/library/Rhdf5lib/include" -I"C:/extsoft/include" -O3 -Wall -std=gnu99 -mtune=generic -c init.c -o init.o
C:/Rtools/mingw_32/bin/g++ -I"C:/Users/BIOCBU˜1/BBS-3˜1.9-B/R/include" -DNDEBUG -I"C:/Users/biocbuild/bbs-3.9-bioc/R/library/Rcpp/include" -I"C:/Users/biocbuild/bbs-3.9-bioc/R/library/RcppArmadillo/include" -I"C:/Users/biocbuild/bbs-3.9-bioc/R/library/BH/include" -I"C:/Users/biocbuild/bbs-3.9-bioc/R/library/Rhdf5lib/include" -I"C:/extsoft/include" -O2 -Wall -mtune=generic -c readFrame.cpp -o readFrame.o
readFrame.cpp: In function 'Rcpp::S4 readFrame(Rcpp::S4, Rcpp::RObject, Rcpp::RObject, bool)':
readFrame.cpp:87:26: warning: comparison between signed and unsigned integer expressions [-Wsign-compare]
for(unsigned i = 0; i < j_val.size(); i++){
^
mkdir -p "C:/Users/biocbuild/bbs-3.9-bioc/meat/ncdfFlow.buildbin-libdir/00LOCK-ncdfFlow/00new/ncdfFlow/lib/i386"
C:/Rtools/mingw_32/bin/ar rs "C:/Users/biocbuild/bbs-3.9-bioc/meat/ncdfFlow.buildbin-libdir/00LOCK-ncdfFlow/00new/ncdfFlow/lib/i386/libncdfFlow.a" RcppExports.o bitOps.o hdfFlow.o init.o readFrame.o
C:\Rtools\mingw_32\bin\ar.exe: creating C:/Users/biocbuild/bbs-3.9-bioc/meat/ncdfFlow.buildbin-libdir/00LOCK-ncdfFlow/00new/ncdfFlow/lib/i386/libncdfFlow.a
C:/Rtools/mingw_32/bin/g++ -shared -s -static-libgcc -o ncdfFlow.dll tmp.def RcppExports.o bitOps.o hdfFlow.o init.o readFrame.o -LC:/Users/BIOCBU˜1/BBS-3˜1.9-B/R/library/Rhdf5lib/lib/i386 -lhdf5 -lszip -lz -lpsapi -LC:/extsoft/lib/i386 -LC:/extsoft/lib -LC:/Users/BIOCBU˜1/BBS-3˜1.9-B/R/bin/i386 -lR
installing to C:/Users/biocbuild/bbs-3.9-bioc/meat/ncdfFlow.buildbin-libdir/00LOCK-ncdfFlow/00new/ncdfFlow/libs/i386
** R
** inst
** byte-compile and prepare package for lazy loading
** help
*** installing help indices
converting help for package 'ncdfFlow'
finding HTML links ... done
Indices html
as.flowSet html
clone.ncdfFlowSet html
extractFlowFrame html
finding level-2 HTML links ... done
flowSet-accessor html
getFileName html
lapply-methods html
ncdfFlow html
ncdfFlowList-class html
ncdfFlowSet-Subset html
ncdfFlowSet-class html
ncdfFlowSet-constructor html
ncdfFlowSet-split html
ncfsApply-ncdfFlowSet-method html
plot html
rbind2-method html
read.ncdfFlowSet html
replacement-method-for-ncdfFlowSet html
save_ncfs html
subset-functions html
subset-methods html
unlink-ncdfFlowSet-method html
** building package indices
** installing vignettes
** testing if installed package can be loaded from temporary location
** testing if installed package can be loaded from final location
** testing if installed package keeps a record of temporary installation path
install for x64
* installing *source* package 'ncdfFlow' ...
** libs
C:/Rtools/mingw_64/bin/g++ -I"C:/Users/BIOCBU˜1/BBS-3˜1.9-B/R/include" -DNDEBUG -I"C:/Users/biocbuild/bbs-3.9-bioc/R/library/Rcpp/include" -I"C:/Users/biocbuild/bbs-3.9-bioc/R/library/RcppArmadillo/include" -I"C:/Users/biocbuild/bbs-3.9-bioc/R/library/BH/include" -I"C:/Users/biocbuild/bbs-3.9-bioc/R/library/Rhdf5lib/include" -I"C:/extsoft/include" -O2 -Wall -mtune=generic -c RcppExports.cpp -o RcppExports.o
C:/Rtools/mingw_64/bin/g++ -I"C:/Users/BIOCBU˜1/BBS-3˜1.9-B/R/include" -DNDEBUG -I"C:/Users/biocbuild/bbs-3.9-bioc/R/library/Rcpp/include" -I"C:/Users/biocbuild/bbs-3.9-bioc/R/library/RcppArmadillo/include" -I"C:/Users/biocbuild/bbs-3.9-bioc/R/library/BH/include" -I"C:/Users/biocbuild/bbs-3.9-bioc/R/library/Rhdf5lib/include" -I"C:/extsoft/include" -O2 -Wall -mtune=generic -c bitOps.cpp -o bitOps.o
C:/Rtools/mingw_64/bin/g++ -I"C:/Users/BIOCBU˜1/BBS-3˜1.9-B/R/include" -DNDEBUG -I"C:/Users/biocbuild/bbs-3.9-bioc/R/library/Rcpp/include" -I"C:/Users/biocbuild/bbs-3.9-bioc/R/library/RcppArmadillo/include" -I"C:/Users/biocbuild/bbs-3.9-bioc/R/library/BH/include" -I"C:/Users/biocbuild/bbs-3.9-bioc/R/library/Rhdf5lib/include" -I"C:/extsoft/include" -O2 -Wall -mtune=generic -c hdfFlow.cpp -o hdfFlow.o
hdfFlow.cpp: In function 'void readSlice_cpp(hid_t, hid_t, hid_t, std::vector<unsigned int, std::allocator<unsigned int> >, unsigned int, unsigned int, double*, bool)':
hdfFlow.cpp:486:14: warning: variable 'status' set but not used [-Wunused-but-set-variable]
herr_t status;
^
C:/Rtools/mingw_64/bin/gcc -I"C:/Users/BIOCBU˜1/BBS-3˜1.9-B/R/include" -DNDEBUG -I"C:/Users/biocbuild/bbs-3.9-bioc/R/library/Rcpp/include" -I"C:/Users/biocbuild/bbs-3.9-bioc/R/library/RcppArmadillo/include" -I"C:/Users/biocbuild/bbs-3.9-bioc/R/library/BH/include" -I"C:/Users/biocbuild/bbs-3.9-bioc/R/library/Rhdf5lib/include" -I"C:/extsoft/include" -O2 -Wall -std=gnu99 -mtune=generic -c init.c -o init.o
C:/Rtools/mingw_64/bin/g++ -I"C:/Users/BIOCBU˜1/BBS-3˜1.9-B/R/include" -DNDEBUG -I"C:/Users/biocbuild/bbs-3.9-bioc/R/library/Rcpp/include" -I"C:/Users/biocbuild/bbs-3.9-bioc/R/library/RcppArmadillo/include" -I"C:/Users/biocbuild/bbs-3.9-bioc/R/library/BH/include" -I"C:/Users/biocbuild/bbs-3.9-bioc/R/library/Rhdf5lib/include" -I"C:/extsoft/include" -O2 -Wall -mtune=generic -c readFrame.cpp -o readFrame.o
mkdir -p "C:/Users/biocbuild/bbs-3.9-bioc/meat/ncdfFlow.buildbin-libdir/ncdfFlow/lib/x64"
C:/Rtools/mingw_64/bin/ar rs "C:/Users/biocbuild/bbs-3.9-bioc/meat/ncdfFlow.buildbin-libdir/ncdfFlow/lib/x64/libncdfFlow.a" RcppExports.o bitOps.o hdfFlow.o init.o readFrame.o
C:\Rtools\mingw_64\bin\ar.exe: creating C:/Users/biocbuild/bbs-3.9-bioc/meat/ncdfFlow.buildbin-libdir/ncdfFlow/lib/x64/libncdfFlow.a
C:/Rtools/mingw_64/bin/g++ -shared -s -static-libgcc -o ncdfFlow.dll tmp.def RcppExports.o bitOps.o hdfFlow.o init.o readFrame.o -LC:/Users/BIOCBU˜1/BBS-3˜1.9-B/R/library/Rhdf5lib/lib/x64 -lhdf5 -lszip -lz -lpsapi -LC:/extsoft/lib/x64 -LC:/extsoft/lib -LC:/Users/BIOCBU˜1/BBS-3˜1.9-B/R/bin/x64 -lR
installing to C:/Users/biocbuild/bbs-3.9-bioc/meat/ncdfFlow.buildbin-libdir/ncdfFlow/libs/x64
** testing if installed package can be loaded
* MD5 sums
packaged installation of 'ncdfFlow' as ncdfFlow_2.29.3.zip
* DONE (ncdfFlow)
* installing to library 'C:/Users/biocbuild/bbs-3.9-bioc/R/library'
package 'ncdfFlow' successfully unpacked and MD5 sums checked