| Back to Multiple platform build/check report for BioC 3.9 |
|
This page was generated on 2019-04-09 11:44:11 -0400 (Tue, 09 Apr 2019).
| Package 1047/1703 | Hostname | OS / Arch | INSTALL | BUILD | CHECK | BUILD BIN | ||||||
| multiClust 1.13.0 Nathan Lawlor
| malbec2 | Linux (Ubuntu 18.04.2 LTS) / x86_64 | OK | OK | [ OK ] | |||||||
| tokay2 | Windows Server 2012 R2 Standard / x64 | OK | OK | OK | OK | |||||||
| celaya2 | OS X 10.11.6 El Capitan / x86_64 | OK | OK | OK | OK | |||||||
| merida2 | OS X 10.11.6 El Capitan / x86_64 | OK | OK | OK | OK |
| Package: multiClust |
| Version: 1.13.0 |
| Command: /home/biocbuild/bbs-3.9-bioc/R/bin/R CMD check --install=check:multiClust.install-out.txt --library=/home/biocbuild/bbs-3.9-bioc/R/library --no-vignettes --timings multiClust_1.13.0.tar.gz |
| StartedAt: 2019-04-09 02:14:42 -0400 (Tue, 09 Apr 2019) |
| EndedAt: 2019-04-09 02:16:18 -0400 (Tue, 09 Apr 2019) |
| EllapsedTime: 95.8 seconds |
| RetCode: 0 |
| Status: OK |
| CheckDir: multiClust.Rcheck |
| Warnings: 0 |
##############################################################################
##############################################################################
###
### Running command:
###
### /home/biocbuild/bbs-3.9-bioc/R/bin/R CMD check --install=check:multiClust.install-out.txt --library=/home/biocbuild/bbs-3.9-bioc/R/library --no-vignettes --timings multiClust_1.13.0.tar.gz
###
##############################################################################
##############################################################################
* using log directory ‘/home/biocbuild/bbs-3.9-bioc/meat/multiClust.Rcheck’
* using R Under development (unstable) (2019-03-18 r76245)
* using platform: x86_64-pc-linux-gnu (64-bit)
* using session charset: UTF-8
* using option ‘--no-vignettes’
* checking for file ‘multiClust/DESCRIPTION’ ... OK
* checking extension type ... Package
* this is package ‘multiClust’ version ‘1.13.0’
* checking package namespace information ... OK
* checking package dependencies ... OK
* checking if this is a source package ... OK
* checking if there is a namespace ... OK
* checking for hidden files and directories ... OK
* checking for portable file names ... OK
* checking for sufficient/correct file permissions ... OK
* checking whether package ‘multiClust’ can be installed ... OK
* checking installed package size ... OK
* checking package directory ... OK
* checking ‘build’ directory ... OK
* checking DESCRIPTION meta-information ... OK
* checking top-level files ... OK
* checking for left-over files ... OK
* checking index information ... OK
* checking package subdirectories ... OK
* checking R files for non-ASCII characters ... OK
* checking R files for syntax errors ... OK
* checking whether the package can be loaded ... OK
* checking whether the package can be loaded with stated dependencies ... OK
* checking whether the package can be unloaded cleanly ... OK
* checking whether the namespace can be loaded with stated dependencies ... OK
* checking whether the namespace can be unloaded cleanly ... OK
* checking dependencies in R code ... OK
* checking S3 generic/method consistency ... OK
* checking replacement functions ... OK
* checking foreign function calls ... OK
* checking R code for possible problems ... OK
* checking Rd files ... OK
* checking Rd metadata ... OK
* checking Rd cross-references ... OK
* checking for missing documentation entries ... OK
* checking for code/documentation mismatches ... OK
* checking Rd \usage sections ... OK
* checking Rd contents ... OK
* checking for unstated dependencies in examples ... OK
* checking files in ‘vignettes’ ... OK
* checking examples ... OK
Examples with CPU or elapsed time > 5s
user system elapsed
cluster_analysis 9.032 0.053 8.732
* checking for unstated dependencies in ‘tests’ ... OK
* checking tests ...
Running ‘runTests.R’
OK
* checking for unstated dependencies in vignettes ... OK
* checking package vignettes in ‘inst/doc’ ... OK
* checking running R code from vignettes ... SKIPPED
* checking re-building of vignette outputs ... SKIPPED
* checking PDF version of manual ... OK
* DONE
Status: OK
multiClust.Rcheck/00install.out
############################################################################## ############################################################################## ### ### Running command: ### ### /home/biocbuild/bbs-3.9-bioc/R/bin/R CMD INSTALL multiClust ### ############################################################################## ############################################################################## * installing to library ‘/home/biocbuild/bbs-3.9-bioc/R/library’ * installing *source* package ‘multiClust’ ... ** using staged installation ** R ** inst ** byte-compile and prepare package for lazy loading ** help *** installing help indices ** building package indices ** installing vignettes ** testing if installed package can be loaded from temporary location ** testing if installed package can be loaded from final location ** testing if installed package keeps a record of temporary installation path * DONE (multiClust)
multiClust.Rcheck/tests/runTests.Rout
R Under development (unstable) (2019-03-18 r76245) -- "Unsuffered Consequences"
Copyright (C) 2019 The R Foundation for Statistical Computing
Platform: x86_64-pc-linux-gnu (64-bit)
R is free software and comes with ABSOLUTELY NO WARRANTY.
You are welcome to redistribute it under certain conditions.
Type 'license()' or 'licence()' for distribution details.
R is a collaborative project with many contributors.
Type 'contributors()' for more information and
'citation()' on how to cite R or R packages in publications.
Type 'demo()' for some demos, 'help()' for on-line help, or
'help.start()' for an HTML browser interface to help.
Type 'q()' to quit R.
> BiocGenerics:::testPackage("multiClust")
Loading required package: amap
RUNIT TEST PROTOCOL -- Tue Apr 9 02:16:13 2019
***********************************************
Number of test functions: 9
Number of errors: 0
Number of failures: 0
1 Test Suite :
multiClust RUnit Tests - 9 test functions, 0 errors, 0 failures
Number of test functions: 9
Number of errors: 0
Number of failures: 0
Warning message:
In `[.data.frame`(transinput, 1:probe_number, ) :
NAs introduced by coercion
>
> proc.time()
user system elapsed
4.275 0.132 4.587
multiClust.Rcheck/multiClust-Ex.timings
| name | user | system | elapsed | |
| WriteMatrixToFile | 0.032 | 0.000 | 0.032 | |
| avg_probe_exp | 0.633 | 0.052 | 0.695 | |
| cluster_analysis | 9.032 | 0.053 | 8.732 | |
| input_file | 0.120 | 0.000 | 0.121 | |
| nor.min.max | 0.006 | 0.000 | 0.006 | |
| number_clusters | 0.098 | 0.000 | 0.098 | |
| number_probes | 0.188 | 0.000 | 0.188 | |
| probe_ranking | 0.414 | 0.000 | 0.414 | |
| surv_analysis | 0.729 | 0.004 | 0.764 | |