| Back to Multiple platform build/check report for BioC 3.9 |
|
This page was generated on 2019-04-09 13:34:46 -0400 (Tue, 09 Apr 2019).
| Package 1022/1703 | Hostname | OS / Arch | INSTALL | BUILD | CHECK | BUILD BIN | ||||||
| motifcounter 1.7.0 Wolfgang Kopp
| malbec2 | Linux (Ubuntu 18.04.2 LTS) / x86_64 | OK | OK | OK | |||||||
| tokay2 | Windows Server 2012 R2 Standard / x64 | OK | OK | OK | OK | |||||||
| celaya2 | OS X 10.11.6 El Capitan / x86_64 | OK | OK | OK | OK | |||||||
| merida2 | OS X 10.11.6 El Capitan / x86_64 | OK | OK | [ OK ] | OK |
| Package: motifcounter |
| Version: 1.7.0 |
| Command: /Library/Frameworks/R.framework/Versions/Current/Resources/bin/R CMD check --install=check:motifcounter.install-out.txt --library=/Library/Frameworks/R.framework/Versions/Current/Resources/library --no-vignettes --timings motifcounter_1.7.0.tar.gz |
| StartedAt: 2019-04-09 02:20:33 -0400 (Tue, 09 Apr 2019) |
| EndedAt: 2019-04-09 02:27:49 -0400 (Tue, 09 Apr 2019) |
| EllapsedTime: 435.7 seconds |
| RetCode: 0 |
| Status: OK |
| CheckDir: motifcounter.Rcheck |
| Warnings: 0 |
##############################################################################
##############################################################################
###
### Running command:
###
### /Library/Frameworks/R.framework/Versions/Current/Resources/bin/R CMD check --install=check:motifcounter.install-out.txt --library=/Library/Frameworks/R.framework/Versions/Current/Resources/library --no-vignettes --timings motifcounter_1.7.0.tar.gz
###
##############################################################################
##############################################################################
* using log directory ‘/Users/biocbuild/bbs-3.9-bioc/meat/motifcounter.Rcheck’
* using R Under development (unstable) (2018-11-27 r75683)
* using platform: x86_64-apple-darwin15.6.0 (64-bit)
* using session charset: UTF-8
* using option ‘--no-vignettes’
* checking for file ‘motifcounter/DESCRIPTION’ ... OK
* checking extension type ... Package
* this is package ‘motifcounter’ version ‘1.7.0’
* checking package namespace information ... OK
* checking package dependencies ... OK
* checking if this is a source package ... OK
* checking if there is a namespace ... OK
* checking for hidden files and directories ... NOTE
Found the following hidden files and directories:
.zenodo.json
These were most likely included in error. See section ‘Package
structure’ in the ‘Writing R Extensions’ manual.
* checking for portable file names ... OK
* checking for sufficient/correct file permissions ... OK
* checking whether package ‘motifcounter’ can be installed ... OK
* checking installed package size ... OK
* checking package directory ... OK
* checking ‘build’ directory ... OK
* checking DESCRIPTION meta-information ... OK
* checking top-level files ... OK
* checking for left-over files ... OK
* checking index information ... OK
* checking package subdirectories ... OK
* checking R files for non-ASCII characters ... OK
* checking R files for syntax errors ... OK
* checking whether the package can be loaded ... OK
* checking whether the package can be loaded with stated dependencies ... OK
* checking whether the package can be unloaded cleanly ... OK
* checking whether the namespace can be loaded with stated dependencies ... OK
* checking whether the namespace can be unloaded cleanly ... OK
* checking dependencies in R code ... OK
* checking S3 generic/method consistency ... OK
* checking replacement functions ... OK
* checking foreign function calls ... OK
* checking R code for possible problems ... OK
* checking Rd files ... OK
* checking Rd metadata ... OK
* checking Rd cross-references ... OK
* checking for missing documentation entries ... OK
* checking for code/documentation mismatches ... OK
* checking Rd \usage sections ... OK
* checking Rd contents ... OK
* checking for unstated dependencies in examples ... OK
* checking line endings in C/C++/Fortran sources/headers ... OK
* checking line endings in Makefiles ... OK
* checking compilation flags in Makevars ... OK
* checking for GNU extensions in Makefiles ... OK
* checking for portable use of $(BLAS_LIBS) and $(LAPACK_LIBS) ... OK
* checking compiled code ... NOTE
Note: information on .o files is not available
* checking files in ‘vignettes’ ... OK
* checking examples ... OK
Examples with CPU or elapsed time > 5s
user system elapsed
simulateClumpSizeDist 12.93 0.12 13.23
* checking for unstated dependencies in ‘tests’ ... OK
* checking tests ...
Running ‘testthat.R’
OK
* checking for unstated dependencies in vignettes ... OK
* checking package vignettes in ‘inst/doc’ ... OK
* checking running R code from vignettes ... SKIPPED
* checking re-building of vignette outputs ... SKIPPED
* checking PDF version of manual ... OK
* DONE
Status: 2 NOTEs
See
‘/Users/biocbuild/bbs-3.9-bioc/meat/motifcounter.Rcheck/00check.log’
for details.
motifcounter.Rcheck/00install.out
##############################################################################
##############################################################################
###
### Running command:
###
### /Library/Frameworks/R.framework/Versions/Current/Resources/bin/R CMD INSTALL motifcounter
###
##############################################################################
##############################################################################
* installing to library ‘/Library/Frameworks/R.framework/Versions/3.6/Resources/library’
* installing *source* package ‘motifcounter’ ...
** libs
clang -I"/Library/Frameworks/R.framework/Resources/include" -DNDEBUG -I/usr/local/include -fopenmp -DIN_R -fPIC -Wall -g -O2 -c Rbackground.c -o Rbackground.o
clang -I"/Library/Frameworks/R.framework/Resources/include" -DNDEBUG -I/usr/local/include -fopenmp -DIN_R -fPIC -Wall -g -O2 -c Rcombinatorial.c -o Rcombinatorial.o
clang -I"/Library/Frameworks/R.framework/Resources/include" -DNDEBUG -I/usr/local/include -fopenmp -DIN_R -fPIC -Wall -g -O2 -c Rcompoundpoisson.c -o Rcompoundpoisson.o
clang -I"/Library/Frameworks/R.framework/Resources/include" -DNDEBUG -I/usr/local/include -fopenmp -DIN_R -fPIC -Wall -g -O2 -c Rminmaxscore.c -o Rminmaxscore.o
clang -I"/Library/Frameworks/R.framework/Resources/include" -DNDEBUG -I/usr/local/include -fopenmp -DIN_R -fPIC -Wall -g -O2 -c Roption.c -o Roption.o
clang -I"/Library/Frameworks/R.framework/Resources/include" -DNDEBUG -I/usr/local/include -fopenmp -DIN_R -fPIC -Wall -g -O2 -c Roverlap.c -o Roverlap.o
clang -I"/Library/Frameworks/R.framework/Resources/include" -DNDEBUG -I/usr/local/include -fopenmp -DIN_R -fPIC -Wall -g -O2 -c Rscore1d.c -o Rscore1d.o
clang -I"/Library/Frameworks/R.framework/Resources/include" -DNDEBUG -I/usr/local/include -fopenmp -DIN_R -fPIC -Wall -g -O2 -c Rsequence.c -o Rsequence.o
Rsequence.c:143:21: warning: unused variable 'noscores' [-Wunused-variable]
int mins, maxs, noscores;
^
1 warning generated.
clang -I"/Library/Frameworks/R.framework/Resources/include" -DNDEBUG -I/usr/local/include -fopenmp -DIN_R -fPIC -Wall -g -O2 -c Rsimulate.c -o Rsimulate.o
clang -I"/Library/Frameworks/R.framework/Resources/include" -DNDEBUG -I/usr/local/include -fopenmp -DIN_R -fPIC -Wall -g -O2 -c background.c -o background.o
clang -I"/Library/Frameworks/R.framework/Resources/include" -DNDEBUG -I/usr/local/include -fopenmp -DIN_R -fPIC -Wall -g -O2 -c combinatorial.c -o combinatorial.o
clang -I"/Library/Frameworks/R.framework/Resources/include" -DNDEBUG -I/usr/local/include -fopenmp -DIN_R -fPIC -Wall -g -O2 -c compoundpoisson.c -o compoundpoisson.o
clang -I"/Library/Frameworks/R.framework/Resources/include" -DNDEBUG -I/usr/local/include -fopenmp -DIN_R -fPIC -Wall -g -O2 -c markovchain.c -o markovchain.o
clang -I"/Library/Frameworks/R.framework/Resources/include" -DNDEBUG -I/usr/local/include -fopenmp -DIN_R -fPIC -Wall -g -O2 -c markovchain_single.c -o markovchain_single.o
clang -I"/Library/Frameworks/R.framework/Resources/include" -DNDEBUG -I/usr/local/include -fopenmp -DIN_R -fPIC -Wall -g -O2 -c matrix.c -o matrix.o
clang -I"/Library/Frameworks/R.framework/Resources/include" -DNDEBUG -I/usr/local/include -fopenmp -DIN_R -fPIC -Wall -g -O2 -c mdist_register.c -o mdist_register.o
clang -I"/Library/Frameworks/R.framework/Resources/include" -DNDEBUG -I/usr/local/include -fopenmp -DIN_R -fPIC -Wall -g -O2 -c minmaxscore.c -o minmaxscore.o
clang -I"/Library/Frameworks/R.framework/Resources/include" -DNDEBUG -I/usr/local/include -fopenmp -DIN_R -fPIC -Wall -g -O2 -c overlap.c -o overlap.o
clang -I"/Library/Frameworks/R.framework/Resources/include" -DNDEBUG -I/usr/local/include -fopenmp -DIN_R -fPIC -Wall -g -O2 -c score1d.c -o score1d.o
clang -I"/Library/Frameworks/R.framework/Resources/include" -DNDEBUG -I/usr/local/include -fopenmp -DIN_R -fPIC -Wall -g -O2 -c score2d.c -o score2d.o
clang -I"/Library/Frameworks/R.framework/Resources/include" -DNDEBUG -I/usr/local/include -fopenmp -DIN_R -fPIC -Wall -g -O2 -c scorefunctions.c -o scorefunctions.o
scorefunctions.c:84:22: warning: unused variable 'cindex' [-Wunused-variable]
int j, i, index, cindex, ds;
^
scorefunctions.c:119:17: warning: unused variable 'cindex' [-Wunused-variable]
int s, index, cindex;
^
scorefunctions.c:159:19: warning: unused variable 'cindex' [-Wunused-variable]
int s, index, cindex;
^
3 warnings generated.
clang -I"/Library/Frameworks/R.framework/Resources/include" -DNDEBUG -I/usr/local/include -fopenmp -DIN_R -fPIC -Wall -g -O2 -c sequence.c -o sequence.o
clang -I"/Library/Frameworks/R.framework/Resources/include" -DNDEBUG -I/usr/local/include -fopenmp -DIN_R -fPIC -Wall -g -O2 -c simulate.c -o simulate.o
clang -dynamiclib -Wl,-headerpad_max_install_names -undefined dynamic_lookup -single_module -multiply_defined suppress -L/Library/Frameworks/R.framework/Resources/lib -L/usr/local/lib -o motifcounter.so Rbackground.o Rcombinatorial.o Rcompoundpoisson.o Rminmaxscore.o Roption.o Roverlap.o Rscore1d.o Rsequence.o Rsimulate.o background.o combinatorial.o compoundpoisson.o markovchain.o markovchain_single.o matrix.o mdist_register.o minmaxscore.o overlap.o score1d.o score2d.o scorefunctions.o sequence.o simulate.o -fopenmp -F/Library/Frameworks/R.framework/.. -framework R -Wl,-framework -Wl,CoreFoundation
installing to /Library/Frameworks/R.framework/Versions/3.6/Resources/library/motifcounter/libs
** R
** inst
** byte-compile and prepare package for lazy loading
** help
*** installing help indices
** building package indices
** installing vignettes
** testing if installed package can be loaded
* DONE (motifcounter)
motifcounter.Rcheck/tests/testthat.Rout
R Under development (unstable) (2018-11-27 r75683) -- "Unsuffered Consequences"
Copyright (C) 2018 The R Foundation for Statistical Computing
Platform: x86_64-apple-darwin15.6.0 (64-bit)
R is free software and comes with ABSOLUTELY NO WARRANTY.
You are welcome to redistribute it under certain conditions.
Type 'license()' or 'licence()' for distribution details.
R is a collaborative project with many contributors.
Type 'contributors()' for more information and
'citation()' on how to cite R or R packages in publications.
Type 'demo()' for some demos, 'help()' for on-line help, or
'help.start()' for an HTML browser interface to help.
Type 'q()' to quit R.
> library(testthat)
> library(motifcounter)
>
> test_check("motifcounter")
══ testthat results ═══════════════════════════════════════════════════════════
OK: 841 SKIPPED: 0 FAILED: 0
>
> proc.time()
user system elapsed
314.897 2.132 319.967
motifcounter.Rcheck/motifcounter-Ex.timings
| name | user | system | elapsed | |
| clumpSizeDist | 0.470 | 0.005 | 0.481 | |
| combinatorialDist | 0.375 | 0.019 | 0.401 | |
| compoundPoissonDist | 0.380 | 0.028 | 0.410 | |
| computeClumpStartProb | 0.243 | 0.026 | 0.271 | |
| generateDNAString | 0.122 | 0.000 | 0.124 | |
| generateDNAStringSet | 0.170 | 0.001 | 0.171 | |
| hitStrand | 0.117 | 0.002 | 0.121 | |
| lenSequences | 0.098 | 0.002 | 0.100 | |
| markovModel | 0.199 | 0.003 | 0.204 | |
| motifAndBackgroundValid | 0.089 | 0.000 | 0.092 | |
| motifEnrichment | 3.860 | 0.022 | 3.920 | |
| motifHitProfile | 0.110 | 0.002 | 0.112 | |
| motifHits | 0.128 | 0.002 | 0.131 | |
| motifValid | 0.002 | 0.000 | 0.002 | |
| motifcounter-package | 1.272 | 0.016 | 1.296 | |
| motifcounterOptions | 0 | 0 | 0 | |
| normalizeMotif | 0.001 | 0.000 | 0.002 | |
| numMotifHits | 0.766 | 0.006 | 0.775 | |
| probOverlapHit | 0.316 | 0.008 | 0.328 | |
| readBackground | 0.089 | 0.002 | 0.093 | |
| revcompMotif | 0.002 | 0.000 | 0.002 | |
| scoreDist | 0.105 | 0.001 | 0.108 | |
| scoreDistBf | 0.128 | 0.001 | 0.129 | |
| scoreDistEmpirical | 3.524 | 0.020 | 3.581 | |
| scoreHistogram | 0.280 | 0.006 | 0.291 | |
| scoreHistogramSingleSeq | 0.123 | 0.004 | 0.129 | |
| scoreProfile | 0.681 | 0.003 | 0.687 | |
| scoreSequence | 0.139 | 0.002 | 0.142 | |
| scoreStrand | 0.146 | 0.002 | 0.148 | |
| scoreThreshold | 0.130 | 0.001 | 0.131 | |
| sigLevel | 0 | 0 | 0 | |
| simulateClumpSizeDist | 12.93 | 0.12 | 13.23 | |
| simulateNumHitsDist | 2.697 | 0.038 | 2.758 | |