| Back to Multiple platform build/check report for BioC 3.9 |
|
This page was generated on 2019-03-29 12:05:27 -0400 (Fri, 29 Mar 2019).
| Package 1000/1686 | Hostname | OS / Arch | INSTALL | BUILD | CHECK | BUILD BIN | ||||||
| mixOmics 6.7.1 Kim-Anh Le Cao
| malbec2 | Linux (Ubuntu 18.04.2 LTS) / x86_64 | OK | OK | OK | |||||||
| tokay2 | Windows Server 2012 R2 Standard / x64 | OK | OK | OK | OK | |||||||
| celaya2 | OS X 10.11.6 El Capitan / x86_64 | OK | OK | [ OK ] | OK | |||||||
| merida2 | OS X 10.11.6 El Capitan / x86_64 | OK | OK | OK | OK |
| Package: mixOmics |
| Version: 6.7.1 |
| Command: /Library/Frameworks/R.framework/Versions/Current/Resources/bin/R CMD check --install=check:mixOmics.install-out.txt --library=/Library/Frameworks/R.framework/Versions/Current/Resources/library --no-vignettes --timings mixOmics_6.7.1.tar.gz |
| StartedAt: 2019-03-29 03:32:45 -0400 (Fri, 29 Mar 2019) |
| EndedAt: 2019-03-29 03:37:22 -0400 (Fri, 29 Mar 2019) |
| EllapsedTime: 277.9 seconds |
| RetCode: 0 |
| Status: OK |
| CheckDir: mixOmics.Rcheck |
| Warnings: 0 |
##############################################################################
##############################################################################
###
### Running command:
###
### /Library/Frameworks/R.framework/Versions/Current/Resources/bin/R CMD check --install=check:mixOmics.install-out.txt --library=/Library/Frameworks/R.framework/Versions/Current/Resources/library --no-vignettes --timings mixOmics_6.7.1.tar.gz
###
##############################################################################
##############################################################################
* using log directory ‘/Users/biocbuild/bbs-3.9-bioc/meat/mixOmics.Rcheck’
* using R Under development (unstable) (2019-03-18 r76245)
* using platform: x86_64-apple-darwin15.6.0 (64-bit)
* using session charset: UTF-8
* using option ‘--no-vignettes’
* checking for file ‘mixOmics/DESCRIPTION’ ... OK
* checking extension type ... Package
* this is package ‘mixOmics’ version ‘6.7.1’
* checking package namespace information ... OK
* checking package dependencies ... OK
* checking if this is a source package ... OK
* checking if there is a namespace ... OK
* checking for hidden files and directories ... OK
* checking for portable file names ... OK
* checking for sufficient/correct file permissions ... OK
* checking whether package ‘mixOmics’ can be installed ... OK
* checking installed package size ... OK
* checking package directory ... OK
* checking ‘build’ directory ... OK
* checking DESCRIPTION meta-information ... OK
* checking top-level files ... OK
* checking for left-over files ... OK
* checking index information ... OK
* checking package subdirectories ... OK
* checking R files for non-ASCII characters ... OK
* checking R files for syntax errors ... OK
* checking whether the package can be loaded ... OK
* checking whether the package can be loaded with stated dependencies ... OK
* checking whether the package can be unloaded cleanly ... OK
* checking whether the namespace can be loaded with stated dependencies ... OK
* checking whether the namespace can be unloaded cleanly ... OK
* checking dependencies in R code ... OK
* checking S3 generic/method consistency ... OK
* checking replacement functions ... OK
* checking foreign function calls ... OK
* checking R code for possible problems ... OK
* checking Rd files ... OK
* checking Rd metadata ... OK
* checking Rd cross-references ... OK
* checking for missing documentation entries ... OK
* checking for code/documentation mismatches ... OK
* checking Rd \usage sections ... OK
* checking Rd contents ... OK
* checking for unstated dependencies in examples ... OK
* checking contents of ‘data’ directory ... OK
* checking data for non-ASCII characters ... OK
* checking data for ASCII and uncompressed saves ... OK
* checking files in ‘vignettes’ ... OK
* checking examples ... OK
Examples with CPU or elapsed time > 5s
user system elapsed
background.predict 11.268 4.264 15.532
tune 9.378 2.349 11.727
tune.splsda 8.650 2.378 11.030
tune.mint.splsda 4.736 0.425 5.163
* checking for unstated dependencies in ‘tests’ ... OK
* checking tests ...
Running ‘testthat.R’
OK
* checking for unstated dependencies in vignettes ... OK
* checking package vignettes in ‘inst/doc’ ... OK
* checking running R code from vignettes ... SKIPPED
* checking re-building of vignette outputs ... SKIPPED
* checking PDF version of manual ... OK
* DONE
Status: OK
mixOmics.Rcheck/00install.out
############################################################################## ############################################################################## ### ### Running command: ### ### /Library/Frameworks/R.framework/Versions/Current/Resources/bin/R CMD INSTALL mixOmics ### ############################################################################## ############################################################################## * installing to library ‘/Library/Frameworks/R.framework/Versions/3.6/Resources/library’ * installing *source* package ‘mixOmics’ ... files ‘R/MCVfold.R’, ‘R/multilevel.R’, ‘R/plotContrib.R’, ‘R/scatterutil.R’, ‘R/tune.multilevel.R’, ‘man/multilevel.Rd’, ‘man/plotContrib.Rd’, ‘man/scatterutil.Rd’, ‘man/tune.multilevel.Rd’ are missing files ‘DESCRIPTION’, ‘NAMESPACE’, ‘NEWS’, ‘R/LOGOCV.R’, ‘R/bin.color.R’, ‘R/block.pls.R’, ‘R/block.plsda.R’, ‘R/block.spls.R’, ‘R/block.splsda.R’, ‘R/check_entry.R’, ‘R/cim.R’, ‘R/cimDiablo.R’, ‘R/circosPlot.R’, ‘R/color.GreenRed.R’, ‘R/color.jet.R’, ‘R/color.mixo.R’, ‘R/color.spectral.R’, ‘R/explained_variance.R’, ‘R/ica.def.par.R’, ‘R/image.tune.rcc.R’, ‘R/imageMap.R’, ‘R/imgCor.R’, ‘R/internal_graphicModule.R’, ‘R/internal_mint.block.R’, ‘R/internal_mint.block_helpers.R’, ‘R/internal_predict.DA.R’, ‘R/internal_wrapper.mint.R’, ‘R/internal_wrapper.mint.block.R’, ‘R/mat.rank.R’, ‘R/mint.block.pls.R’, ‘R/mint.block.plsda.R’, ‘R/mint.block.spls.R’, ‘R/mint.block.splsda.R’, ‘R/mint.pls.R’, ‘R/mint.plsda.R’, ‘R/mint.spls.R’, ‘R/mint.splsda.R’, ‘R/mixOmics.R’, ‘R/network.R’, ‘R/nipals.R’, ‘R/pca.R’, ‘R/pcasvd.R’, ‘R/perf.R’, ‘R/perf.diablo.R’, ‘R/perf.mint.splsda.R’, ‘R/plot.pca.R’, ‘R/plot.perf.R’, ‘R/plotArrow.R’, ‘R/plotDiablo.R’, ‘R/plotIndiv.R’, ‘R/plotIndiv.mint.R’, ‘R/plotIndiv.pca.R’, ‘R/plotIndiv.pls.R’, ‘R/plotIndiv.sgcca.R’, ‘R/plotLoadings.R’, ‘R/plotLoadings.mint.spls.R’, ‘R/plotLoadings.mint.splsda.R’, ‘R/plotLoadings.spls.R’, ‘R/plotLoadings.splsda.R’, ‘R/plotVar.R’, ‘R/pls.R’, ‘R/plsda.R’, ‘R/predict.mint.block.pls.R’, ‘R/print.methods.R’, ‘R/selectVar.R’, ‘R/sipca.R’, ‘R/spca.R’, ‘R/spls.R’, ‘R/splsda.R’, ‘R/summary.R’, ‘R/tune.R’, ‘R/tune.mint.splsda.R’, ‘R/tune.rcc.R’, ‘R/tune.splsda.R’, ‘R/tune.splslevel.R’, ‘R/vip.R’, ‘R/wrapper.ilr.R’, ‘R/wrapper.rgcca.R’, ‘R/wrapper.sgcca.R’, ‘R/zzz.R’, ‘data/Koren.16S.rda’, ‘data/datalist’, ‘data/diverse.16S.rda’, ‘data/vac18.simulated.rda’, ‘man/Koren.16S.Rd’, ‘man/block.pls.Rd’, ‘man/block.plsda.Rd’, ‘man/block.spls.Rd’, ‘man/block.splsda.Rd’, ‘man/breast.TCGA.Rd’, ‘man/breast.tumors.Rd’, ‘man/cim.Rd’, ‘man/cimDiablo.Rd’, ‘man/circosPlot.Rd’, ‘man/colors.Rd’, ‘man/diverse.16S.Rd’, ‘man/estim.regul.Rd’, ‘man/explained_variance.Rd’, ‘man/image.estim.regul.Rd’, ‘man/image.tune.rcc.Rd’, ‘man/imgCor.Rd’, ‘man/ipca.Rd’, ‘man/linnerud.Rd’, ‘man/liver.toxicity.Rd’, ‘man/logratio.transfo.Rd’, ‘man/map.Rd’, ‘man/mat.rank.Rd’, ‘man/mint.block.pls.Rd’, ‘man/mint.block.plsda.Rd’, ‘man/mint.block.spls.Rd’, ‘man/mint.block.splsda.Rd’, ‘man/mint.pls.Rd’, ‘man/mint.plsda.Rd’, ‘man/mint.spls.Rd’, ‘man/mint.splsda.Rd’, ‘man/mixOmics.Rd’, ‘man/multidrug.Rd’, ‘man/nearZeroVar.Rd’, ‘man/network.Rd’, ‘man/nipals.Rd’, ‘man/nutrimouse.Rd’, ‘man/pca.Rd’, ‘man/pcatune.Rd’, ‘man/perf.Rd’, ‘man/plot.perf.Rd’, ‘man/plot.rcc.Rd’, ‘man/plotArrow.Rd’, ‘man/plotDiablo.Rd’, ‘man/plotIndiv.Rd’, ‘man/plotLoadings.Rd’, ‘man/plotVar.Rd’, ‘man/pls.Rd’, ‘man/plsda.Rd’, ‘man/predict.Rd’, ‘man/print.methods.Rd’, ‘man/rcc.Rd’, ‘man/selectVar.Rd’, ‘man/sipca.Rd’, ‘man/spca.Rd’, ‘man/spls.Rd’, ‘man/splsda.Rd’, ‘man/srbct.Rd’, ‘man/stemcells.Rd’, ‘man/study_split.Rd’, ‘man/summary.Rd’, ‘man/tune.Rd’, ‘man/tune.mint.splsda.Rd’, ‘man/tune.pca.Rd’, ‘man/tune.rcc.Rd’, ‘man/tune.splsda.Rd’, ‘man/unmap.Rd’, ‘man/vac18.Rd’, ‘man/vac18.simulated.Rd’, ‘man/vip.Rd’, ‘man/withinVariation.Rd’, ‘man/wrapper.rgcca.Rd’, ‘man/wrapper.sgcca.Rd’, ‘man/yeast.Rd’ have the wrong MD5 checksums ** using staged installation ** R ** data ** inst ** byte-compile and prepare package for lazy loading ** help *** installing help indices ** building package indices ** installing vignettes ** testing if installed package can be loaded from temporary location ** testing if installed package can be loaded from final location ** testing if installed package keeps a record of temporary installation path * DONE (mixOmics)
mixOmics.Rcheck/tests/testthat.Rout
R Under development (unstable) (2019-03-18 r76245) -- "Unsuffered Consequences"
Copyright (C) 2019 The R Foundation for Statistical Computing
Platform: x86_64-apple-darwin15.6.0 (64-bit)
R is free software and comes with ABSOLUTELY NO WARRANTY.
You are welcome to redistribute it under certain conditions.
Type 'license()' or 'licence()' for distribution details.
R is a collaborative project with many contributors.
Type 'contributors()' for more information and
'citation()' on how to cite R or R packages in publications.
Type 'demo()' for some demos, 'help()' for on-line help, or
'help.start()' for an HTML browser interface to help.
Type 'q()' to quit R.
> library(testthat)
> library(mixOmics)
Loading required package: MASS
Loading required package: lattice
Loading required package: ggplot2
Loaded mixOmics 6.7.1
Thank you for using mixOmics! Learn how to apply our methods with our tutorials on www.mixOmics.org, vignette and bookdown on https://github.com/mixOmicsTeam/mixOmics
Questions: email us at mixomics[at]math.univ-toulouse.fr
Bugs, Issues? https://github.com/mixOmicsTeam/mixOmics/issues
Cite us: citation('mixOmics')
>
> test_check("mixOmics")
══ testthat results ═══════════════════════════════════════════════════════════
OK: 41 SKIPPED: 0 FAILED: 0
>
> proc.time()
user system elapsed
3.817 0.468 4.243
mixOmics.Rcheck/mixOmics-Ex.timings
| name | user | system | elapsed | |
| auroc | 0.595 | 0.046 | 0.642 | |
| background.predict | 11.268 | 4.264 | 15.532 | |
| block.pls | 0.901 | 0.056 | 0.957 | |
| block.plsda | 1.461 | 0.012 | 1.474 | |
| block.spls | 1.013 | 0.030 | 1.045 | |
| block.splsda | 0.896 | 0.031 | 0.928 | |
| cim | 0.031 | 0.008 | 0.039 | |
| cimDiablo | 0.190 | 0.006 | 0.196 | |
| circosPlot | 0.345 | 0.009 | 0.355 | |
| colors | 0.052 | 0.004 | 0.056 | |
| explained_variance | 0.204 | 0.027 | 0.230 | |
| get.confusion_matrix | 0.347 | 0.015 | 0.363 | |
| image.tune.rcc | 3.821 | 0.216 | 4.037 | |
| imgCor | 0.096 | 0.010 | 0.107 | |
| ipca | 1.581 | 0.067 | 1.651 | |
| logratio.transfo | 0.073 | 0.024 | 0.098 | |
| map | 0.007 | 0.003 | 0.010 | |
| mat.rank | 0.003 | 0.000 | 0.004 | |
| mint.block.pls | 0.176 | 0.029 | 0.205 | |
| mint.block.plsda | 0.151 | 0.023 | 0.174 | |
| mint.block.spls | 0.173 | 0.022 | 0.195 | |
| mint.block.splsda | 0.174 | 0.017 | 0.190 | |
| mint.pca | 0.794 | 0.027 | 0.821 | |
| mint.pls | 0.939 | 0.021 | 0.960 | |
| mint.plsda | 0.923 | 0.007 | 0.931 | |
| mint.spls | 0.883 | 0.010 | 0.894 | |
| mint.splsda | 1.093 | 0.008 | 1.102 | |
| mixOmics | 0.785 | 0.046 | 0.831 | |
| nearZeroVar | 1.354 | 0.119 | 1.473 | |
| network | 0.015 | 0.002 | 0.017 | |
| nipals | 0.002 | 0.001 | 0.003 | |
| pca | 0.164 | 0.033 | 0.204 | |
| perf | 2.731 | 0.391 | 3.126 | |
| plot.perf | 2.316 | 0.186 | 2.503 | |
| plot.rcc | 0.023 | 0.003 | 0.026 | |
| plot.tune | 0.001 | 0.001 | 0.002 | |
| plotArrow | 0.164 | 0.017 | 0.181 | |
| plotDiablo | 0.209 | 0.020 | 0.229 | |
| plotIndiv | 0.538 | 0.013 | 0.551 | |
| plotLoadings | 0.145 | 0.024 | 0.170 | |
| plotVar | 0.826 | 0.011 | 0.837 | |
| pls | 0.008 | 0.002 | 0.010 | |
| plsda | 0.561 | 0.025 | 0.587 | |
| predict | 0.234 | 0.022 | 0.255 | |
| print.methods | 0.019 | 0.005 | 0.023 | |
| rcc | 0.005 | 0.002 | 0.007 | |
| selectVar | 0.621 | 0.101 | 0.722 | |
| sipca | 0.822 | 0.027 | 0.850 | |
| spca | 1.196 | 0.076 | 1.272 | |
| spls | 0.362 | 0.031 | 0.393 | |
| splsda | 1.053 | 0.065 | 1.119 | |
| study_split | 0.034 | 0.008 | 0.042 | |
| summary | 0.027 | 0.003 | 0.030 | |
| tune | 9.378 | 2.349 | 11.727 | |
| tune.block.splsda | 0.072 | 0.011 | 0.083 | |
| tune.mint.splsda | 4.736 | 0.425 | 5.163 | |
| tune.pca | 0.397 | 0.082 | 0.479 | |
| tune.rcc | 2.990 | 0.193 | 3.183 | |
| tune.spls | 0.077 | 0.019 | 0.096 | |
| tune.splsda | 8.650 | 2.378 | 11.030 | |
| tune.splslevel | 1.535 | 0.084 | 1.619 | |
| unmap | 0.009 | 0.005 | 0.013 | |
| vip | 0.016 | 0.003 | 0.019 | |
| withinVariation | 1.558 | 0.030 | 1.588 | |
| wrapper.rgcca | 0.164 | 0.003 | 0.167 | |
| wrapper.sgcca | 0.237 | 0.008 | 0.245 | |