| Back to Multiple platform build/check report for BioC 3.9 |
|
This page was generated on 2019-04-09 13:19:10 -0400 (Tue, 09 Apr 2019).
| Package 955/1703 | Hostname | OS / Arch | INSTALL | BUILD | CHECK | BUILD BIN | ||||||
| methimpute 1.5.1 Aaron Taudt
| malbec2 | Linux (Ubuntu 18.04.2 LTS) / x86_64 | OK | OK | OK | |||||||
| tokay2 | Windows Server 2012 R2 Standard / x64 | OK | OK | ERROR | OK | |||||||
| celaya2 | OS X 10.11.6 El Capitan / x86_64 | OK | OK | [ OK ] | OK | |||||||
| merida2 | OS X 10.11.6 El Capitan / x86_64 | OK | OK | OK | OK |
| Package: methimpute |
| Version: 1.5.1 |
| Command: /Library/Frameworks/R.framework/Versions/Current/Resources/bin/R CMD check --install=check:methimpute.install-out.txt --library=/Library/Frameworks/R.framework/Versions/Current/Resources/library --no-vignettes --timings methimpute_1.5.1.tar.gz |
| StartedAt: 2019-04-09 03:25:26 -0400 (Tue, 09 Apr 2019) |
| EndedAt: 2019-04-09 03:29:23 -0400 (Tue, 09 Apr 2019) |
| EllapsedTime: 236.6 seconds |
| RetCode: 0 |
| Status: OK |
| CheckDir: methimpute.Rcheck |
| Warnings: 0 |
##############################################################################
##############################################################################
###
### Running command:
###
### /Library/Frameworks/R.framework/Versions/Current/Resources/bin/R CMD check --install=check:methimpute.install-out.txt --library=/Library/Frameworks/R.framework/Versions/Current/Resources/library --no-vignettes --timings methimpute_1.5.1.tar.gz
###
##############################################################################
##############################################################################
* using log directory ‘/Users/biocbuild/bbs-3.9-bioc/meat/methimpute.Rcheck’
* using R Under development (unstable) (2019-03-18 r76245)
* using platform: x86_64-apple-darwin15.6.0 (64-bit)
* using session charset: UTF-8
* using option ‘--no-vignettes’
* checking for file ‘methimpute/DESCRIPTION’ ... OK
* checking extension type ... Package
* this is package ‘methimpute’ version ‘1.5.1’
* checking package namespace information ... OK
* checking package dependencies ... OK
* checking if this is a source package ... OK
* checking if there is a namespace ... OK
* checking for hidden files and directories ... OK
* checking for portable file names ... OK
* checking for sufficient/correct file permissions ... OK
* checking whether package ‘methimpute’ can be installed ... OK
* checking installed package size ... OK
* checking package directory ... OK
* checking ‘build’ directory ... OK
* checking DESCRIPTION meta-information ... OK
* checking top-level files ... OK
* checking for left-over files ... OK
* checking index information ... OK
* checking package subdirectories ... OK
* checking R files for non-ASCII characters ... OK
* checking R files for syntax errors ... OK
* checking whether the package can be loaded ... OK
* checking whether the package can be loaded with stated dependencies ... OK
* checking whether the package can be unloaded cleanly ... OK
* checking whether the namespace can be loaded with stated dependencies ... OK
* checking whether the namespace can be unloaded cleanly ... OK
* checking dependencies in R code ... OK
* checking S3 generic/method consistency ... OK
* checking replacement functions ... OK
* checking foreign function calls ... OK
* checking R code for possible problems ... OK
* checking Rd files ... OK
* checking Rd metadata ... OK
* checking Rd cross-references ... OK
* checking for missing documentation entries ... OK
* checking for code/documentation mismatches ... OK
* checking Rd \usage sections ... OK
* checking Rd contents ... OK
* checking for unstated dependencies in examples ... OK
* checking contents of ‘data’ directory ... OK
* checking data for non-ASCII characters ... OK
* checking data for ASCII and uncompressed saves ... OK
* checking line endings in C/C++/Fortran sources/headers ... OK
* checking line endings in Makefiles ... OK
* checking compilation flags in Makevars ... OK
* checking for GNU extensions in Makefiles ... OK
* checking for portable use of $(BLAS_LIBS) and $(LAPACK_LIBS) ... OK
* checking compiled code ... NOTE
Note: information on .o files is not available
* checking sizes of PDF files under ‘inst/doc’ ... OK
* checking files in ‘vignettes’ ... OK
* checking examples ... OK
Examples with CPU or elapsed time > 5s
user system elapsed
plotting 30.663 6.205 34.681
extractCytosinesFromFASTA 11.419 2.356 13.033
callMethylationSeparate 6.420 0.794 5.364
exportMethylome 4.834 0.638 3.200
callMethylation 4.873 0.532 3.443
collapseBins 5.156 0.164 5.319
* checking for unstated dependencies in vignettes ... OK
* checking package vignettes in ‘inst/doc’ ... OK
* checking running R code from vignettes ... SKIPPED
* checking re-building of vignette outputs ... SKIPPED
* checking PDF version of manual ... OK
* DONE
Status: 1 NOTE
See
‘/Users/biocbuild/bbs-3.9-bioc/meat/methimpute.Rcheck/00check.log’
for details.
methimpute.Rcheck/00install.out
##############################################################################
##############################################################################
###
### Running command:
###
### /Library/Frameworks/R.framework/Versions/Current/Resources/bin/R CMD INSTALL methimpute
###
##############################################################################
##############################################################################
* installing to library ‘/Library/Frameworks/R.framework/Versions/3.6/Resources/library’
* installing *source* package ‘methimpute’ ...
** using staged installation
** libs
clang++ -std=gnu++11 -I"/Library/Frameworks/R.framework/Resources/include" -DNDEBUG -I"/Library/Frameworks/R.framework/Versions/3.6/Resources/library/Rcpp/include" -I/usr/local/include -fopenmp -fPIC -Wall -g -O2 -c RcppExports.cpp -o RcppExports.o
clang++ -std=gnu++11 -I"/Library/Frameworks/R.framework/Resources/include" -DNDEBUG -I"/Library/Frameworks/R.framework/Versions/3.6/Resources/library/Rcpp/include" -I/usr/local/include -fopenmp -fPIC -Wall -g -O2 -c densities.cpp -o densities.o
In file included from densities.cpp:1:
./densities.h:98:10: warning: 'BinomialTest::getLogDensityAt' hides overloaded virtual function [-Woverloaded-virtual]
double getLogDensityAt(int test, int total);
^
./densities.h:31:18: note: hidden overloaded virtual function 'Density::getLogDensityAt' declared here: different number of parameters (1 vs 2)
virtual double getLogDensityAt(int) { return(0); };
^
./densities.h:224:10: warning: 'Beta::getLogDensityAt' hides overloaded virtual function [-Woverloaded-virtual]
double getLogDensityAt(double x);
^
./densities.h:31:18: note: hidden overloaded virtual function 'Density::getLogDensityAt' declared here: type mismatch at 1st parameter ('int' vs 'double')
virtual double getLogDensityAt(int) { return(0); };
^
2 warnings generated.
clang++ -std=gnu++11 -I"/Library/Frameworks/R.framework/Resources/include" -DNDEBUG -I"/Library/Frameworks/R.framework/Versions/3.6/Resources/library/Rcpp/include" -I/usr/local/include -fopenmp -fPIC -Wall -g -O2 -c fitHMM.cpp -o fitHMM.o
In file included from fitHMM.cpp:2:
In file included from ./scalehmm.h:4:
./densities.h:98:10: warning: 'BinomialTest::getLogDensityAt' hides overloaded virtual function [-Woverloaded-virtual]
double getLogDensityAt(int test, int total);
^
./densities.h:31:18: note: hidden overloaded virtual function 'Density::getLogDensityAt' declared here: different number of parameters (1 vs 2)
virtual double getLogDensityAt(int) { return(0); };
^
./densities.h:224:10: warning: 'Beta::getLogDensityAt' hides overloaded virtual function [-Woverloaded-virtual]
double getLogDensityAt(double x);
^
./densities.h:31:18: note: hidden overloaded virtual function 'Density::getLogDensityAt' declared here: type mismatch at 1st parameter ('int' vs 'double')
virtual double getLogDensityAt(int) { return(0); };
^
2 warnings generated.
clang++ -std=gnu++11 -I"/Library/Frameworks/R.framework/Resources/include" -DNDEBUG -I"/Library/Frameworks/R.framework/Versions/3.6/Resources/library/Rcpp/include" -I/usr/local/include -fopenmp -fPIC -Wall -g -O2 -c fitHMM_context.cpp -o fitHMM_context.o
In file included from fitHMM_context.cpp:2:
In file included from ./hmm_context.h:4:
./densities.h:98:10: warning: 'BinomialTest::getLogDensityAt' hides overloaded virtual function [-Woverloaded-virtual]
double getLogDensityAt(int test, int total);
^
./densities.h:31:18: note: hidden overloaded virtual function 'Density::getLogDensityAt' declared here: different number of parameters (1 vs 2)
virtual double getLogDensityAt(int) { return(0); };
^
./densities.h:224:10: warning: 'Beta::getLogDensityAt' hides overloaded virtual function [-Woverloaded-virtual]
double getLogDensityAt(double x);
^
./densities.h:31:18: note: hidden overloaded virtual function 'Density::getLogDensityAt' declared here: type mismatch at 1st parameter ('int' vs 'double')
virtual double getLogDensityAt(int) { return(0); };
^
2 warnings generated.
clang++ -std=gnu++11 -I"/Library/Frameworks/R.framework/Resources/include" -DNDEBUG -I"/Library/Frameworks/R.framework/Versions/3.6/Resources/library/Rcpp/include" -I/usr/local/include -fopenmp -fPIC -Wall -g -O2 -c hmm_context.cpp -o hmm_context.o
In file included from hmm_context.cpp:1:
In file included from ./hmm_context.h:4:
./densities.h:98:10: warning: 'BinomialTest::getLogDensityAt' hides overloaded virtual function [-Woverloaded-virtual]
double getLogDensityAt(int test, int total);
^
./densities.h:31:18: note: hidden overloaded virtual function 'Density::getLogDensityAt' declared here: different number of parameters (1 vs 2)
virtual double getLogDensityAt(int) { return(0); };
^
./densities.h:224:10: warning: 'Beta::getLogDensityAt' hides overloaded virtual function [-Woverloaded-virtual]
double getLogDensityAt(double x);
^
./densities.h:31:18: note: hidden overloaded virtual function 'Density::getLogDensityAt' declared here: type mismatch at 1st parameter ('int' vs 'double')
virtual double getLogDensityAt(int) { return(0); };
^
2 warnings generated.
clang -I"/Library/Frameworks/R.framework/Resources/include" -DNDEBUG -I"/Library/Frameworks/R.framework/Versions/3.6/Resources/library/Rcpp/include" -I/usr/local/include -fPIC -Wall -g -O2 -c methimpute_init.c -o methimpute_init.o
clang++ -std=gnu++11 -I"/Library/Frameworks/R.framework/Resources/include" -DNDEBUG -I"/Library/Frameworks/R.framework/Versions/3.6/Resources/library/Rcpp/include" -I/usr/local/include -fopenmp -fPIC -Wall -g -O2 -c scalehmm.cpp -o scalehmm.o
In file included from scalehmm.cpp:1:
In file included from ./scalehmm.h:4:
./densities.h:98:10: warning: 'BinomialTest::getLogDensityAt' hides overloaded virtual function [-Woverloaded-virtual]
double getLogDensityAt(int test, int total);
^
./densities.h:31:18: note: hidden overloaded virtual function 'Density::getLogDensityAt' declared here: different number of parameters (1 vs 2)
virtual double getLogDensityAt(int) { return(0); };
^
./densities.h:224:10: warning: 'Beta::getLogDensityAt' hides overloaded virtual function [-Woverloaded-virtual]
double getLogDensityAt(double x);
^
./densities.h:31:18: note: hidden overloaded virtual function 'Density::getLogDensityAt' declared here: type mismatch at 1st parameter ('int' vs 'double')
virtual double getLogDensityAt(int) { return(0); };
^
2 warnings generated.
clang++ -std=gnu++11 -dynamiclib -Wl,-headerpad_max_install_names -undefined dynamic_lookup -single_module -multiply_defined suppress -L/Library/Frameworks/R.framework/Resources/lib -L/usr/local/lib -o methimpute.so RcppExports.o densities.o fitHMM.o fitHMM_context.o hmm_context.o methimpute_init.o scalehmm.o -fopenmp -F/Library/Frameworks/R.framework/.. -framework R -Wl,-framework -Wl,CoreFoundation
installing to /Library/Frameworks/R.framework/Versions/3.6/Resources/library/00LOCK-methimpute/00new/methimpute/libs
** R
** data
** inst
** byte-compile and prepare package for lazy loading
** help
*** installing help indices
** building package indices
** installing vignettes
** testing if installed package can be loaded from temporary location
** checking absolute paths in shared objects and dynamic libraries
** testing if installed package can be loaded from final location
** testing if installed package keeps a record of temporary installation path
* DONE (methimpute)
methimpute.Rcheck/methimpute-Ex.timings
| name | user | system | elapsed | |
| arabidopsis_TEs | 0.063 | 0.006 | 0.069 | |
| arabidopsis_chromosomes | 0.006 | 0.005 | 0.012 | |
| arabidopsis_genes | 0.025 | 0.007 | 0.032 | |
| arabidopsis_toydata | 0.311 | 0.033 | 0.344 | |
| binning | 4.173 | 0.648 | 4.821 | |
| binomialTestMethylation | 0.565 | 0.071 | 0.635 | |
| callMethylation | 4.873 | 0.532 | 3.443 | |
| callMethylationSeparate | 6.420 | 0.794 | 5.364 | |
| collapseBins | 5.156 | 0.164 | 5.319 | |
| distanceCorrelation | 2.078 | 0.189 | 2.267 | |
| estimateTransDist | 2.760 | 0.200 | 2.963 | |
| exportMethylome | 4.834 | 0.638 | 3.200 | |
| extractCytosinesFromFASTA | 11.419 | 2.356 | 13.033 | |
| getDistinctColors | 0.041 | 0.016 | 0.057 | |
| getStateColors | 0.038 | 0.008 | 0.047 | |
| import | 1.179 | 0.255 | 1.205 | |
| importRene | 0.087 | 0.020 | 0.107 | |
| inflateMethylome | 0.883 | 0.212 | 0.876 | |
| loadFromFiles | 0.251 | 0.025 | 0.276 | |
| plotting | 30.663 | 6.205 | 34.681 | |