| Back to Multiple platform build/check report for BioC 3.9 |
|
This page was generated on 2019-04-09 12:17:39 -0400 (Tue, 09 Apr 2019).
| Package 952/1703 | Hostname | OS / Arch | INSTALL | BUILD | CHECK | BUILD BIN | ||||||
| metaseqR 1.23.1 Panagiotis Moulos
| malbec2 | Linux (Ubuntu 18.04.2 LTS) / x86_64 | OK | OK | ERROR | |||||||
| tokay2 | Windows Server 2012 R2 Standard / x64 | OK | OK | ERROR | [ OK ] | |||||||
| celaya2 | OS X 10.11.6 El Capitan / x86_64 | OK | OK | ERROR | OK | |||||||
| merida2 | OS X 10.11.6 El Capitan / x86_64 | OK | OK | OK | OK |
| Package: metaseqR |
| Version: 1.23.1 |
| Command: rm -rf metaseqR.buildbin-libdir && mkdir metaseqR.buildbin-libdir && C:\Users\biocbuild\bbs-3.9-bioc\R\bin\R.exe CMD INSTALL --merge-multiarch --build --library=metaseqR.buildbin-libdir metaseqR_1.23.1.tar.gz |
| StartedAt: 2019-04-09 08:26:38 -0400 (Tue, 09 Apr 2019) |
| EndedAt: 2019-04-09 08:27:55 -0400 (Tue, 09 Apr 2019) |
| EllapsedTime: 76.4 seconds |
| RetCode: 0 |
| Status: OK |
| PackageFile: metaseqR_1.23.1.zip |
| PackageFileSize: 2.897 MiB |
##############################################################################
##############################################################################
###
### Running command:
###
### rm -rf metaseqR.buildbin-libdir && mkdir metaseqR.buildbin-libdir && C:\Users\biocbuild\bbs-3.9-bioc\R\bin\R.exe CMD INSTALL --merge-multiarch --build --library=metaseqR.buildbin-libdir metaseqR_1.23.1.tar.gz
###
##############################################################################
##############################################################################
install for i386
* installing *source* package 'metaseqR' ...
** R
** data
*** moving datasets to lazyload DB
** inst
** byte-compile and prepare package for lazy loading
** help
*** installing help indices
converting help for package 'metaseqR'
finding HTML links ... done
as.class.vector html
build.export html
calc.f1score html
calc.otr html
cddat html
cdplot html
check.contrast.format html
check.file.args html
check.graphics.file html
check.graphics.type html
check.libsize html
check.main.args html
check.num.args html
check.packages html
check.parallel html
check.text.args html
combine.bonferroni html
combine.maxp html
combine.minp html
combine.simes html
combine.weight html
construct.gene.model html
construct.utr.model html
diagplot.avg.ftd html
diagplot.boxplot html
diagplot.cor html
diagplot.de.heatmap html
diagplot.edaseq html
diagplot.filtered html
diagplot.ftd html
diagplot.mds html
diagplot.metaseqr html
diagplot.noiseq html
diagplot.noiseq.saturation html
diagplot.pairs html
diagplot.roc html
diagplot.venn html
diagplot.volcano html
disp html
downsample.counts html
estimate.aufc.weights html
estimate.sim.params html
filter.exons html
filter.genes html
filter.high html
filter.low html
fisher.method html
fisher.method.perm html
fisher.sum html
get.annotation html
get.arg html
get.biotypes html
get.bs.organism html
get.dataset html
get.defaults html
get.ensembl.annotation html
get.exon.attributes html
get.gc.content html
get.gene.attributes html
get.host html
get.preset.opts html
get.strict.biofilter html
get.transcript.utr.attributes html
get.ucsc.annotation html
get.ucsc.credentials html
get.ucsc.dbl html
get.ucsc.organism html
get.ucsc.query html
get.ucsc.tabledef html
get.ucsc.tbl.tpl html
get.valid.chrs html
get.weights html
graphics.close html
graphics.open html
hg19.exon.counts html
libsize.list.hg19 html
libsize.list.mm9 html
load.bs.genome html
log2disp html
make.avg.expression html
make.contrast.list html
make.export.list html
make.fold.change html
make.grid html
make.highcharts.points html
make.html.body html
make.html.cells html
make.html.header html
make.html.rows html
make.html.table html
make.matrix html
make.path.struct html
make.permutation html
make.project.path html
make.report.messages html
make.sample.list html
make.sim.data.sd html
make.sim.data.tcc html
make.stat html
make.transformation html
make.venn.areas html
make.venn.colorscheme html
make.venn.counts html
make.venn.pairs html
meta.perm html
meta.test html
meta.worker html
metaseqR-package html
metaseqr html
mlfo html
mm9.gene.counts html
nat2log html
normalize.deseq html
normalize.edaseq html
normalize.edger html
normalize.nbpseq html
normalize.noiseq html
read.targets html
read2count html
reduce.exons html
reduce.gene.data html
sample.list.hg19 html
sample.list.mm9 html
set.arg html
stat.bayseq html
stat.deseq html
stat.edger html
stat.limma html
stat.nbpseq html
stat.noiseq html
validate.alg.args html
validate.list.args html
wapply html
wp.adjust html
** building package indices
** installing vignettes
** testing if installed package can be loaded from temporary location
** testing if installed package can be loaded from final location
** testing if installed package keeps a record of temporary installation path
install for x64
* installing *source* package 'metaseqR' ...
** testing if installed package can be loaded
* MD5 sums
packaged installation of 'metaseqR' as metaseqR_1.23.1.zip
* DONE (metaseqR)