| Back to Multiple platform build/check report for BioC 3.9 |
|
This page was generated on 2019-04-09 11:27:46 -0400 (Tue, 09 Apr 2019).
| Package 948/1703 | Hostname | OS / Arch | INSTALL | BUILD | CHECK | BUILD BIN | ||||||
| metahdep 1.41.0 John R. Stevens
| malbec2 | Linux (Ubuntu 18.04.2 LTS) / x86_64 | [ OK ] | OK | WARNINGS | |||||||
| tokay2 | Windows Server 2012 R2 Standard / x64 | OK | OK | OK | OK | |||||||
| celaya2 | OS X 10.11.6 El Capitan / x86_64 | OK | OK | WARNINGS | OK | |||||||
| merida2 | OS X 10.11.6 El Capitan / x86_64 | OK | OK | WARNINGS | OK |
| Package: metahdep |
| Version: 1.41.0 |
| Command: /home/biocbuild/bbs-3.9-bioc/R/bin/R CMD INSTALL metahdep |
| StartedAt: 2019-04-08 17:58:14 -0400 (Mon, 08 Apr 2019) |
| EndedAt: 2019-04-08 17:58:19 -0400 (Mon, 08 Apr 2019) |
| EllapsedTime: 4.5 seconds |
| RetCode: 0 |
| Status: OK |
##############################################################################
##############################################################################
###
### Running command:
###
### /home/biocbuild/bbs-3.9-bioc/R/bin/R CMD INSTALL metahdep
###
##############################################################################
##############################################################################
* installing to library ‘/home/biocbuild/bbs-3.9-bioc/R/library’
* installing *source* package ‘metahdep’ ...
** using staged installation
** libs
gcc -I"/home/biocbuild/bbs-3.9-bioc/R/include" -DNDEBUG -I/usr/local/include -fpic -g -O2 -Wall -c metahdep.c -o metahdep.o
In file included from metahdep.c:3:0:
metahdep.c: In function ‘get_row_indices2’:
/home/biocbuild/bbs-3.9-bioc/R/include/Rinternals.h:510:18: warning: passing argument 5 of ‘metan_binary_search_unique’ makes integer from pointer without a cast [-Wint-conversion]
#define CHAR(x) R_CHAR(x)
^
metahdep.c:471:79: note: in expansion of macro ‘CHAR’
index = metan_binary_search_unique(name_list, sort_index, R_old_names, j, CHAR(STRING_ELT(R_old_chipsets, j)), i);
^˜˜˜
metahdep.c:372:6: note: expected ‘char’ but argument is of type ‘const char *’
SEXP metan_binary_search_unique(SEXP name_list, SEXP sort_index, SEXP gene_name, int gene_index, char chipset_name, int study_num)
^˜˜˜˜˜˜˜˜˜˜˜˜˜˜˜˜˜˜˜˜˜˜˜˜˜
gcc -shared -L/home/biocbuild/bbs-3.9-bioc/R/lib -L/usr/local/lib -o metahdep.so metahdep.o -L/home/biocbuild/bbs-3.9-bioc/R/lib -lR
installing to /home/biocbuild/bbs-3.9-bioc/R/library/00LOCK-metahdep/00new/metahdep/libs
** R
** data
** byte-compile and prepare package for lazy loading
** help
*** installing help indices
** building package indices
** installing vignettes
** testing if installed package can be loaded from temporary location
** checking absolute paths in shared objects and dynamic libraries
** testing if installed package can be loaded from final location
** testing if installed package keeps a record of temporary installation path
* DONE (metahdep)