| Back to Multiple platform build/check report for BioC 3.9 |
|
This page was generated on 2019-04-09 12:25:05 -0400 (Tue, 09 Apr 2019).
| Package 946/1703 | Hostname | OS / Arch | INSTALL | BUILD | CHECK | BUILD BIN | ||||||
| metagenomeFeatures 2.3.4 Nathan D. Olson
| malbec2 | Linux (Ubuntu 18.04.2 LTS) / x86_64 | OK | OK | OK | |||||||
| tokay2 | Windows Server 2012 R2 Standard / x64 | OK | OK | WARNINGS | [ OK ] | |||||||
| celaya2 | OS X 10.11.6 El Capitan / x86_64 | OK | OK | OK | OK | |||||||
| merida2 | OS X 10.11.6 El Capitan / x86_64 | OK | OK | OK | OK |
| Package: metagenomeFeatures |
| Version: 2.3.4 |
| Command: rm -rf metagenomeFeatures.buildbin-libdir && mkdir metagenomeFeatures.buildbin-libdir && C:\Users\biocbuild\bbs-3.9-bioc\R\bin\R.exe CMD INSTALL --merge-multiarch --build --library=metagenomeFeatures.buildbin-libdir metagenomeFeatures_2.3.4.tar.gz |
| StartedAt: 2019-04-09 08:26:19 -0400 (Tue, 09 Apr 2019) |
| EndedAt: 2019-04-09 08:27:04 -0400 (Tue, 09 Apr 2019) |
| EllapsedTime: 44.8 seconds |
| RetCode: 0 |
| Status: OK |
| PackageFile: metagenomeFeatures_2.3.4.zip |
| PackageFileSize: 4.217 MiB |
##############################################################################
##############################################################################
###
### Running command:
###
### rm -rf metagenomeFeatures.buildbin-libdir && mkdir metagenomeFeatures.buildbin-libdir && C:\Users\biocbuild\bbs-3.9-bioc\R\bin\R.exe CMD INSTALL --merge-multiarch --build --library=metagenomeFeatures.buildbin-libdir metagenomeFeatures_2.3.4.tar.gz
###
##############################################################################
##############################################################################
install for i386
* installing *source* package 'metagenomeFeatures' ...
** R
** data
*** moving datasets to lazyload DB
** inst
** byte-compile and prepare package for lazy loading
** help
*** installing help indices
converting help for package 'metagenomeFeatures'
finding HTML links ... done
MgDb-accessor html
MgDb-class html
MgDb-methods html
annotateFeatures-MgDb-method html
get_gg13.8_85MgDb html
make_mgdb_sqlite html
mgFeatures-accessors html
mgFeatures-class html
Rd warning: C:/Users/biocbuild/bbs-3.9-bioc/tmpdir/RtmpWcROk2/R.INSTALLcf810922b6f/metagenomeFeatures/man/mgFeatures-class.Rd:27: file link 'DataFrame' in package 'S4Vectors' does not exist and so has been treated as a topic
mgFeatures-methods html
mock_mgF html
mock_query_df html
newMgDb html
qiita_study_94_gg_ids html
reexports html
Rd warning: C:/Users/biocbuild/bbs-3.9-bioc/tmpdir/RtmpWcROk2/R.INSTALLcf810922b6f/metagenomeFeatures/man/reexports.Rd:14: file link '%>%' in package 'magrittr' does not exist and so has been treated as a topic
select-MgDb-method html
taxa_ html
** building package indices
** installing vignettes
** testing if installed package can be loaded from temporary location
** testing if installed package can be loaded from final location
** testing if installed package keeps a record of temporary installation path
install for x64
* installing *source* package 'metagenomeFeatures' ...
** testing if installed package can be loaded
* MD5 sums
packaged installation of 'metagenomeFeatures' as metagenomeFeatures_2.3.4.zip
* DONE (metagenomeFeatures)