| Back to Multiple platform build/check report for BioC 3.9 |
|
This page was generated on 2019-04-09 13:09:15 -0400 (Tue, 09 Apr 2019).
| Package 951/1703 | Hostname | OS / Arch | INSTALL | BUILD | CHECK | BUILD BIN | ||||||
| metaSeq 1.23.1 Koki Tsuyuzaki
| malbec2 | Linux (Ubuntu 18.04.2 LTS) / x86_64 | OK | OK | OK | |||||||
| tokay2 | Windows Server 2012 R2 Standard / x64 | OK | OK | OK | OK | |||||||
| celaya2 | OS X 10.11.6 El Capitan / x86_64 | OK | [ OK ] | OK | OK | |||||||
| merida2 | OS X 10.11.6 El Capitan / x86_64 | OK | OK | OK | OK |
| Package: metaSeq |
| Version: 1.23.1 |
| Command: /Library/Frameworks/R.framework/Versions/Current/Resources/bin/R CMD build --keep-empty-dirs --no-resave-data metaSeq |
| StartedAt: 2019-04-08 20:41:41 -0400 (Mon, 08 Apr 2019) |
| EndedAt: 2019-04-08 20:42:05 -0400 (Mon, 08 Apr 2019) |
| EllapsedTime: 23.9 seconds |
| RetCode: 0 |
| Status: OK |
| PackageFile: metaSeq_1.23.1.tar.gz |
| PackageFileSize: 6.1 MiB |
##############################################################################
##############################################################################
###
### Running command:
###
### /Library/Frameworks/R.framework/Versions/Current/Resources/bin/R CMD build --keep-empty-dirs --no-resave-data metaSeq
###
##############################################################################
##############################################################################
* checking for file ‘metaSeq/DESCRIPTION’ ... OK
* preparing ‘metaSeq’:
* checking DESCRIPTION meta-information ... OK
* installing the package to build vignettes
* creating vignettes ... OK
Warning: ‘inst/doc’ files
‘metaSeq.Rnw’, ‘metaSeq.pdf’, ‘metaSeq.R’
ignored as vignettes have been rebuilt.
Run R CMD build with --no-build-vignettes to prevent rebuilding.
* checking for LF line-endings in source and make files and shell scripts
* checking for empty or unneeded directories
* looking to see if a ‘data/datalist’ file should be added
* building ‘metaSeq_1.23.1.tar.gz’