| Back to Multiple platform build/check report for BioC 3.9 |
|
This page was generated on 2019-04-09 12:19:02 -0400 (Tue, 09 Apr 2019).
| Package 937/1703 | Hostname | OS / Arch | INSTALL | BUILD | CHECK | BUILD BIN | ||||||
| meshr 1.19.0 Koki Tsuyuzaki
| malbec2 | Linux (Ubuntu 18.04.2 LTS) / x86_64 | OK | OK | OK | |||||||
| tokay2 | Windows Server 2012 R2 Standard / x64 | [ OK ] | OK | OK | OK | |||||||
| celaya2 | OS X 10.11.6 El Capitan / x86_64 | OK | OK | OK | OK | |||||||
| merida2 | OS X 10.11.6 El Capitan / x86_64 | OK | OK | OK | OK |
| Package: meshr |
| Version: 1.19.0 |
| Command: C:\cygwin\bin\curl.exe -O https://malbec2.bioconductor.org/BBS/3.9/bioc/src/contrib/meshr_1.19.0.tar.gz && rm -rf meshr.buildbin-libdir && mkdir meshr.buildbin-libdir && C:\Users\biocbuild\bbs-3.9-bioc\R\bin\R.exe CMD INSTALL --merge-multiarch --build --library=meshr.buildbin-libdir meshr_1.19.0.tar.gz && C:\Users\biocbuild\bbs-3.9-bioc\R\bin\R.exe CMD INSTALL meshr_1.19.0.zip && rm meshr_1.19.0.tar.gz meshr_1.19.0.zip |
| StartedAt: 2019-04-08 20:35:22 -0400 (Mon, 08 Apr 2019) |
| EndedAt: 2019-04-08 20:37:17 -0400 (Mon, 08 Apr 2019) |
| EllapsedTime: 115.0 seconds |
| RetCode: 0 |
| Status: OK |
##############################################################################
##############################################################################
###
### Running command:
###
### C:\cygwin\bin\curl.exe -O https://malbec2.bioconductor.org/BBS/3.9/bioc/src/contrib/meshr_1.19.0.tar.gz && rm -rf meshr.buildbin-libdir && mkdir meshr.buildbin-libdir && C:\Users\biocbuild\bbs-3.9-bioc\R\bin\R.exe CMD INSTALL --merge-multiarch --build --library=meshr.buildbin-libdir meshr_1.19.0.tar.gz && C:\Users\biocbuild\bbs-3.9-bioc\R\bin\R.exe CMD INSTALL meshr_1.19.0.zip && rm meshr_1.19.0.tar.gz meshr_1.19.0.zip
###
##############################################################################
##############################################################################
% Total % Received % Xferd Average Speed Time Time Time Current
Dload Upload Total Spent Left Speed
0 0 0 0 0 0 0 0 --:--:-- --:--:-- --:--:-- 0
100 6342k 100 6342k 0 0 9964k 0 --:--:-- --:--:-- --:--:-- 9.8M
install for i386
* installing *source* package 'meshr' ...
** R
** data
** inst
** byte-compile and prepare package for lazy loading
** help
*** installing help indices
converting help for package 'meshr'
finding HTML links ... done
MeSHHyperGParams-class html
MeSHHyperGResult-class html
PMCID html
category html
database html
geneid.cummeRbund html
meshHyperGTest html
meshr-package html
sig.geneid.cummeRbund html
** building package indices
** installing vignettes
** testing if installed package can be loaded from temporary location
** testing if installed package can be loaded from final location
** testing if installed package keeps a record of temporary installation path
install for x64
* installing *source* package 'meshr' ...
** testing if installed package can be loaded
* MD5 sums
packaged installation of 'meshr' as meshr_1.19.0.zip
* DONE (meshr)
* installing to library 'C:/Users/biocbuild/bbs-3.9-bioc/R/library'
package 'meshr' successfully unpacked and MD5 sums checked