| Back to Multiple platform build/check report for BioC 3.9 |
|
This page was generated on 2019-04-09 12:27:55 -0400 (Tue, 09 Apr 2019).
| Package 936/1703 | Hostname | OS / Arch | INSTALL | BUILD | CHECK | BUILD BIN | ||||||
| meshes 1.9.1 Guangchuang Yu
| malbec2 | Linux (Ubuntu 18.04.2 LTS) / x86_64 | OK | OK | OK | |||||||
| tokay2 | Windows Server 2012 R2 Standard / x64 | OK | OK | OK | [ OK ] | |||||||
| celaya2 | OS X 10.11.6 El Capitan / x86_64 | OK | OK | OK | OK | |||||||
| merida2 | OS X 10.11.6 El Capitan / x86_64 | OK | OK | OK | OK |
| Package: meshes |
| Version: 1.9.1 |
| Command: rm -rf meshes.buildbin-libdir && mkdir meshes.buildbin-libdir && C:\Users\biocbuild\bbs-3.9-bioc\R\bin\R.exe CMD INSTALL --merge-multiarch --build --library=meshes.buildbin-libdir meshes_1.9.1.tar.gz |
| StartedAt: 2019-04-09 08:25:41 -0400 (Tue, 09 Apr 2019) |
| EndedAt: 2019-04-09 08:26:35 -0400 (Tue, 09 Apr 2019) |
| EllapsedTime: 53.3 seconds |
| RetCode: 0 |
| Status: OK |
| PackageFile: meshes_1.9.1.zip |
| PackageFileSize: 1.669 MiB |
##############################################################################
##############################################################################
###
### Running command:
###
### rm -rf meshes.buildbin-libdir && mkdir meshes.buildbin-libdir && C:\Users\biocbuild\bbs-3.9-bioc\R\bin\R.exe CMD INSTALL --merge-multiarch --build --library=meshes.buildbin-libdir meshes_1.9.1.tar.gz
###
##############################################################################
##############################################################################
install for i386
* installing *source* package 'meshes' ...
** R
** data
*** moving datasets to lazyload DB
** inst
** byte-compile and prepare package for lazy loading
** help
*** installing help indices
converting help for package 'meshes'
finding HTML links ... done
enrichMeSH html
geneSim html
gseMeSH html
meshSim html
mesh_term_table html
meshdata html
reexports html
** building package indices
** installing vignettes
** testing if installed package can be loaded from temporary location
** testing if installed package can be loaded from final location
** testing if installed package keeps a record of temporary installation path
install for x64
* installing *source* package 'meshes' ...
** testing if installed package can be loaded
* MD5 sums
packaged installation of 'meshes' as meshes_1.9.1.zip
* DONE (meshes)