| Back to Multiple platform build/check report for BioC 3.9 |
|
This page was generated on 2019-04-09 12:29:25 -0400 (Tue, 09 Apr 2019).
| Package 900/1703 | Hostname | OS / Arch | INSTALL | BUILD | CHECK | BUILD BIN | ||||||
| mapscape 1.7.0 Maia Smith
| malbec2 | Linux (Ubuntu 18.04.2 LTS) / x86_64 | OK | OK | WARNINGS | |||||||
| tokay2 | Windows Server 2012 R2 Standard / x64 | OK | OK | WARNINGS | [ OK ] | |||||||
| celaya2 | OS X 10.11.6 El Capitan / x86_64 | OK | OK | WARNINGS | OK | |||||||
| merida2 | OS X 10.11.6 El Capitan / x86_64 | OK | OK | WARNINGS | OK |
| Package: mapscape |
| Version: 1.7.0 |
| Command: rm -rf mapscape.buildbin-libdir && mkdir mapscape.buildbin-libdir && C:\Users\biocbuild\bbs-3.9-bioc\R\bin\R.exe CMD INSTALL --merge-multiarch --build --library=mapscape.buildbin-libdir mapscape_1.7.0.tar.gz |
| StartedAt: 2019-04-09 08:23:25 -0400 (Tue, 09 Apr 2019) |
| EndedAt: 2019-04-09 08:24:08 -0400 (Tue, 09 Apr 2019) |
| EllapsedTime: 42.5 seconds |
| RetCode: 0 |
| Status: OK |
| PackageFile: mapscape_1.7.0.zip |
| PackageFileSize: 4.139 MiB |
##############################################################################
##############################################################################
###
### Running command:
###
### rm -rf mapscape.buildbin-libdir && mkdir mapscape.buildbin-libdir && C:\Users\biocbuild\bbs-3.9-bioc\R\bin\R.exe CMD INSTALL --merge-multiarch --build --library=mapscape.buildbin-libdir mapscape_1.7.0.tar.gz
###
##############################################################################
##############################################################################
install for i386
* installing *source* package 'mapscape' ...
** R
** inst
** byte-compile and prepare package for lazy loading
** help
*** installing help indices
converting help for package 'mapscape'
finding HTML links ... done
helpers html
mapscape html
** building package indices
** installing vignettes
** testing if installed package can be loaded from temporary location
** testing if installed package can be loaded from final location
** testing if installed package keeps a record of temporary installation path
install for x64
* installing *source* package 'mapscape' ...
** testing if installed package can be loaded
* MD5 sums
packaged installation of 'mapscape' as mapscape_1.7.0.zip
* DONE (mapscape)