| Back to Multiple platform build/check report for BioC 3.9 |
|
This page was generated on 2019-04-09 12:06:18 -0400 (Tue, 09 Apr 2019).
| Package 899/1703 | Hostname | OS / Arch | INSTALL | BUILD | CHECK | BUILD BIN | ||||||
| maPredictDSC 1.21.0 Adi Laurentiu Tarca
| malbec2 | Linux (Ubuntu 18.04.2 LTS) / x86_64 | OK | OK | OK | |||||||
| tokay2 | Windows Server 2012 R2 Standard / x64 | [ OK ] | OK | OK | OK | |||||||
| celaya2 | OS X 10.11.6 El Capitan / x86_64 | OK | OK | OK | OK | |||||||
| merida2 | OS X 10.11.6 El Capitan / x86_64 | OK | OK | OK | OK |
| Package: maPredictDSC |
| Version: 1.21.0 |
| Command: C:\cygwin\bin\curl.exe -O https://malbec2.bioconductor.org/BBS/3.9/bioc/src/contrib/maPredictDSC_1.21.0.tar.gz && rm -rf maPredictDSC.buildbin-libdir && mkdir maPredictDSC.buildbin-libdir && C:\Users\biocbuild\bbs-3.9-bioc\R\bin\R.exe CMD INSTALL --merge-multiarch --build --library=maPredictDSC.buildbin-libdir maPredictDSC_1.21.0.tar.gz && C:\Users\biocbuild\bbs-3.9-bioc\R\bin\R.exe CMD INSTALL maPredictDSC_1.21.0.zip && rm maPredictDSC_1.21.0.tar.gz maPredictDSC_1.21.0.zip |
| StartedAt: 2019-04-08 19:19:44 -0400 (Mon, 08 Apr 2019) |
| EndedAt: 2019-04-08 19:21:34 -0400 (Mon, 08 Apr 2019) |
| EllapsedTime: 109.5 seconds |
| RetCode: 0 |
| Status: OK |
##############################################################################
##############################################################################
###
### Running command:
###
### C:\cygwin\bin\curl.exe -O https://malbec2.bioconductor.org/BBS/3.9/bioc/src/contrib/maPredictDSC_1.21.0.tar.gz && rm -rf maPredictDSC.buildbin-libdir && mkdir maPredictDSC.buildbin-libdir && C:\Users\biocbuild\bbs-3.9-bioc\R\bin\R.exe CMD INSTALL --merge-multiarch --build --library=maPredictDSC.buildbin-libdir maPredictDSC_1.21.0.tar.gz && C:\Users\biocbuild\bbs-3.9-bioc\R\bin\R.exe CMD INSTALL maPredictDSC_1.21.0.zip && rm maPredictDSC_1.21.0.tar.gz maPredictDSC_1.21.0.zip
###
##############################################################################
##############################################################################
% Total % Received % Xferd Average Speed Time Time Time Current
Dload Upload Total Spent Left Speed
0 0 0 0 0 0 0 0 --:--:-- --:--:-- --:--:-- 0
100 10472 100 10472 0 0 176k 0 --:--:-- --:--:-- --:--:-- 200k
install for i386
* installing *source* package 'maPredictDSC' ...
** R
** byte-compile and prepare package for lazy loading
** help
*** installing help indices
converting help for package 'maPredictDSC'
finding HTML links ... done
aggregateDSC html
maPredictDSC-internal html
perfDSC html
predictDSC html
** building package indices
** installing vignettes
** testing if installed package can be loaded from temporary location
** testing if installed package can be loaded from final location
** testing if installed package keeps a record of temporary installation path
install for x64
* installing *source* package 'maPredictDSC' ...
** testing if installed package can be loaded
* MD5 sums
packaged installation of 'maPredictDSC' as maPredictDSC_1.21.0.zip
* DONE (maPredictDSC)
* installing to library 'C:/Users/biocbuild/bbs-3.9-bioc/R/library'
package 'maPredictDSC' successfully unpacked and MD5 sums checked