| Back to Multiple platform build/check report for BioC 3.9 |
|
This page was generated on 2019-04-09 12:35:52 -0400 (Tue, 09 Apr 2019).
| Package 922/1703 | Hostname | OS / Arch | INSTALL | BUILD | CHECK | BUILD BIN | ||||||
| mCSEA 1.3.4 Jordi Martorell-Marugán
| malbec2 | Linux (Ubuntu 18.04.2 LTS) / x86_64 | OK | OK | OK | |||||||
| tokay2 | Windows Server 2012 R2 Standard / x64 | OK | OK | OK | [ OK ] | |||||||
| celaya2 | OS X 10.11.6 El Capitan / x86_64 | OK | OK | OK | OK | |||||||
| merida2 | OS X 10.11.6 El Capitan / x86_64 | OK | OK | OK | OK |
| Package: mCSEA |
| Version: 1.3.4 |
| Command: rm -rf mCSEA.buildbin-libdir && mkdir mCSEA.buildbin-libdir && C:\Users\biocbuild\bbs-3.9-bioc\R\bin\R.exe CMD INSTALL --merge-multiarch --build --library=mCSEA.buildbin-libdir mCSEA_1.3.4.tar.gz |
| StartedAt: 2019-04-09 08:24:50 -0400 (Tue, 09 Apr 2019) |
| EndedAt: 2019-04-09 08:25:41 -0400 (Tue, 09 Apr 2019) |
| EllapsedTime: 51.5 seconds |
| RetCode: 0 |
| Status: OK |
| PackageFile: mCSEA_1.3.4.zip |
| PackageFileSize: 2.004 MiB |
##############################################################################
##############################################################################
###
### Running command:
###
### rm -rf mCSEA.buildbin-libdir && mkdir mCSEA.buildbin-libdir && C:\Users\biocbuild\bbs-3.9-bioc\R\bin\R.exe CMD INSTALL --merge-multiarch --build --library=mCSEA.buildbin-libdir mCSEA_1.3.4.tar.gz
###
##############################################################################
##############################################################################
install for i386
* installing *source* package 'mCSEA' ...
** R
** data
*** moving datasets to lazyload DB
** inst
** byte-compile and prepare package for lazy loading
** help
*** installing help indices
converting help for package 'mCSEA'
finding HTML links ... done
exprTest html
mCSEA-package html
mCSEAIntegrate html
mCSEAPlot html
mCSEAPlotGSEA html
mCSEATest html
precomputedmCSEA html
rankProbes html
** building package indices
** installing vignettes
** testing if installed package can be loaded from temporary location
** testing if installed package can be loaded from final location
** testing if installed package keeps a record of temporary installation path
install for x64
* installing *source* package 'mCSEA' ...
** testing if installed package can be loaded
* MD5 sums
packaged installation of 'mCSEA' as mCSEA_1.3.4.zip
* DONE (mCSEA)