| Back to Multiple platform build/check report for BioC 3.9 |
|
This page was generated on 2019-04-09 12:01:43 -0400 (Tue, 09 Apr 2019).
| Package 875/1703 | Hostname | OS / Arch | INSTALL | BUILD | CHECK | BUILD BIN | ||||||
| lpNet 2.15.0 Lars Kaderali
| malbec2 | Linux (Ubuntu 18.04.2 LTS) / x86_64 | OK | OK | OK | |||||||
| tokay2 | Windows Server 2012 R2 Standard / x64 | [ OK ] | OK | OK | OK | |||||||
| celaya2 | OS X 10.11.6 El Capitan / x86_64 | OK | OK | OK | OK | |||||||
| merida2 | OS X 10.11.6 El Capitan / x86_64 | OK | OK | OK | OK |
| Package: lpNet |
| Version: 2.15.0 |
| Command: C:\cygwin\bin\curl.exe -O https://malbec2.bioconductor.org/BBS/3.9/bioc/src/contrib/lpNet_2.15.0.tar.gz && rm -rf lpNet.buildbin-libdir && mkdir lpNet.buildbin-libdir && C:\Users\biocbuild\bbs-3.9-bioc\R\bin\R.exe CMD INSTALL --merge-multiarch --build --library=lpNet.buildbin-libdir lpNet_2.15.0.tar.gz && C:\Users\biocbuild\bbs-3.9-bioc\R\bin\R.exe CMD INSTALL lpNet_2.15.0.zip && rm lpNet_2.15.0.tar.gz lpNet_2.15.0.zip |
| StartedAt: 2019-04-08 19:43:36 -0400 (Mon, 08 Apr 2019) |
| EndedAt: 2019-04-08 19:44:08 -0400 (Mon, 08 Apr 2019) |
| EllapsedTime: 31.5 seconds |
| RetCode: 0 |
| Status: OK |
##############################################################################
##############################################################################
###
### Running command:
###
### C:\cygwin\bin\curl.exe -O https://malbec2.bioconductor.org/BBS/3.9/bioc/src/contrib/lpNet_2.15.0.tar.gz && rm -rf lpNet.buildbin-libdir && mkdir lpNet.buildbin-libdir && C:\Users\biocbuild\bbs-3.9-bioc\R\bin\R.exe CMD INSTALL --merge-multiarch --build --library=lpNet.buildbin-libdir lpNet_2.15.0.tar.gz && C:\Users\biocbuild\bbs-3.9-bioc\R\bin\R.exe CMD INSTALL lpNet_2.15.0.zip && rm lpNet_2.15.0.tar.gz lpNet_2.15.0.zip
###
##############################################################################
##############################################################################
% Total % Received % Xferd Average Speed Time Time Time Current
Dload Upload Total Spent Left Speed
0 0 0 0 0 0 0 0 --:--:-- --:--:-- --:--:-- 0
100 204k 100 204k 0 0 3037k 0 --:--:-- --:--:-- --:--:-- 3400k
install for i386
* installing *source* package 'lpNet' ...
** R
** inst
** byte-compile and prepare package for lazy loading
** help
*** installing help indices
converting help for package 'lpNet'
finding HTML links ... done
CV html
calcActivation html
calcPrediction html
calcRangeLambda html
doILP html
generateTimeSeriesNetStates html
getAdja html
getBaseline html
getEdgeAnnot html
getObsMat html
getSampleAdja html
lpNet-package html
summarizeRepl html
** building package indices
** installing vignettes
** testing if installed package can be loaded from temporary location
** testing if installed package can be loaded from final location
** testing if installed package keeps a record of temporary installation path
install for x64
* installing *source* package 'lpNet' ...
** testing if installed package can be loaded
* MD5 sums
packaged installation of 'lpNet' as lpNet_2.15.0.zip
* DONE (lpNet)
* installing to library 'C:/Users/biocbuild/bbs-3.9-bioc/R/library'
package 'lpNet' successfully unpacked and MD5 sums checked