| Back to Multiple platform build/check report for BioC 3.9 |
|
This page was generated on 2019-04-09 11:59:15 -0400 (Tue, 09 Apr 2019).
| Package 869/1703 | Hostname | OS / Arch | INSTALL | BUILD | CHECK | BUILD BIN | ||||||
| lol 1.31.0 Yinyin Yuan
| malbec2 | Linux (Ubuntu 18.04.2 LTS) / x86_64 | OK | OK | OK | |||||||
| tokay2 | Windows Server 2012 R2 Standard / x64 | OK | OK | [ OK ] | OK | |||||||
| celaya2 | OS X 10.11.6 El Capitan / x86_64 | OK | OK | OK | OK | |||||||
| merida2 | OS X 10.11.6 El Capitan / x86_64 | OK | OK | OK | OK |
| Package: lol |
| Version: 1.31.0 |
| Command: C:\Users\biocbuild\bbs-3.9-bioc\R\bin\R.exe CMD check --force-multiarch --install=check:lol.install-out.txt --library=C:\Users\biocbuild\bbs-3.9-bioc\R\library --no-vignettes --timings lol_1.31.0.tar.gz |
| StartedAt: 2019-04-09 03:53:16 -0400 (Tue, 09 Apr 2019) |
| EndedAt: 2019-04-09 03:55:31 -0400 (Tue, 09 Apr 2019) |
| EllapsedTime: 135.6 seconds |
| RetCode: 0 |
| Status: OK |
| CheckDir: lol.Rcheck |
| Warnings: 0 |
##############################################################################
##############################################################################
###
### Running command:
###
### C:\Users\biocbuild\bbs-3.9-bioc\R\bin\R.exe CMD check --force-multiarch --install=check:lol.install-out.txt --library=C:\Users\biocbuild\bbs-3.9-bioc\R\library --no-vignettes --timings lol_1.31.0.tar.gz
###
##############################################################################
##############################################################################
* using log directory 'C:/Users/biocbuild/bbs-3.9-bioc/meat/lol.Rcheck'
* using R Under development (unstable) (2019-03-09 r76216)
* using platform: x86_64-w64-mingw32 (64-bit)
* using session charset: ISO8859-1
* using option '--no-vignettes'
* checking for file 'lol/DESCRIPTION' ... OK
* checking extension type ... Package
* this is package 'lol' version '1.31.0'
* checking package namespace information ... OK
* checking package dependencies ... OK
* checking if this is a source package ... OK
* checking if there is a namespace ... OK
* checking for hidden files and directories ... OK
* checking for portable file names ... OK
* checking whether package 'lol' can be installed ... OK
* checking installed package size ... OK
* checking package directory ... OK
* checking 'build' directory ... OK
* checking DESCRIPTION meta-information ... NOTE
Malformed Description field: should contain one or more complete sentences.
Packages listed in more than one of Depends, Imports, Suggests, Enhances:
'Matrix' 'penalized'
A package should be listed in only one of these fields.
* checking top-level files ... OK
* checking for left-over files ... OK
* checking index information ... OK
* checking package subdirectories ... OK
* checking R files for non-ASCII characters ... OK
* checking R files for syntax errors ... OK
* loading checks for arch 'i386'
** checking whether the package can be loaded ... OK
** checking whether the package can be loaded with stated dependencies ... OK
** checking whether the package can be unloaded cleanly ... OK
** checking whether the namespace can be loaded with stated dependencies ... OK
** checking whether the namespace can be unloaded cleanly ... OK
* loading checks for arch 'x64'
** checking whether the package can be loaded ... OK
** checking whether the package can be loaded with stated dependencies ... OK
** checking whether the package can be unloaded cleanly ... OK
** checking whether the namespace can be loaded with stated dependencies ... OK
** checking whether the namespace can be unloaded cleanly ... OK
* checking dependencies in R code ... NOTE
'library' or 'require' calls to packages already attached by Depends:
'Matrix' 'penalized'
Please remove these calls from your code.
* checking S3 generic/method consistency ... NOTE
Found the following apparent S3 methods exported but not registered:
lasso.cv lasso.multiSplit lasso.simultaneous lasso.stability
print.lol print.lolMatrix
See section 'Registering S3 methods' in the 'Writing R Extensions'
manual.
* checking replacement functions ... OK
* checking foreign function calls ... OK
* checking R code for possible problems ... OK
* checking Rd files ... OK
* checking Rd metadata ... OK
* checking Rd cross-references ... OK
* checking for missing documentation entries ... OK
* checking for code/documentation mismatches ... OK
* checking Rd \usage sections ... NOTE
S3 methods shown with full name in documentation object 'lasso.cv':
'lasso.cv'
S3 methods shown with full name in documentation object 'lasso.multiSplit':
'lasso.multiSplit'
S3 methods shown with full name in documentation object 'lasso.simultaneous':
'lasso.simultaneous'
S3 methods shown with full name in documentation object 'lasso.stability':
'lasso.stability'
S3 methods shown with full name in documentation object 'print.lol':
'print.lol'
S3 methods shown with full name in documentation object 'print.lolMatrix':
'print.lolMatrix'
The \usage entries for S3 methods should use the \method markup and not
their full name.
See chapter 'Writing R documentation files' in the 'Writing R
Extensions' manual.
* checking Rd contents ... OK
* checking for unstated dependencies in examples ... OK
* checking contents of 'data' directory ... OK
* checking data for non-ASCII characters ... OK
* checking data for ASCII and uncompressed saves ... OK
* checking files in 'vignettes' ... OK
* checking examples ...
** running examples for arch 'i386' ... OK
Examples with CPU or elapsed time > 5s
user system elapsed
lmMatrixFit 6.73 0.19 6.93
lol-package 6.38 0.10 6.48
matrixLasso 6.23 0.00 6.23
** running examples for arch 'x64' ... OK
Examples with CPU or elapsed time > 5s
user system elapsed
lol-package 7.76 0.01 7.78
matrixLasso 7.70 0.02 7.72
lmMatrixFit 7.35 0.03 7.38
* checking for unstated dependencies in vignettes ... OK
* checking package vignettes in 'inst/doc' ... OK
* checking running R code from vignettes ... SKIPPED
* checking re-building of vignette outputs ... SKIPPED
* checking PDF version of manual ... OK
* DONE
Status: 4 NOTEs
See
'C:/Users/biocbuild/bbs-3.9-bioc/meat/lol.Rcheck/00check.log'
for details.
lol.Rcheck/00install.out
##############################################################################
##############################################################################
###
### Running command:
###
### C:\cygwin\bin\curl.exe -O https://malbec2.bioconductor.org/BBS/3.9/bioc/src/contrib/lol_1.31.0.tar.gz && rm -rf lol.buildbin-libdir && mkdir lol.buildbin-libdir && C:\Users\biocbuild\bbs-3.9-bioc\R\bin\R.exe CMD INSTALL --merge-multiarch --build --library=lol.buildbin-libdir lol_1.31.0.tar.gz && C:\Users\biocbuild\bbs-3.9-bioc\R\bin\R.exe CMD INSTALL lol_1.31.0.zip && rm lol_1.31.0.tar.gz lol_1.31.0.zip
###
##############################################################################
##############################################################################
% Total % Received % Xferd Average Speed Time Time Time Current
Dload Upload Total Spent Left Speed
0 0 0 0 0 0 0 0 --:--:-- --:--:-- --:--:-- 0
100 49524 100 49524 0 0 777k 0 --:--:-- --:--:-- --:--:-- 863k
install for i386
* installing *source* package 'lol' ...
** R
** data
** byte-compile and prepare package for lazy loading
** help
*** installing help indices
converting help for package 'lol'
finding HTML links ... done
chin07 html
getLambdaNcoef html
lasso html
lasso.cv html
lasso.multiSplit html
lasso.simultaneous html
lasso.stability html
lmMatrixFit html
lol-package html
matrixLasso html
plotGW html
print.lol html
print.lolMatrix html
** building package indices
** installing vignettes
** testing if installed package can be loaded from temporary location
** testing if installed package can be loaded from final location
** testing if installed package keeps a record of temporary installation path
install for x64
* installing *source* package 'lol' ...
** testing if installed package can be loaded
* MD5 sums
packaged installation of 'lol' as lol_1.31.0.zip
* DONE (lol)
* installing to library 'C:/Users/biocbuild/bbs-3.9-bioc/R/library'
package 'lol' successfully unpacked and MD5 sums checked
|
lol.Rcheck/examples_i386/lol-Ex.timings
|
lol.Rcheck/examples_x64/lol-Ex.timings
|